Workbook
Name Print_Titles: 'Parte BB_Casado'!$2:$2
Name Print_Titles: 'Parte BB_Feminino'!$2:$2
Name Print_Titles: 'Parte BB_Global'!$2:$2
Name Print_Titles: 'Parte BB_Licenciado'!$2:$2
Name Print_Titles: 'Parte BB_Mais 12a Svç'!$2:$2
Name Print_Titles: 'Parte BB_Mais 39a'!$2:$2
Name Print_Titles: 'Parte BB_Masculino'!$2:$2
Name Print_Titles: 'Parte BB_Menos 12a Svç'!$2:$2
Name Print_Titles: 'Parte BB_Menos 39a'!$2:$2
Name Print_Titles: 'Parte BB_Não Casado'!$2:$2
Name Print_Titles: 'Parte BB_Não Licenciado'!$2:$2
Name Print_Titles: 'Parte BB_Não Vítima'!$2:$2
Name Print_Titles: 'Parte BB_Resumo Coef'!$2:$2
Name Print_Titles: 'Parte BB_Vítima'!$2:$2

Sheet Parte B
A2: Total | B2: =AVERAGEIF(B6:B970,">0") -> 4.3757576 | C2: =AVERAGEIF(C6:C970,">0") -> 4.6332931 | D2: =AVERAGEIF(D6:D970,">0") -> 4.3429952 | E2: =AVERAGEIF(E6:E970,">0") -> 4.5963636 | F2: =AVERAGEIF(F6:F970,">0") -> 4.2657767 | G2: =AVERAGEIF(G6:G970,">0") -> 4.4782082 | H2: =AVERAGEIF(H6:H970,">0") -> 4.1642157 | I2: =AVERAGEIF(I6:I970,">0") -> 4.5121065 | ... L2: =AVERAGEIF(L6:L970,">0") -> 4.6650602
B4: 1.Autonomia | C4: 2.Aprendizagem/Formação | D4: 3.Condições físicas de trabalho | E4: 4.Equilíbrio vida profissional / pessoal | F4: 5.Independência | G4: 6.Possibilidade de progressão na carreira | H4: 7.Recompensas intrínsecas | I4: 8.Relações interpessoais/ambiente social | J4: 9.Remuneração | K4: 10.Saúde | L4: 11.Segurança
A5: Coluna1 | B5: Coluna2 | C5: Coluna3 | D5: Coluna4 | E5: Coluna5 | F5: Coluna6 | G5: Coluna7 | H5: Coluna8 | I5: Coluna9 | J5: Coluna10 | K5: Coluna11 | L5: Coluna12
A6: Inquérito 001 | B6: 3 | C6: 4 | D6: 4 | E6: 4 | F6: 3 | G6: 4 | H6: 1 | I6: 2 | J6: 1 | K6: 4 | L6: 1
A7: Inquérito 002 | B7: 4 | C7: 5 | D7: 4 | E7: 5 | F7: 5 | G7: 4 | H7: 4 | I7: 4 | J7: 4 | K7: 4 | L7: 4
A8: Inquérito 003 | B8: 4 | C8: 5 | D8: 5 | E8: 5 | F8: 4 | G8: 5 | H8: 4 | I8: 4 | J8: 5 | K8: 5 | L8: 5
A9: Inquérito 004 | B9: 4 | C9: 4 | D9: 5 | E9: 5 | F9: 4 | G9: 4 | H9: 4 | I9: 4 | J9: 4 | K9: 5 | L9: 5
A10: Inquérito 005 | B10: 4 | C10: 2 | D10: 5 | E10: 5 | F10: 5 | G10: 3 | H10: 3 | I10: 5 | J10: 5 | K10: 5 | L10: 4
A11: Inquérito 006 | B11: 4 | C11: 4 | D11: 5 | E11: 5 | F11: 5 | G11: 4 | H11: 3 | I11: 4 | J11: 4 | K11: 5 | L11: 5
A12: Inquérito 007 | B12: 5 | C12: 5 | D12: 5 | E12: 5 | F12: 4 | G12: 5 | H12: 5 | I12: 4 | J12: 5 | K12: 5 | L12: 5
A13: Inquérito 008 | B13: 4 | C13: 5 | D13: 5 | E13: 5 | F13: 4 | G13: 5 | H13: 5 | I13: 5 | J13: 5 | K13: 5 | L13: 5
A14: Inquérito 009 | B14: 4 | C14: 4 | D14: 4 | E14: 4 | F14: 4 | G14: 5 | H14: 4 | I14: 4 | J14: 4 | K14: 5 | L14: 5
A15: Inquérito 010 | B15: 5 | C15: 4 | D15: 4 | E15: 5 | F15: 5 | G15: 5 | H15: 5 | I15: 5 | J15: 5 | K15: 5 | L15: 4
A16: Inquérito 011 | B16: 5 | C16: 5 | D16: 5 | E16: 5 | F16: 5 | G16: 5 | H16: 5 | I16: 4 | J16: 5 | K16: 5 | L16: 5
A17: Inquérito 012 | B17: 5 | C17: 4 | D17: 4 | E17: 5 | F17: 5 | G17: 5 | H17: 3 | I17: 4 | J17: 4 | K17: 5 | L17: 5
... A837: Inquérito 832 | B837: 5 | C837: 5 | D837: 5 | E837: 5 | F837: 5 | G837: 5 | H837: 4 | I837: 5 | J837: 4 | K837: 5 | L837: 5

Sheet Parte B (2)
A2: Total | F2: =AVERAGEIF(F6:F970,">0") -> 4.3757576 | G2: =AVERAGEIF(G6:G970,">0") -> 4.6332931 | H2: =AVERAGEIF(H6:H970,">0") -> 4.3429952 | I2: =AVERAGEIF(I6:I970,">0") -> 4.5963636 | J2: =AVERAGEIF(J6:J970,">0") -> 4.2657767 | K2: =AVERAGEIF(K6:K970,">0") -> 4.4782082 | L2: =AVERAGEIF(L6:L970,">0") -> 4.1642157 | M2: =AVERAGEIF(M6:M970,">0") -> 4.5121065 | ... P2: =AVERAGEIF(P6:P970,">0") -> 4.6650602
F4: 1.Autonomia | G4: 2.Aprendizagem/Formação | H4: 3.Condições físicas de trabalho | I4: 4.Equilíbrio vida profissional / pessoal | J4: 5.Independência | K4: 6.Possibilidade de progressão na carreira | L4: 7.Recompensas intrínsecas | M4: 8.Relações interpessoais/ambiente social | N4: 9.Remuneração | O4: 10.Saúde | P4: 11.Segurança
A5: Coluna1 | B5: Coluna13 | C5: Coluna14 | D5: Coluna15 | E5: Coluna16 | F5: Coluna2 | G5: Coluna3 | H5: Coluna4 | I5: Coluna5 | J5: Coluna6 | K5: Coluna7 | L5: Coluna8 | M5: Coluna9 | N5: Coluna10 | O5: Coluna11 | P5: Coluna12
A6: Inquérito 001 | F6: 3 | G6: 4 | H6: 4 | I6: 4 | J6: 3 | K6: 4 | L6: 1 | M6: 2 | N6: 1 | O6: 4 | P6: 1
A7: Inquérito 002 | F7: 4 | G7: 5 | H7: 4 | I7: 5 | J7: 5 | K7: 4 | L7: 4 | M7: 4 | N7: 4 | O7: 4 | P7: 4
A8: Inquérito 003 | F8: 4 | G8: 5 | H8: 5 | I8: 5 | J8: 4 | K8: 5 | L8: 4 | M8: 4 | N8: 5 | O8: 5 | P8: 5
A9: Inquérito 004 | F9: 4 | G9: 4 | H9: 5 | I9: 5 | J9: 4 | K9: 4 | L9: 4 | M9: 4 | N9: 4 | O9: 5 | P9: 5
A10: Inquérito 005 | F10: 4 | G10: 2 | H10: 5 | I10: 5 | J10: 5 | K10: 3 | L10: 3 | M10: 5 | N10: 5 | O10: 5 | P10: 4
A11: Inquérito 006 | F11: 4 | G11: 4 | H11: 5 | I11: 5 | J11: 5 | K11: 4 | L11: 3 | M11: 4 | N11: 4 | O11: 5 | P11: 5
A12: Inquérito 007 | F12: 5 | G12: 5 | H12: 5 | I12: 5 | J12: 4 | K12: 5 | L12: 5 | M12: 4 | N12: 5 | O12: 5 | P12: 5
A13: Inquérito 008 | F13: 4 | G13: 5 | H13: 5 | I13: 5 | J13: 4 | K13: 5 | L13: 5 | M13: 5 | N13: 5 | O13: 5 | P13: 5
A14: Inquérito 009 | F14: 4 | G14: 4 | H14: 4 | I14: 4 | J14: 4 | K14: 5 | L14: 4 | M14: 4 | N14: 4 | O14: 5 | P14: 5
A15: Inquérito 010 | F15: 5 | G15: 4 | H15: 4 | I15: 5 | J15: 5 | K15: 5 | L15: 5 | M15: 5 | N15: 5 | O15: 5 | P15: 4
A16: Inquérito 011 | F16: 5 | G16: 5 | H16: 5 | I16: 5 | J16: 5 | K16: 5 | L16: 5 | M16: 4 | N16: 5 | O16: 5 | P16: 5
A17: Inquérito 012 | F17: 5 | G17: 4 | H17: 4 | I17: 5 | J17: 5 | K17: 5 | L17: 3 | M17: 4 | N17: 4 | O17: 5 | P17: 5
... A837: Inquérito 832 | F837: 5 | G837: 5 | H837: 5 | I837: 5 | J837: 5 | K837: 5 | L837: 4 | M837: 5 | N837: 4 | O837: 5 | P837: 5

Sheet Parte B_Global
A1: PARTE B | I1: .
C3: Dimensões da qualidade do trabalho | D3: Nada Importante | E3: Pouco Importante | F3: Mais ou Menos Importante | G3: Importante | H3: Muito Importante
B4: 1 | C4: Autonomia | D4: =COUNTIF('Parte B'!$B$6:$B$970,1) -> 10 | E4: =COUNTIF('Parte B'!$B$6:$B$970,2) -> 3 | F4: =COUNTIF('Parte B'!$B$6:$B$970,3) -> 41 | G4: =COUNTIF('Parte B'!$B$6:$B$970,4) -> 384 | H4: =COUNTIF('Parte B'!$B$6:$B$970,5) -> 387
B5: 2 | C5: Aprendizagem/Formação | D5: =COUNTIF('Parte B'!$C$6:$C$970,1) -> 6 | E5: =COUNTIF('Parte B'!$C$6:$C$970,2) -> 11 | F5: =COUNTIF('Parte B'!$C$6:$C$970,3) -> 22 | G5: =COUNTIF('Parte B'!$C$6:$C$970,4) -> 203 | H5: =COUNTIF('Parte B'!$C$6:$C$970,5) -> 587
B6: 3 | C6: Condições físicas de trabalho | D6: =COUNTIF('Parte B'!$D$6:$D$970,1) -> 9 | E6: =COUNTIF('Parte B'!$D$6:$D$970,2) -> 12 | F6: =COUNTIF('Parte B'!$D$6:$D$970,3) -> 64 | G6: =COUNTIF('Parte B'!$D$6:$D$970,4) -> 344 | H6: =COUNTIF('Parte B'!$D$6:$D$970,5) -> 399
B7: 4 | C7: Equilíbrio vida profissional / pessoal | D7: =COUNTIF('Parte B'!$E$6:$E$970,1) -> 4 | E7: =COUNTIF('Parte B'!$E$6:$E$970,2) -> 6 | F7: =COUNTIF('Parte B'!$E$6:$E$970,3) -> 40 | G7: =COUNTIF('Parte B'!$E$6:$E$970,4) -> 219 | H7: =COUNTIF('Parte B'!$E$6:$E$970,5) -> 556
B8: 5 | C8: Independência | D8: =COUNTIF('Parte B'!$F$6:$F$970,1) -> 5 | E8: =COUNTIF('Parte B'!$F$6:$F$970,2) -> 10 | F8: =COUNTIF('Parte B'!$F$6:$F$970,3) -> 83 | G8: =COUNTIF('Parte B'!$F$6:$F$970,4) -> 389 | H8: =COUNTIF('Parte B'!$F$6:$F$970,5) -> 337
B9: 6 | C9: Possibilidade de progressão na carreira | D9: =COUNTIF('Parte B'!$G$6:$G$970,1) -> 18 | E9: =COUNTIF('Parte B'!$G$6:$G$970,2) -> 9 | F9: =COUNTIF('Parte B'!$G$6:$G$970,3) -> 42 | G9: =COUNTIF('Parte B'!$G$6:$G$970,4) -> 248 | H9: =COUNTIF('Parte B'!$G$6:$G$970,5) -> 509
B10: 7 | C10: Recompensas intrínsecas | D10: =COUNTIF('Parte B'!$H$6:$H$970,1) -> 21 | E10: =COUNTIF('Parte B'!$H$6:$H$970,2) -> 17 | F10: =COUNTIF('Parte B'!$H$6:$H$970,3) -> 103 | G10: =COUNTIF('Parte B'!$H$6:$H$970,4) -> 341 | H10: =COUNTIF('Parte B'!$H$6:$H$970,5) -> 334
B11: 8 | C11: Relações interpessoais/ambiente social | D11: =COUNTIF('Parte B'!$I$6:$I$970,1) -> 5 | E11: =COUNTIF('Parte B'!$I$6:$I$970,2) -> 9 | F11: =COUNTIF('Parte B'!$I$6:$I$970,3) -> 43 | G11: =COUNTIF('Parte B'!$I$6:$I$970,4) -> 270 | H11: =COUNTIF('Parte B'!$I$6:$I$970,5) -> 499
B12: 9 | C12: Remuneração | D12: =COUNTIF('Parte B'!$J$6:$J$970,1) -> 13 | E12: =COUNTIF('Parte B'!$J$6:$J$970,2) -> 10 | F12: =COUNTIF('Parte B'!$J$6:$J$970,3) -> 33 | G12: =COUNTIF('Parte B'!$J$6:$J$970,4) -> 276 | H12: =COUNTIF('Parte B'!$J$6:$J$970,5) -> 491
B13: 10 | C13: Saúde | D13: =COUNTIF('Parte B'!$K$6:$K$970,1) -> 6 | E13: =COUNTIF('Parte B'!$K$6:$K$970,2) -> 4 | F13: =COUNTIF('Parte B'!$K$6:$K$970,3) -> 21 | G13: =COUNTIF('Parte B'!$K$6:$K$970,4) -> 138 | H13: =COUNTIF('Parte B'!$K$6:$K$970,5) -> 661
B14: 11 | C14: Segurança | D14: =COUNTIF('Parte B'!$L$6:$L$970,1) -> 8 | E14: =COUNTIF('Parte B'!$L$6:$L$970,2) -> 3 | F14: =COUNTIF('Parte B'!$L$6:$L$970,3) -> 25 | G14: =COUNTIF('Parte B'!$L$6:$L$970,4) -> 187 | H14: =COUNTIF('Parte B'!$L$6:$L$970,5) -> 607

Sheet Parte BB_Resumo Coef
B1: AMOSTRA GLOBAL
A2: Coluna1 | B2: PERGUNTA | C2: MÉDIA | D2: COEFICIENTE DE ASSIMETRIA (SKEWNESS) | E2: DESVIO PADRÃO | F2: FIABILIDADE (Alpha Cronbach)
A3: 19 | B3: Género Masculino | C3: ='Parte BB_Masculino'!FV22 -> 4.354232 | D3: ='Parte BB_Masculino'!FW23 -> -1.6683238 | E3: ='Parte BB_Masculino'!FX24 -> 0.83876004 | F3: ='Parte BB_Masculino'!FY25 -> 0.86023734
A4: 20 | B4: Género Feminino | C4: ='Parte BB_Feminino'!YO23 -> 4.4680237 | D4: ='Parte BB_Feminino'!YP24 -> -2.4904352 | E4: ='Parte BB_Feminino'!YQ25 -> 0.84266521 | F4: ='Parte BB_Feminino'!YR26 -> 0.89978927
A5: 21 | B5: Casado | C5: ='Parte BB_Casado'!RY16 -> 4.4645845 | D5: ='Parte BB_Casado'!RZ17 -> -2.3609627 | E5: ='Parte BB_Casado'!SA18 -> 0.83236004 | F5: ='Parte BB_Casado'!SB19 -> 0.87153635
A6: 22 | B6: Não Casado | C6: ='Parte BB_Não Casado'!ND17 -> 4.4098402 | D6: ='Parte BB_Não Casado'!NE18 -> -2.2498915 | E6: ='Parte BB_Não Casado'!NF19 -> 0.86663129 | F6: ='Parte BB_Não Casado'!NG20 -> 0.91131012
A7: 23 | B7: Mais de 39 anos de idade | C7: ='Parte BB_Mais 39a'!NZ16 -> 4.4090909 | D7: ='Parte BB_Mais 39a'!OA17 -> -2.2223802 | E7: ='Parte BB_Mais 39a'!OB18 -> 0.8957969 | F7: ='Parte BB_Mais 39a'!OC19 -> 0.89841564
A8: 24 | B8: Menos de 39 anos de idade | C8: ='Parte BB_Menos 39a'!PX16 -> 4.498749 | D8: ='Parte BB_Menos 39a'!PY17 -> -2.1805814 | E8: ='Parte BB_Menos 39a'!PZ18 -> 0.74130236 | F8: ='Parte BB_Menos 39a'!QA19 -> 0.88800861
A9: 25 | B9: Mais de 12 anos de serviço | C9: ='Parte BB_Menos 12a Svç'!PE16 -> 4.4813604 | D9: ='Parte BB_Mais 12a Svç'!LH17 -> -2.3096994 | E9: ='Parte BB_Mais 12a Svç'!LI18 -> 0.82980317 | F9: ='Parte BB_Mais 12a Svç'!LJ19 -> 0.83793988
A10: 26 | B10: Menos de 12 anos de serviço | C10: ='Parte BB_Menos 12a Svç'!PE16 -> 4.4813604 | D10: ='Parte BB_Menos 12a Svç'!PF17 -> -2.1067585 | E10: ='Parte BB_Menos 12a Svç'!PG18 -> 0.75658993 | F10: ='Parte BB_Menos 12a Svç'!PH19 -> 0.90881871
A11: 27 | B11: Licenciado ou grau académico superior | C11: ='Parte BB_Licenciado'!UH18 -> 4.4880992 | D11: ='Parte BB_Licenciado'!UI19 -> -2.2953976 | E11: ='Parte BB_Licenciado'!UJ20 -> 0.78332379 | F11: ='Parte BB_Licenciado'!UK21 -> 0.9086001
A12: 28 | B12: Não Licenciado | C12: ='Parte BB_Não Licenciado'!NM17 -> 4.4121375 | D12: ='Parte BB_Não Licenciado'!NN18 -> -2.2808138 | E12: ='Parte BB_Não Licenciado'!NO19 -> 0.88627813 | F12: ='Parte BB_Não Licenciado'!NP20 -> 0.86967067

Sheet Parte BB_Global
C1: AMOSTRA GLOBAL | D1: Inq | E1: Inq | F1: Inq | G1: Inq | H1: Inq | I1: Inq | J1: Inq | K1: Inq | L1: Inq | M1: Inq | N1: Inq | O1: Inq | P1: Inq | Q1: Inq | R1: Inq | S1: Inq | T1: Inq | U1: Inq | V1: Inq | W1: Inq | X1: Inq | Y1: Inq | Z1: Inq | AA1: Inq | AB1: Inq | AC1: Inq | AD1: Inq | AE1: Inq | AF1: Inq | AG1: Inq | AH1: Inq | AI1: Inq | AJ1: Inq | AK1: Inq | AL1: Inq | AM1: Inq | AN1: Inq | AO1: Inq | AP1: Inq | AQ1: Inq | AR1: Inq | AS1: Inq | AT1: Inq | AU1: Inq | AV1: Inq | AW1: Inq | AX1: Inq | AY1: Inq | AZ1: Inq | BA1: Inq | BB1: Inq | BC1: Inq | BD1: Inq | BE1: Inq | BF1: Inq | BG1: Inq | BH1: Inq | BI1: Inq | BJ1: Inq | BK1: Inq | BL1: Inq | BM1: Inq | BN1: Inq | BO1: Inq | BP1: Inq | BQ1: Inq | BR1: Inq | BS1: Inq | BT1: Inq | BU1: Inq | BV1: Inq | BW1: Inq | BX1: Inq | BY1: Inq | BZ1: Inq | CA1: Inq | CB1: Inq | CC1: Inq | CD1: Inq | CE1: Inq | CF1: Inq | CG1: Inq | CH1: Inq | CI1: Inq | CJ1: Inq | CK1: Inq | CL1: Inq | CM1: Inq | CN1: Inq | CO1: Inq | CP1: Inq | CQ1: Inq | CR1: Inq | CS1: Inq | CT1: Inq | CU1: Inq | CV1: Inq | CW1: Inq | CX1: Inq | CY1: Inq | CZ1: Inq | DA1: Inq | DB1: Inq | DC1: Inq | DD1: Inq | DE1: Inq | DF1: Inq | DG1: Inq | DH1: Inq | DI1: Inq | DJ1: Inq | DK1: Inq | DL1: Inq | DM1: Inq | DN1: Inq | DO1: Inq | DP1: Inq | DQ1: Inq | DR1: Inq | DS1: Inq | DT1: Inq | DU1: Inq | DV1: Inq | DW1: Inq | DX1: Inq | DY1: Inq | DZ1: Inq | EA1: Inq | EB1: Inq | EC1: Inq | ED1: Inq | EE1: Inq | EF1: Inq | EG1: Inq | EH1: Inq | EI1: Inq | EJ1: Inq | EK1: Inq | EL1: Inq | EM1: Inq | EN1: Inq | EO1: Inq | EP1: Inq | EQ1: Inq | ER1: Inq | ES1: Inq | ET1: Inq | EU1: Inq | EV1: Inq | EW1: Inq | EX1: Inq | EY1: Inq | EZ1: Inq | FA1: Inq | FB1: Inq | FC1: Inq | FD1: Inq | FE1: Inq | FF1: Inq | FG1: Inq | FH1: Inq | FI1: Inq | FJ1: Inq | FK1: Inq | FL1: Inq | FM1: Inq | FN1: Inq | FO1: Inq | FP1: Inq | FQ1: Inq | FR1: Inq | FS1: Inq | FT1: Inq | FU1: Inq | FV1: Inq | FW1: Inq | FX1: Inq | FY1: Inq | FZ1: Inq | GA1: Inq | GB1: Inq | GC1: Inq | GD1: Inq | GE1: Inq | GF1: Inq | GG1: Inq | GH1: Inq | GI1: Inq | GJ1: Inq | GK1: Inq | GL1: Inq | GM1: Inq | GN1: Inq | GO1: Inq | GP1: Inq | GQ1: Inq | GR1: Inq | GS1: Inq | GT1: Inq | GU1: Inq | GV1: Inq | GW1: Inq | GX1: Inq | GY1: Inq | GZ1: Inq | HA1: Inq | HB1: Inq | HC1: Inq | HD1: Inq | HE1: Inq | HF1: Inq | HG1: Inq | HH1: Inq | HI1: Inq | HJ1: Inq | HK1: Inq | HL1: Inq | HM1: Inq | HN1: Inq | HO1: Inq | HP1: Inq | HQ1: Inq | HR1: Inq | HS1: Inq | HT1: Inq | HU1: Inq | HV1: Inq | HW1: Inq | HX1: Inq | HY1: Inq | HZ1: Inq | IA1: Inq | IB1: Inq | IC1: Inq | ID1: Inq | IE1: Inq | IF1: Inq | IG1: Inq | IH1: Inq | II1: Inq | IJ1: Inq | IK1: Inq | IL1: Inq | IM1: Inq | IN1: Inq | IO1: Inq | IP1: Inq | IQ1: Inq | IR1: Inq | IS1: Inq | IT1: Inq | IU1: Inq | IV1: Inq | IW1: Inq | IX1: Inq | IY1: Inq | IZ1: Inq | JA1: Inq | JB1: Inq | JC1: Inq | JD1: Inq | JE1: Inq | JF1: Inq | JG1: Inq | JH1: Inq | JI1: Inq | JJ1: Inq | JK1: Inq | JL1: Inq | JM1: Inq | JN1: Inq | JO1: Inq | JP1: Inq | JQ1: Inq | JR1: Inq | JS1: Inq | JT1: Inq | JU1: Inq | JV1: Inq | JW1: Inq | JX1: Inq | JY1: Inq | JZ1: Inq | KA1: Inq | KB1: Inq | KC1: Inq | KD1: Inq | KE1: Inq | KF1: Inq | KG1: Inq | KH1: Inq | KI1: Inq | KJ1: Inq | KK1: Inq | KL1: Inq | KM1: Inq | KN1: Inq | KO1: Inq | KP1: Inq | KQ1: Inq | KR1: Inq | KS1: Inq | KT1: Inq | KU1: Inq | KV1: Inq | KW1: Inq | KX1: Inq | KY1: Inq | KZ1: Inq | LA1: Inq | LB1: Inq | LC1: Inq | LD1: Inq | LE1: Inq | LF1: Inq | LG1: Inq | LH1: Inq | LI1: Inq | LJ1: Inq | LK1: Inq | LL1: Inq | LM1: Inq | LN1: Inq | LO1: Inq | LP1: Inq | LQ1: Inq | LR1: Inq | LS1: Inq | LT1: Inq | LU1: Inq | LV1: Inq | LW1: Inq | LX1: Inq | LY1: Inq | LZ1: Inq | MA1: Inq | MB1: Inq | MC1: Inq | MD1: Inq | ME1: Inq | MF1: Inq | MG1: Inq | MH1: Inq | MI1: Inq | MJ1: Inq | MK1: Inq | ML1: Inq | MM1: Inq | MN1: Inq | MO1: Inq | MP1: Inq | MQ1: Inq | MR1: Inq | MS1: Inq | MT1: Inq | MU1: Inq | MV1: Inq | MW1: Inq | MX1: Inq | MY1: Inq | MZ1: Inq | NA1: Inq | NB1: Inq | NC1: Inq | ND1: Inq | NE1: Inq | NF1: Inq | NG1: Inq | NH1: Inq | NI1: Inq | NJ1: Inq | NK1: Inq | NL1: Inq | NM1: Inq | NN1: Inq | NO1: Inq | NP1: Inq | NQ1: Inq | NR1: Inq | NS1: Inq | NT1: Inq | NU1: Inq | NV1: Inq | NW1: Inq | NX1: Inq | NY1: Inq | NZ1: Inq | OA1: Inq | OB1: Inq | OC1: Inq | OD1: Inq | OE1: Inq | OF1: Inq | OG1: Inq | OH1: Inq | OI1: Inq | OJ1: Inq | OK1: Inq | OL1: Inq | OM1: Inq | ON1: Inq | OO1: Inq | OP1: Inq | OQ1: Inq | OR1: Inq | OS1: Inq | OT1: Inq | OU1: Inq | OV1: Inq | OW1: Inq | OX1: Inq | OY1: Inq | OZ1: Inq | PA1: Inq | PB1: Inq | PC1: Inq | PD1: Inq | PE1: Inq | PF1: Inq | PG1: Inq | PH1: Inq | PI1: Inq | PJ1: Inq | PK1: Inq | PL1: Inq | PM1: Inq | PN1: Inq | PO1: Inq | PP1: Inq | PQ1: Inq | PR1: Inq | PS1: Inq | PT1: Inq | PU1: Inq | PV1: Inq | PW1: Inq | PX1: Inq | PY1: Inq | PZ1: Inq | QA1: Inq | QB1: Inq | QC1: Inq | QD1: Inq | QE1: Inq | QF1: Inq | QG1: Inq | QH1: Inq | QI1: Inq | QJ1: Inq | QK1: Inq | QL1: Inq | QM1: Inq | QN1: Inq | QO1: Inq | QP1: Inq | QQ1: Inq | QR1: Inq | QS1: Inq | QT1: Inq | QU1: Inq | QV1: Inq | QW1: Inq | QX1: Inq | QY1: Inq | QZ1: Inq | RA1: Inq | RB1: Inq | RC1: Inq | RD1: Inq | RE1: Inq | RF1: Inq | RG1: Inq | RH1: Inq | RI1: Inq | RJ1: Inq | RK1: Inq | RL1: Inq | RM1: Inq | RN1: Inq | RO1: Inq | RP1: Inq | RQ1: Inq | RR1: Inq | RS1: Inq | RT1: Inq | RU1: Inq | RV1: Inq | RW1: Inq | RX1: Inq | RY1: Inq | RZ1: Inq | SA1: Inq | SB1: Inq | SC1: Inq | SD1: Inq | SE1: Inq | SF1: Inq | SG1: Inq | SH1: Inq | SI1: Inq | SJ1: Inq | SK1: Inq | SL1: Inq | SM1: Inq | SN1: Inq | SO1: Inq | SP1: Inq | SQ1: Inq | SR1: Inq | SS1: Inq | ST1: Inq | SU1: Inq | SV1: Inq | SW1: Inq | SX1: Inq | SY1: Inq | SZ1: Inq | TA1: Inq | TB1: Inq | TC1: Inq | TD1: Inq | TE1: Inq | TF1: Inq | TG1: Inq | TH1: Inq | TI1: Inq | TJ1: Inq | TK1: Inq | TL1: Inq | TM1: Inq | TN1: Inq | TO1: Inq | TP1: Inq | TQ1: Inq | TR1: Inq | TS1: Inq | TT1: Inq | TU1: Inq | TV1: Inq | TW1: Inq | TX1: Inq | TY1: Inq | TZ1: Inq | UA1: Inq | UB1: Inq | UC1: Inq | UD1: Inq | UE1: Inq | UF1: Inq | UG1: Inq | UH1: Inq | UI1: Inq | UJ1: Inq | UK1: Inq | UL1: Inq | UM1: Inq | UN1: Inq | UO1: Inq | UP1: Inq | UQ1: Inq | UR1: Inq | US1: Inq | UT1: Inq | UU1: Inq | UV1: Inq | UW1: Inq | UX1: Inq | UY1: Inq | UZ1: Inq | VA1: Inq | VB1: Inq | VC1: Inq | VD1: Inq | VE1: Inq | VF1: Inq | VG1: Inq | VH1: Inq | VI1: Inq | VJ1: Inq | VK1: Inq | VL1: Inq | VM1: Inq | VN1: Inq | VO1: Inq | VP1: Inq | VQ1: Inq | VR1: Inq | VS1: Inq | VT1: Inq | VU1: Inq | VV1: Inq | VW1: Inq | VX1: Inq | VY1: Inq | VZ1: Inq | WA1: Inq | WB1: Inq | WC1: Inq | WD1: Inq | WE1: Inq | WF1: Inq | WG1: Inq | WH1: Inq | WI1: Inq | WJ1: Inq | WK1: Inq | WL1: Inq | WM1: Inq | WN1: Inq | WO1: Inq | WP1: Inq | WQ1: Inq | WR1: Inq | WS1: Inq | WT1: Inq | WU1: Inq | WV1: Inq | WW1: Inq | WX1: Inq | WY1: Inq | WZ1: Inq | XA1: Inq | XB1: Inq | XC1: Inq | XD1: Inq | XE1: Inq | XF1: Inq | XG1: Inq | XH1: Inq | XI1: Inq | XJ1: Inq | XK1: Inq | XL1: Inq | XM1: Inq | XN1: Inq | XO1: Inq | XP1: Inq | XQ1: Inq | XR1: Inq | XS1: Inq | XT1: Inq | XU1: Inq | XV1: Inq | XW1: Inq | XX1: Inq | XY1: Inq | XZ1: Inq | YA1: Inq | YB1: Inq | YC1: Inq | YD1: Inq | YE1: Inq | YF1: Inq | YG1: Inq | YH1: Inq | YI1: Inq | YJ1: Inq | YK1: Inq | YL1: Inq | YM1: Inq | YN1: Inq | YO1: Inq | YP1: Inq | YQ1: Inq | YR1: Inq | YS1: Inq | YT1: Inq | YU1: Inq | YV1: Inq | YW1: Inq | YX1: Inq | YY1: Inq | YZ1: Inq | ZA1: Inq | ZB1: Inq | ZC1: Inq | ZD1: Inq | ZE1: Inq | ZF1: Inq | ZG1: Inq | ZH1: Inq | ZI1: Inq | ZJ1: Inq | ZK1: Inq | ZL1: Inq | ZM1: Inq | ZN1: Inq | ZO1: Inq | ZP1: Inq | ZQ1: Inq | ZR1: Inq | ZS1: Inq | ZT1: Inq | ZU1: Inq | ZV1: Inq | ZW1: Inq | ZX1: Inq | ZY1: Inq | ZZ1: Inq | AAA1: Inq | AAB1: Inq | AAC1: Inq | AAD1: Inq | AAE1: Inq | AAF1: Inq | AAG1: Inq | AAH1: Inq | AAI1: Inq | AAJ1: Inq | AAK1: Inq | AAL1: Inq | AAM1: Inq | AAN1: Inq | AAO1: Inq | AAP1: Inq | AAQ1: Inq | AAR1: Inq | AAS1: Inq | AAT1: Inq | AAU1: Inq | AAV1: Inq | AAW1: Inq | AAX1: Inq | AAY1: Inq | AAZ1: Inq | ABA1: Inq | ABB1: Inq | ABC1: Inq | ABD1: Inq | ABE1: Inq | ABF1: Inq | ABG1: Inq | ABH1: Inq | ABI1: Inq | ABJ1: Inq | ABK1: Inq | ABL1: Inq | ABM1: Inq | ABN1: Inq | ABO1: Inq | ABP1: Inq | ABQ1: Inq | ABR1: Inq | ABS1: Inq | ABT1: Inq | ABU1: Inq | ABV1: Inq | ABW1: Inq | ABX1: Inq | ABY1: Inq | ABZ1: Inq | ACA1: Inq | ACB1: Inq | ACC1: Inq | ACD1: Inq | ACE1: Inq | ACF1: Inq | ACG1: Inq | ACH1: Inq | ACI1: Inq | ACJ1: Inq | ACK1: Inq | ACL1: Inq | ACM1: Inq | ACN1: Inq | ACO1: Inq | ACP1: Inq | ACQ1: Inq | ACR1: Inq | ACS1: Inq | ACT1: Inq | ACU1: Inq | ACV1: Inq | ACW1: Inq | ACX1: Inq | ACY1: Inq | ACZ1: Inq | ADA1: Inq | ADB1: Inq | ADC1: Inq | ADD1: Inq | ADE1: Inq | ADF1: Inq | ADG1: Inq | ADH1: Inq | ADI1: Inq | ADJ1: Inq | ADK1: Inq | ADL1: Inq | ADM1: Inq | ADN1: Inq | ADO1: Inq | ADP1: Inq | ADQ1: Inq | ADR1: Inq | ADS1: Inq | ADT1: Inq | ADU1: Inq | ADV1: Inq | ADW1: Inq | ADX1: Inq | ADY1: Inq | ADZ1: Inq | AEA1: Inq | AEB1: Inq | AEC1: Inq | AED1: Inq | AEE1: Inq | AEF1: Inq | AEG1: Inq | AEH1: Inq | AEI1: Inq | AEJ1: Inq | AEK1: Inq | AEL1: Inq | AEM1: Inq | AEN1: Inq | AEO1: Inq | AEP1: Inq | AEQ1: Inq | AER1: Inq | AES1: Inq | AET1: Inq | AEU1: Inq | AEV1: Inq | AEW1: Inq | AEX1: Inq | AEY1: Inq | AEZ1: Inq | AFA1: Inq | AFB1: Inq | AFC1: Inq
A2: Coluna1 | B2: Nº Perg | C2: DIMENSÕES | D2: 1 | E2: 2 | F2: 3 | G2: 4 | H2: 5 | I2: 6 | J2: 7 | K2: 8 | L2: 9 | M2: 10 | N2: 11 | O2: 12 | P2: 13 | Q2: 14 | R2: 15 | S2: 16 | T2: 17 | U2: 18 | V2: 19 | W2: 20 | X2: 21 | Y2: 22 | Z2: 23 | AA2: 24 | AB2: 25 | AC2: 26 | AD2: 27 | AE2: 28 | AF2: 29 | AG2: 30 | AH2: 31 | AI2: 32 | AJ2: 33 | AK2: 34 | AL2: 35 | AM2: 36 | AN2: 37 | AO2: 38 | AP2: 39 | AQ2: 40 | AR2: 41 | AS2: 42 | AT2: 43 | AU2: 44 | AV2: 45 | AW2: 46 | AX2: 47 | AY2: 48 | AZ2: 49 | BA2: 50 | BB2: 51 | BC2: 52 | BD2: 53 | BE2: 54 | BF2: 55 | BG2: 56 | BH2: 57 | BI2: 58 | BJ2: 59 | BK2: 60 | BL2: 61 | BM2: 62 | BN2: 63 | BO2: 64 | BP2: 65 | BQ2: 66 | BR2: 67 | BS2: 68 | BT2: 69 | BU2: 70 | BV2: 71 | BW2: 72 | BX2: 73 | BY2: 74 | BZ2: 75 | CA2: 76 | CB2: 77 | CC2: 78 | CD2: 79 | CE2: 80 | CF2: 81 | CG2: 82 | CH2: 83 | CI2: 84 | CJ2: 85 | CK2: 86 | CL2: 87 | CM2: 88 | CN2: 89 | CO2: 90 | CP2: 91 | CQ2: 92 | CR2: 93 | CS2: 94 | CT2: 95 | CU2: 96 | CV2: 97 | CW2: 98 | CX2: 99 | CY2: 100 | CZ2: 101 | DA2: 102 | DB2: 103 | DC2: 104 | DD2: 105 | DE2: 106 | DF2: 107 | DG2: 108 | DH2: 109 | DI2: 110 | DJ2: 111 | DK2: 112 | DL2: 113 | DM2: 114 | DN2: 115 | DO2: 116 | DP2: 117 | DQ2: 118 | DR2: 119 | DS2: 120 | DT2: 121 | DU2: 122 | DV2: 123 | DW2: 124 | DX2: 125 | DY2: 126 | DZ2: 127 | EA2: 128 | EB2: 129 | EC2: 130 | ED2: 131 | EE2: 132 | EF2: 133 | EG2: 134 | EH2: 135 | EI2: 136 | EJ2: 137 | EK2: 138 | EL2: 139 | EM2: 140 | EN2: 141 | EO2: 142 | EP2: 143 | EQ2: 144 | ER2: 145 | ES2: 146 | ET2: 147 | EU2: 148 | EV2: 149 | EW2: 150 | EX2: 151 | EY2: 152 | EZ2: 153 | FA2: 154 | FB2: 155 | FC2: 156 | FD2: 157 | FE2: 158 | FF2: 159 | FG2: 160 | FH2: 161 | FI2: 162 | FJ2: 163 | FK2: 164 | FL2: 165 | FM2: 166 | FN2: 167 | FO2: 168 | FP2: 169 | FQ2: 170 | FR2: 171 | FS2: 172 | FT2: 173 | FU2: 174 | FV2: 175 | FW2: 176 | FX2: 177 | FY2: 178 | FZ2: 179 | GA2: 180 | GB2: 181 | GC2: 182 | GD2: 183 | GE2: 184 | GF2: 185 | GG2: 186 | GH2: 187 | GI2: 188 | GJ2: 189 | GK2: 190 | GL2: 191 | GM2: 192 | GN2: 193 | GO2: 194 | GP2: 195 | GQ2: 196 | GR2: 197 | GS2: 198 | GT2: 199 | GU2: 200 | GV2: 201 | GW2: 202 | GX2: 203 | GY2: 204 | GZ2: 205 | HA2: 206 | HB2: 207 | HC2: 208 | HD2: 209 | HE2: 210 | HF2: 211 | HG2: 212 | HH2: 213 | HI2: 214 | HJ2: 215 | HK2: 216 | HL2: 217 | HM2: 218 | HN2: 219 | HO2: 220 | HP2: 221 | HQ2: 222 | HR2: 223 | HS2: 224 | HT2: 225 | HU2: 226 | HV2: 227 | HW2: 228 | HX2: 229 | HY2: 230 | HZ2: 231 | IA2: 232 | IB2: 233 | IC2: 234 | ID2: 235 | IE2: 236 | IF2: 237 | IG2: 238 | IH2: 239 | II2: 240 | IJ2: 241 | IK2: 242 | IL2: 243 | IM2: 244 | IN2: 245 | IO2: 246 | IP2: 247 | IQ2: 248 | IR2: 249 | IS2: 250 | IT2: 251 | IU2: 252 | IV2: 253 | IW2: 254 | IX2: 255 | IY2: 256 | IZ2: 257 | JA2: 258 | JB2: 259 | JC2: 260 | JD2: 261 | JE2: 262 | JF2: 263 | JG2: 264 | JH2: 265 | JI2: 266 | JJ2: 267 | JK2: 268 | JL2: 269 | JM2: 270 | JN2: 271 | JO2: 272 | JP2: 273 | JQ2: 274 | JR2: 275 | JS2: 276 | JT2: 277 | JU2: 278 | JV2: 279 | JW2: 280 | JX2: 281 | JY2: 282 | JZ2: 283 | KA2: 284 | KB2: 285 | KC2: 286 | KD2: 287 | KE2: 288 | KF2: 289 | KG2: 290 | KH2: 291 | KI2: 292 | KJ2: 293 | KK2: 294 | KL2: 295 | KM2: 296 | KN2: 297 | KO2: 298 | KP2: 299 | KQ2: 300 | KR2: 301 | KS2: 302 | KT2: 303 | KU2: 304 | KV2: 305 | KW2: 306 | KX2: 307 | KY2: 308 | KZ2: 309 | LA2: 310 | LB2: 311 | LC2: 312 | LD2: 313 | LE2: 314 | LF2: 315 | LG2: 316 | LH2: 317 | LI2: 318 | LJ2: 319 | LK2: 320 | LL2: 321 | LM2: 322 | LN2: 323 | LO2: 324 | LP2: 325 | LQ2: 326 | LR2: 327 | LS2: 328 | LT2: 329 | LU2: 330 | LV2: 331 | LW2: 332 | LX2: 333 | LY2: 334 | LZ2: 335 | MA2: 336 | MB2: 337 | MC2: 338 | MD2: 339 | ME2: 340 | MF2: 341 | MG2: 342 | MH2: 343 | MI2: 344 | MJ2: 345 | MK2: 346 | ML2: 347 | MM2: 348 | MN2: 349 | MO2: 350 | MP2: 351 | MQ2: 352 | MR2: 353 | MS2: 354 | MT2: 355 | MU2: 356 | MV2: 357 | MW2: 358 | MX2: 359 | MY2: 360 | MZ2: 361 | NA2: 362 | NB2: 363 | NC2: 364 | ND2: 365 | NE2: 366 | NF2: 367 | NG2: 368 | NH2: 369 | NI2: 370 | NJ2: 371 | NK2: 372 | NL2: 373 | NM2: 374 | NN2: 375 | NO2: 376 | NP2: 377 | NQ2: 378 | NR2: 379 | NS2: 380 | NT2: 381 | NU2: 382 | NV2: 383 | NW2: 384 | NX2: 385 | NY2: 386 | NZ2: 387 | OA2: 388 | OB2: 389 | OC2: 390 | OD2: 391 | OE2: 392 | OF2: 393 | OG2: 394 | OH2: 395 | OI2: 396 | OJ2: 397 | OK2: 398 | OL2: 399 | OM2: 400 | ON2: 401 | OO2: 402 | OP2: 403 | OQ2: 404 | OR2: 405 | OS2: 406 | OT2: 407 | OU2: 408 | OV2: 409 | OW2: 410 | OX2: 411 | OY2: 412 | OZ2: 413 | PA2: 414 | PB2: 415 | PC2: 416 | PD2: 417 | PE2: 418 | PF2: 419 | PG2: 420 | PH2: 421 | PI2: 422 | PJ2: 423 | PK2: 424 | PL2: 425 | PM2: 426 | PN2: 427 | PO2: 428 | PP2: 429 | PQ2: 430 | PR2: 431 | PS2: 432 | PT2: 433 | PU2: 434 | PV2: 435 | PW2: 436 | PX2: 437 | PY2: 438 | PZ2: 439 | QA2: 440 | QB2: 441 | QC2: 442 | QD2: 443 | QE2: 444 | QF2: 445 | QG2: 446 | QH2: 447 | QI2: 448 | QJ2: 449 | QK2: 450 | QL2: 451 | QM2: 452 | QN2: 453 | QO2: 454 | QP2: 455 | QQ2: 456 | QR2: 457 | QS2: 458 | QT2: 459 | QU2: 460 | QV2: 461 | QW2: 462 | QX2: 463 | QY2: 464 | QZ2: 465 | RA2: 466 | RB2: 467 | RC2: 468 | RD2: 469 | RE2: 470 | RF2: 471 | RG2: 472 | RH2: 473 | RI2: 474 | RJ2: 475 | RK2: 476 | RL2: 477 | RM2: 478 | RN2: 479 | RO2: 480 | RP2: 481 | RQ2: 482 | RR2: 483 | RS2: 484 | RT2: 485 | RU2: 486 | RV2: 487 | RW2: 488 | RX2: 489 | RY2: 490 | RZ2: 491 | SA2: 492 | SB2: 493 | SC2: 494 | SD2: 495 | SE2: 496 | SF2: 497 | SG2: 498 | SH2: 499 | SI2: 500 | SJ2: 501 | SK2: 502 | SL2: 503 | SM2: 504 | SN2: 505 | SO2: 506 | SP2: 507 | SQ2: 508 | SR2: 509 | SS2: 510 | ST2: 511 | SU2: 512 | SV2: 513 | SW2: 514 | SX2: 515 | SY2: 516 | SZ2: 517 | TA2: 518 | TB2: 519 | TC2: 520 | TD2: 521 | TE2: 522 | TF2: 523 | TG2: 524 | TH2: 525 | TI2: 526 | TJ2: 527 | TK2: 528 | TL2: 529 | TM2: 530 | TN2: 531 | TO2: 532 | TP2: 533 | TQ2: 534 | TR2: 535 | TS2: 536 | TT2: 537 | TU2: 538 | TV2: 539 | TW2: 540 | TX2: 541 | TY2: 542 | TZ2: 543 | UA2: 544 | UB2: 545 | UC2: 546 | UD2: 547 | UE2: 548 | UF2: 549 | UG2: 550 | UH2: 551 | UI2: 552 | UJ2: 553 | UK2: 554 | UL2: 555 | UM2: 556 | UN2: 557 | UO2: 558 | UP2: 559 | UQ2: 560 | UR2: 561 | US2: 562 | UT2: 563 | UU2: 564 | UV2: 565 | UW2: 566 | UX2: 567 | UY2: 568 | UZ2: 569 | VA2: 570 | VB2: 571 | VC2: 572 | VD2: 573 | VE2: 574 | VF2: 575 | VG2: 576 | VH2: 577 | VI2: 578 | VJ2: 579 | VK2: 580 | VL2: 581 | VM2: 582 | VN2: 583 | VO2: 584 | VP2: 585 | VQ2: 586 | VR2: 587 | VS2: 588 | VT2: 589 | VU2: 590 | VV2: 591 | VW2: 592 | VX2: 593 | VY2: 594 | VZ2: 595 | WA2: 596 | WB2: 597 | WC2: 598 | WD2: 599 | WE2: 600 | WF2: 601 | WG2: 602 | WH2: 603 | WI2: 604 | WJ2: 605 | WK2: 606 | WL2: 607 | WM2: 608 | WN2: 609 | WO2: 610 | WP2: 611 | WQ2: 612 | WR2: 613 | WS2: 614 | WT2: 615 | WU2: 616 | WV2: 617 | WW2: 618 | WX2: 619 | WY2: 620 | WZ2: 621 | XA2: 622 | XB2: 623 | XC2: 624 | XD2: 625 | XE2: 626 | XF2: 627 | XG2: 628 | XH2: 629 | XI2: 630 | XJ2: 631 | XK2: 632 | XL2: 633 | XM2: 634 | XN2: 635 | XO2: 636 | XP2: 637 | XQ2: 638 | XR2: 639 | XS2: 640 | XT2: 641 | XU2: 642 | XV2: 643 | XW2: 644 | XX2: 645 | XY2: 646 | XZ2: 647 | YA2: 648 | YB2: 649 | YC2: 650 | YD2: 651 | YE2: 652 | YF2: 653 | YG2: 654 | YH2: 655 | YI2: 656 | YJ2: 657 | YK2: 658 | YL2: 659 | YM2: 660 | YN2: 661 | YO2: 662 | YP2: 663 | YQ2: 664 | YR2: 665 | YS2: 666 | YT2: 667 | YU2: 668 | YV2: 669 | YW2: 670 | YX2: 671 | YY2: 672 | YZ2: 673 | ZA2: 674 | ZB2: 675 | ZC2: 676 | ZD2: 677 | ZE2: 678 | ZF2: 679 | ZG2: 680 | ZH2: 681 | ZI2: 682 | ZJ2: 683 | ZK2: 684 | ZL2: 685 | ZM2: 686 | ZN2: 687 | ZO2: 688 | ZP2: 689 | ZQ2: 690 | ZR2: 691 | ZS2: 692 | ZT2: 693 | ZU2: 694 | ZV2: 695 | ZW2: 696 | ZX2: 697 | ZY2: 698 | ZZ2: 699 | AAA2: 700 | AAB2: 701 | AAC2: 702 | AAD2: 703 | AAE2: 704 | AAF2: 705 | AAG2: 706 | AAH2: 707 | AAI2: 708 | AAJ2: 709 | AAK2: 710 | AAL2: 711 | AAM2: 712 | AAN2: 713 | AAO2: 714 | AAP2: 715 | AAQ2: 716 | AAR2: 717 | AAS2: 718 | AAT2: 719 | AAU2: 720 | AAV2: 721 | AAW2: 722 | AAX2: 723 | AAY2: 724 | AAZ2: 725 | ABA2: 726 | ABB2: 727 | ABC2: 728 | ABD2: 729 | ABE2: 730 | ABF2: 731 | ABG2: 732 | ABH2: 733 | ABI2: 734 | ABJ2: 735 | ABK2: 736 | ABL2: 737 | ABM2: 738 | ABN2: 739 | ABO2: 740 | ABP2: 741 | ABQ2: 742 | ABR2: 743 | ABS2: 744 | ABT2: 745 | ABU2: 746 | ABV2: 747 | ABW2: 748 | ABX2: 749 | ABY2: 750 | ABZ2: 751 | ACA2: 752 | ACB2: 753 | ACC2: 754 | ACD2: 755 | ACE2: 756 | ACF2: 757 | ACG2: 758 | ACH2: 759 | ACI2: 760 | ACJ2: 761 | ACK2: 762 | ACL2: 763 | ACM2: 764 | ACN2: 765 | ACO2: 766 | ACP2: 767 | ACQ2: 768 | ACR2: 769 | ACS2: 770 | ACT2: 771 | ACU2: 772 | ACV2: 773 | ACW2: 774 | ACX2: 775 | ACY2: 776 | ACZ2: 777 | ADA2: 778 | ADB2: 779 | ADC2: 780 | ADD2: 781 | ADE2: 782 | ADF2: 783 | ADG2: 784 | ADH2: 785 | ADI2: 786 | ADJ2: 787 | ADK2: 788 | ADL2: 789 | ADM2: 790 | ADN2: 791 | ADO2: 792 | ADP2: 793 | ADQ2: 794 | ADR2: 795 | ADS2: 796 | ADT2: 797 | ADU2: 798 | ADV2: 799 | ADW2: 800 | ADX2: 801 | ADY2: 802 | ADZ2: 803 | AEA2: 804 | AEB2: 805 | AEC2: 806 | AED2: 807 | AEE2: 808 | AEF2: 809 | AEG2: 810 | AEH2: 811 | AEI2: 812 | AEJ2: 813 | AEK2: 814 | AEL2: 815 | AEM2: 816 | AEN2: 817 | AEO2: 818 | AEP2: 819 | AEQ2: 820 | AER2: 821 | AES2: 822 | AET2: 823 | AEU2: 824 | AEV2: 825 | AEW2: 826 | AEX2: 827 | AEY2: 828 | AEZ2: 829 | AFA2: 830 | AFB2: 831 | AFC2: 832 | AFD2: MÉDIA | AFE2: COEFICIENTE DE ASSIMETRIA (SKEWNESS) | AFF2: DESVIO PADRÃO | AFG2: FIABILIDADE (Alpha Cronbach)
A20: 18
A21: 19 | B21: 1 | C21: Autonomia | D21: 3 | E21: 4 | F21: 4 | G21: 4 | H21: 4 | I21: 4 | J21: 5 | K21: 4 | L21: 4 | M21: 5 | N21: 5 | O21: 5 | P21: 4 | Q21: 5 | R21: 4 | S21: 4 | T21: 4 | U21: 4 | V21: 5 | W21: 4 | X21: 4 | Y21: 4 | Z21: 4 | AA21: 5 | AB21: 5 | AC21: 4 | AD21: 5 | AE21: 5 | AF21: 0 | AG21: 4 | AH21: 4 | AI21: 4 | AJ21: 5 | AK21: 5 | AL21: 4 | AM21: 4 | AN21: 5 | AO21: 5 | AP21: 4 | AQ21: 4 | AR21: 4 | AS21: 4 | AT21: 5 | AU21: 4 | AV21: 4 | AW21: 5 | AX21: 5 | AY21: 4 | AZ21: 4 | BA21: 4 | BB21: 5 | BC21: 3 | BD21: 5 | BE21: 5 | BF21: 3 | BG21: 3 | BH21: 5 | BI21: 5 | BJ21: 5 | BK21: 4 | BL21: 4 | BM21: 4 | BN21: 5 | BO21: 4 | BP21: 3 | BQ21: 4 | BR21: 5 | BS21: 5 | BT21: 4 | BU21: 4 | BV21: 5 | BW21: 5 | BX21: 5 | BY21: 4 | BZ21: 4 | CA21: 4 | CB21: 4 | CC21: 4 | CD21: 5 | CE21: 5 | CF21: 5 | CG21: 5 | CH21: 5 | CI21: 3 | CJ21: 5 | CK21: 4 | CL21: 5 | CM21: 4 | CN21: 5 | CO21: 5 | CP21: 4 | CQ21: 4 | CR21: 4 | CS21: 5 | CT21: 4 | CU21: 4 | CV21: 4 | CW21: 4 | CX21: 4 | CY21: 5 | CZ21: 4 | DA21: 4 | DB21: 4 | DC21: 4 | DD21: 5 | DE21: 4 | DF21: 4 | DG21: 5 | DH21: 5 | DI21: 4 | DJ21: 4 | DK21: 4 | DL21: 4 | DM21: 4 | DN21: 3 | DO21: 4 | DP21: 4 | DQ21: 4 | DR21: 5 | DS21: 5 | DT21: 5 | DU21: 4 | DV21: 4 | DW21: 4 | DX21: 4 | DY21: 4 | DZ21: 4 | EA21: 4 | EB21: 4 | EC21: 4 | ED21: 5 | EE21: 4 | EF21: 5 | EG21: 5 | EH21: 5 | EI21: 4 | EJ21: 4 | EK21: 4 | EL21: 4 | EM21: 4 | EN21: 5 | EO21: 5 | EP21: 4 | EQ21: 5 | ER21: 5 | ES21: 4 | ET21: 4 | EU21: 4 | EV21: 5 | EW21: 5 | EX21: 4 | EY21: 5 | EZ21: 4 | FA21: 5 | FB21: 4 | FC21: 4 | FD21: 0 | FE21: 5 | FF21: 5 | FG21: 4 | FH21: 5 | FI21: 4 | FJ21: 5 | FK21: 5 | FL21: 4 | FM21: 5 | FN21: 4 | FO21: 5 | FP21: 5 | FQ21: 5 | FR21: 5 | FS21: 5 | FT21: 4 | FU21: 5 | FV21: 5 | FW21: 5 | FX21: 5 | FY21: 4 | FZ21: 4 | GA21: 4 | GB21: 4 | GC21: 5 | GD21: 5 | GE21: 5 | GF21: 4 | GG21: 3 | GH21: 4 | GI21: 5 | GJ21: 4 | GK21: 5 | GL21: 4 | GM21: 5 | GN21: 5 | GO21: 5 | GP21: 4 | GQ21: 5 | GR21: 4 | GS21: 3 | GT21: 4 | GU21: 5 | GV21: 4 | GW21: 4 | GX21: 4 | GY21: 3 | GZ21: 4 | HA21: 5 | HB21: 3 | HC21: 5 | HD21: 1 | HE21: 4 | HF21: 5 | HG21: 4 | HH21: 5 | HI21: 4 | HJ21: 5 | HK21: 4 | HL21: 5 | HM21: 5 | HN21: 2 | HO21: 5 | HP21: 4 | HQ21: 4 | HR21: 4 | HS21: 4 | HT21: 5 | HU21: 5 | HV21: 5 | HW21: 4 | HX21: 4 | HY21: 4 | HZ21: 5 | IA21: 5 | IB21: 4 | IC21: 3 | ID21: 4 | IE21: 4 | IF21: 3 | IG21: 4 | IH21: 4 | II21: 5 | IJ21: 4 | IK21: 4 | IL21: 3 | IM21: 3 | IN21: 4 | IO21: 5 | IP21: 5 | IQ21: 5 | IR21: 4 | IS21: 4 | IT21: 5 | IU21: 5 | IV21: 4 | IW21: 4 | IX21: 5 | IY21: 5 | IZ21: 5 | JA21: 5 | JB21: 5 | JC21: 5 | JD21: 5 | JE21: 4 | JF21: 5 | JG21: 5 | JH21: 4 | JI21: 4 | JJ21: 4 | JK21: 4 | JL21: 5 | JM21: 3 | JN21: 4 | JO21: 5 | JP21: 5 | JQ21: 5 | JR21: 4 | JS21: 5 | JT21: 4 | JU21: 5 | JV21: 5 | JW21: 4 | JX21: 3 | JY21: 5 | JZ21: 4 | KA21: 4 | KB21: 4 | KC21: 5 | KD21: 5 | KE21: 4 | KF21: 5 | KG21: 3 | KH21: 5 | KI21: 5 | KJ21: 5 | KK21: 3 | KL21: 4 | KM21: 4 | KN21: 4 | KO21: 4 | KP21: 4 | KQ21: 5 | KR21: 4 | KS21: 4 | KT21: 3 | KU21: 4 | KV21: 5 | KW21: 5 | KX21: 4 | KY21: 5 | KZ21: 4 | LA21: 5 | LB21: 5 | LC21: 4 | LD21: 4 | LE21: 4 | LF21: 4 | LG21: 5 | LH21: 5 | LI21: 4 | LJ21: 5 | LK21: 5 | LL21: 0 | LM21: 4 | LN21: 4 | LO21: 5 | LP21: 5 | LQ21: 5 | LR21: 5 | LS21: 4 | LT21: 4 | LU21: 2 | LV21: 5 | LW21: 3 | LX21: 5 | LY21: 5 | LZ21: 5 | MA21: 4 | MB21: 4 | MC21: 4 | MD21: 4 | ME21: 4 | MF21: 5 | MG21: 3 | MH21: 4 | MI21: 5 | MJ21: 5 | MK21: 5 | ML21: 5 | MM21: 4 | MN21: 4 | MO21: 5 | MP21: 4 | MQ21: 4 | MR21: 4 | MS21: 4 | MT21: 4 | MU21: 5 | MV21: 5 | MW21: 5 | MX21: 5 | MY21: 3 | MZ21: 4 | NA21: 4 | NB21: 5 | NC21: 5 | ND21: 4 | NE21: 5 | NF21: 4 | NG21: 5 | NH21: 4 | NI21: 4 | NJ21: 4 | NK21: 5 | NL21: 5 | NM21: 5 | NN21: 4 | NO21: 5 | NP21: 5 | NQ21: 5 | NR21: 5 | NS21: 3 | NT21: 5 | NU21: 4 | NV21: 4 | NW21: 5 | NX21: 5 | NY21: 5 | NZ21: 5 | OA21: 5 | OB21: 4 | OC21: 4 | OD21: 3 | OE21: 5 | OF21: 4 | OG21: 4 | OH21: 5 | OI21: 4 | OJ21: 4 | OK21: 5 | OL21: 5 | OM21: 3 | ON21: 3 | OO21: 4 | OP21: 3 | OQ21: 4 | OR21: 5 | OS21: 4 | OT21: 5 | OU21: 5 | OV21: 5 | OW21: 3 | OX21: 5 | OY21: 4 | OZ21: 5 | PA21: 4 | PB21: 4 | PC21: 5 | PD21: 4 | PE21: 3 | PF21: 5 | PG21: 0 | PH21: 4 | PI21: 5 | PJ21: 5 | PK21: 5 | PL21: 1 | PM21: 4 | PN21: 4 | PO21: 4 | PP21: 5 | PQ21: 4 | PR21: 4 | PS21: 5 | PT21: 5 | PU21: 1 | PV21: 5 | PW21: 5 | PX21: 5 | PY21: 5 | PZ21: 4 | QA21: 5 | QB21: 5 | QC21: 4 | QD21: 5 | QE21: 4 | QF21: 5 | QG21: 4 | QH21: 5 | QI21: 4 | QJ21: 5 | QK21: 4 | QL21: 4 | QM21: 5 | QN21: 5 | QO21: 5 | QP21: 5 | QQ21: 5 | QR21: 5 | QS21: 4 | QT21: 4 | QU21: 5 | QV21: 5 | QW21: 5 | QX21: 5 | QY21: 5 | QZ21: 4 | RA21: 4 | RB21: 4 | RC21: 4 | RD21: 5 | RE21: 4 | RF21: 4 | RG21: 3 | RH21: 5 | RI21: 4 | RJ21: 5 | RK21: 4 | RL21: 4 | RM21: 4 | RN21: 4 | RO21: 4 | RP21: 5 | RQ21: 4 | RR21: 5 | RS21: 5 | RT21: 4 | RU21: 5 | RV21: 5 | RW21: 4 | RX21: 4 | RY21: 4 | RZ21: 4 | SA21: 4 | SB21: 5 | SC21: 4 | SD21: 4 | SE21: 4 | SF21: 5 | SG21: 4 | SH21: 5 | SI21: 5 | SJ21: 5 | SK21: 4 | SL21: 4 | SM21: 4 | SN21: 4 | SO21: 5 | SP21: 5 | SQ21: 4 | SR21: 4 | SS21: 4 | ST21: 3 | SU21: 5 | SV21: 4 | SW21: 5 | SX21: 5 | SY21: 4 | SZ21: 5 | TA21: 5 | TB21: 5 | TC21: 5 | TD21: 0 | TE21: 5 | TF21: 4 | TG21: 4 | TH21: 3 | TI21: 4 | TJ21: 5 | TK21: 4 | TL21: 4 | TM21: 5 | TN21: 5 | TO21: 5 | TP21: 4 | TQ21: 5 | TR21: 4 | TS21: 4 | TT21: 5 | TU21: 4 | TV21: 5 | TW21: 5 | TX21: 4 | TY21: 4 | TZ21: 5 | UA21: 4 | UB21: 5 | UC21: 5 | UD21: 5 | UE21: 5 | UF21: 5 | UG21: 5 | UH21: 5 | UI21: 5 | UJ21: 4 | UK21: 4 | UL21: 5 | UM21: 4 | UN21: 4 | UO21: 4 | UP21: 4 | UQ21: 0 | UR21: 4 | US21: 5 | UT21: 4 | UU21: 5 | UV21: 5 | UW21: 5 | UX21: 4 | UY21: 1 | UZ21: 5 | VA21: 5 | VB21: 4 | VC21: 5 | VD21: 5 | VE21: 4 | VF21: 5 | VG21: 5 | VH21: 4 | VI21: 5 | VJ21: 5 | VK21: 4 | VL21: 4 | VM21: 4 | VN21: 4 | VO21: 5 | VP21: 5 | VQ21: 5 | VR21: 5 | VS21: 5 | VT21: 4 | VU21: 5 | VV21: 5 | VW21: 4 | VX21: 4 | VY21: 5 | VZ21: 4 | WA21: 4 | WB21: 4 | WC21: 5 | WD21: 5 | WE21: 5 | WF21: 5 | WG21: 4 | WH21: 5 | WI21: 5 | WJ21: 5 | WK21: 5 | WL21: 4 | WM21: 5 | WN21: 5 | WO21: 5 | WP21: 5 | WQ21: 4 | WR21: 5 | WS21: 4 | WT21: 4 | WU21: 4 | WV21: 5 | WW21: 5 | WX21: 4 | WY21: 5 | WZ21: 4 | XA21: 1 | XB21: 5 | XC21: 5 | XD21: 5 | XE21: 5 | XF21: 5 | XG21: 5 | XH21: 4 | XI21: 5 | XJ21: 5 | XK21: 4 | XL21: 4 | XM21: 5 | XN21: 5 | XO21: 4 | XP21: 4 | XQ21: 5 | XR21: 5 | XS21: 5 | XT21: 5 | XU21: 5 | XV21: 4 | XW21: 5 | XX21: 5 | XY21: 4 | XZ21: 4 | YA21: 5 | YB21: 4 | YC21: 4 | YD21: 4 | YE21: 4 | YF21: 5 | YG21: 5 | YH21: 4 | YI21: 4 | YJ21: 5 | YK21: 5 | YL21: 5 | YM21: 4 | YN21: 4 | YO21: 4 | YP21: 5 | YQ21: 4 | YR21: 5 | YS21: 1 | YT21: 5 | YU21: 5 | YV21: 3 | YW21: 4 | YX21: 5 | YY21: 5 | YZ21: 3 | ZA21: 5 | ZB21: 5 | ZC21: 5 | ZD21: 5 | ZE21: 5 | ZF21: 5 | ZG21: 4 | ZH21: 4 | ZI21: 4 | ZJ21: 4 | ZK21: 5 | ZL21: 5 | ZM21: 5 | ZN21: 4 | ZO21: 5 | ZP21: 5 | ZQ21: 5 | ZR21: 5 | ZS21: 5 | ZT21: 4 | ZU21: 3 | ZV21: 4 | ZW21: 4 | ZX21: 4 | ZY21: 4 | ZZ21: 2 | AAA21: 5 | AAB21: 4 | AAC21: 3 | AAD21: 4 | AAE21: 5 | AAF21: 5 | AAG21: 5 | AAH21: 4 | AAI21: 4 | AAJ21: 5 | AAK21: 5 | AAL21: 4 | AAM21: 4 | AAN21: 5 | AAO21: 4 | AAP21: 4 | AAQ21: 5 | AAR21: 5 | AAS21: 5 | AAT21: 4 | AAU21: 5 | AAV21: 5 | AAW21: 5 | AAX21: 3 | AAY21: 4 | AAZ21: 5 | ABA21: 5 | ABB21: 4 | ABC21: 3 | ABD21: 4 | ABE21: 4 | ABF21: 5 | ABG21: 0 | ABH21: 4 | ABI21: 4 | ABJ21: 4 | ABK21: 1 | ABL21: 1 | ABM21: 5 | ABN21: 1 | ABO21: 5 | ABP21: 5 | ABQ21: 4 | ABR21: 5 | ABS21: 4 | ABT21: 4 | ABU21: 4 | ABV21: 5 | ABW21: 5 | ABX21: 4 | ABY21: 5 | ABZ21: 5 | ACA21: 4 | ACB21: 4 | ACC21: 4 | ACD21: 4 | ACE21: 5 | ACF21: 5 | ACG21: 5 | ACH21: 5 | ACI21: 4 | ACJ21: 4 | ACK21: 5 | ACL21: 5 | ACM21: 4 | ACN21: 3 | ACO21: 4 | ACP21: 4 | ACQ21: 4 | ACR21: 5 | ACS21: 4 | ACT21: 4 | ACU21: 5 | ACV21: 5 | ACW21: 4 | ACX21: 4 | ACY21: 4 | ACZ21: 4 | ADA21: 4 | ADB21: 5 | ADC21: 1 | ADD21: 5 | ADE21: 4 | ADF21: 5 | ADG21: 5 | ADH21: 4 | ADI21: 5 | ADJ21: 4 | ADK21: 5 | ADL21: 5 | ADM21: 5 | ADN21: 4 | ADO21: 4 | ADP21: 4 | ADQ21: 4 | ADR21: 4 | ADS21: 4 | ADT21: 5 | ADU21: 4 | ADV21: 5 | ADW21: 4 | ADX21: 5 | ADY21: 4 | ADZ21: 4 | AEA21: 5 | AEB21: 4 | AEC21: 4 | AED21: 5 | AEE21: 5 | AEF21: 4 | AEG21: 4 | AEH21: 3 | AEI21: 5 | AEJ21: 4 | AEK21: 5 | AEL21: 5 | AEM21: 5 | AEN21: 4 | AEO21: 4 | AEP21: 5 | AEQ21: 5 | AER21: 4 | AES21: 4 | AET21: 4 | AEU21: 4 | AEV21: 4 | AEW21: 5 | AEX21: 5 | AEY21: 4 | AEZ21: 5 | AFA21: 5 | AFB21: 4 | AFC21: 5 | AFD21: =AVERAGE(Tabela63[[#This Row],[1]:[832]]) -> 4.3389423 | AFE21: =SKEW(Tabela63[[#This Row],[1]:[832]]) -> -2.2261643 | AFF21: =STDEV(Tabela63[[#This Row],[1]:[832]]) -> 0.81089028 | AFG21: 0.87228015
A22: 20 | B22: 2 | C22: Aprendizagem/Formação | D22: 4 | E22: 5 | F22: 5 | G22: 4 | H22: 2 | I22: 4 | J22: 5 | K22: 5 | L22: 4 | M22: 4 | N22: 5 | O22: 4 | P22: 4 | Q22: 5 | R22: 4 | S22: 5 | T22: 5 | U22: 5 | V22: 5 | W22: 5 | X22: 4 | Y22: 5 | Z22: 5 | AA22: 5 | AB22: 5 | AC22: 5 | AD22: 5 | AE22: 5 | AF22: 0 | AG22: 5 | AH22: 5 | AI22: 5 | AJ22: 5 | AK22: 4 | AL22: 4 | AM22: 5 | AN22: 5 | AO22: 5 | AP22: 5 | AQ22: 4 | AR22: 5 | AS22: 5 | AT22: 5 | AU22: 4 | AV22: 5 | AW22: 5 | AX22: 5 | AY22: 5 | AZ22: 4 | BA22: 4 | BB22: 4 | BC22: 4 | BD22: 4 | BE22: 5 | BF22: 1 | BG22: 4 | BH22: 4 | BI22: 3 | BJ22: 4 | BK22: 4 | BL22: 5 | BM22: 5 | BN22: 5 | BO22: 4 | BP22: 5 | BQ22: 4 | BR22: 5 | BS22: 3 | BT22: 5 | BU22: 4 | BV22: 5 | BW22: 5 | BX22: 5 | BY22: 5 | BZ22: 5 | CA22: 5 | CB22: 3 | CC22: 5 | CD22: 4 | CE22: 5 | CF22: 5 | CG22: 5 | CH22: 5 | CI22: 3 | CJ22: 5 | CK22: 4 | CL22: 5 | CM22: 5 | CN22: 5 | CO22: 4 | CP22: 5 | CQ22: 5 | CR22: 5 | CS22: 5 | CT22: 4 | CU22: 4 | CV22: 4 | CW22: 5 | CX22: 5 | CY22: 4 | CZ22: 4 | DA22: 5 | DB22: 4 | DC22: 4 | DD22: 5 | DE22: 5 | DF22: 5 | DG22: 5 | DH22: 5 | DI22: 5 | DJ22: 5 | DK22: 5 | DL22: 5 | DM22: 4 | DN22: 4 | DO22: 5 | DP22: 4 | DQ22: 5 | DR22: 4 | DS22: 5 | DT22: 5 | DU22: 5 | DV22: 5 | DW22: 5 | DX22: 4 | DY22: 4 | DZ22: 5 | EA22: 5 | EB22: 5 | EC22: 4 | ED22: 4 | EE22: 4 | EF22: 5 | EG22: 5 | EH22: 4 | EI22: 4 | EJ22: 4 | EK22: 5 | EL22: 4 | EM22: 5 | EN22: 5 | EO22: 4 | EP22: 5 | EQ22: 5 | ER22: 5 | ES22: 4 | ET22: 5 | EU22: 5 | EV22: 4 | EW22: 5 | EX22: 4 | EY22: 5 | EZ22: 5 | FA22: 5 | FB22: 5 | FC22: 5 | FD22: 5 | FE22: 4 | FF22: 5 | FG22: 3 | FH22: 5 | FI22: 4 | FJ22: 5 | FK22: 5 | FL22: 5 | FM22: 4 | FN22: 5 | FO22: 5 | FP22: 5 | FQ22: 5 | FR22: 5 | FS22: 5 | FT22: 4 | FU22: 5 | FV22: 5 | FW22: 5 | FX22: 4 | FY22: 5 | FZ22: 5 | GA22: 4 | GB22: 5 | GC22: 5 | GD22: 5 | GE22: 5 | GF22: 5 | GG22: 5 | GH22: 5 | GI22: 5 | GJ22: 5 | GK22: 5 | GL22: 5 | GM22: 5 | GN22: 5 | GO22: 4 | GP22: 4 | GQ22: 5 | GR22: 5 | GS22: 5 | GT22: 5 | GU22: 5 | GV22: 5 | GW22: 4 | GX22: 5 | GY22: 5 | GZ22: 4 | HA22: 5 | HB22: 4 | HC22: 5 | HD22: 1 | HE22: 4 | HF22: 5 | HG22: 5 | HH22: 5 | HI22: 4 | HJ22: 5 | HK22: 5 | HL22: 5 | HM22: 5 | HN22: 4 | HO22: 5 | HP22: 4 | HQ22: 5 | HR22: 5 | HS22: 4 | HT22: 4 | HU22: 5 | HV22: 5 | HW22: 5 | HX22: 4 | HY22: 5 | HZ22: 5 | IA22: 5 | IB22: 4 | IC22: 4 | ID22: 5 | IE22: 5 | IF22: 5 | IG22: 5 | IH22: 4 | II22: 3 | IJ22: 4 | IK22: 4 | IL22: 3 | IM22: 2 | IN22: 4 | IO22: 4 | IP22: 5 | IQ22: 5 | IR22: 4 | IS22: 4 | IT22: 5 | IU22: 5 | IV22: 4 | IW22: 4 | IX22: 5 | IY22: 5 | IZ22: 5 | JA22: 4 | JB22: 5 | JC22: 5 | JD22: 5 | JE22: 5 | JF22: 5 | JG22: 4 | JH22: 5 | JI22: 5 | JJ22: 4 | JK22: 4 | JL22: 5 | JM22: 4 | JN22: 5 | JO22: 5 | JP22: 5 | JQ22: 5 | JR22: 5 | JS22: 5 | JT22: 5 | JU22: 4 | JV22: 5 | JW22: 5 | JX22: 5 | JY22: 5 | JZ22: 4 | KA22: 5 | KB22: 5 | KC22: 5 | KD22: 5 | KE22: 5 | KF22: 5 | KG22: 3 | KH22: 5 | KI22: 5 | KJ22: 5 | KK22: 4 | KL22: 5 | KM22: 5 | KN22: 5 | KO22: 4 | KP22: 5 | KQ22: 5 | KR22: 5 | KS22: 4 | KT22: 5 | KU22: 5 | KV22: 5 | KW22: 5 | KX22: 5 | KY22: 5 | KZ22: 5 | LA22: 5 | LB22: 5 | LC22: 5 | LD22: 4 | LE22: 4 | LF22: 4 | LG22: 4 | LH22: 5 | LI22: 5 | LJ22: 5 | LK22: 4 | LL22: 3 | LM22: 5 | LN22: 5 | LO22: 5 | LP22: 5 | LQ22: 5 | LR22: 5 | LS22: 5 | LT22: 5 | LU22: 2 | LV22: 5 | LW22: 2 | LX22: 5 | LY22: 5 | LZ22: 5 | MA22: 5 | MB22: 5 | MC22: 5 | MD22: 5 | ME22: 5 | MF22: 5 | MG22: 2 | MH22: 5 | MI22: 5 | MJ22: 5 | MK22: 5 | ML22: 5 | MM22: 5 | MN22: 4 | MO22: 5 | MP22: 3 | MQ22: 5 | MR22: 4 | MS22: 5 | MT22: 4 | MU22: 5 | MV22: 5 | MW22: 5 | MX22: 5 | MY22: 5 | MZ22: 5 | NA22: 5 | NB22: 5 | NC22: 5 | ND22: 4 | NE22: 3 | NF22: 4 | NG22: 5 | NH22: 4 | NI22: 5 | NJ22: 4 | NK22: 4 | NL22: 5 | NM22: 5 | NN22: 5 | NO22: 5 | NP22: 5 | NQ22: 5 | NR22: 5 | NS22: 3 | NT22: 5 | NU22: 5 | NV22: 5 | NW22: 5 | NX22: 5 | NY22: 5 | NZ22: 5 | OA22: 5 | OB22: 5 | OC22: 5 | OD22: 3 | OE22: 5 | OF22: 5 | OG22: 5 | OH22: 4 | OI22: 5 | OJ22: 5 | OK22: 5 | OL22: 5 | OM22: 5 | ON22: 3 | OO22: 5 | OP22: 5 | OQ22: 5 | OR22: 5 | OS22: 4 | OT22: 5 | OU22: 5 | OV22: 4 | OW22: 5 | OX22: 5 | OY22: 5 | OZ22: 5 | PA22: 4 | PB22: 5 | PC22: 5 | PD22: 4 | PE22: 4 | PF22: 4 | PG22: 0 | PH22: 5 | PI22: 5 | PJ22: 5 | PK22: 5 | PL22: 1 | PM22: 5 | PN22: 5 | PO22: 4 | PP22: 5 | PQ22: 4 | PR22: 4 | PS22: 5 | PT22: 5 | PU22: 5 | PV22: 5 | PW22: 5 | PX22: 5 | PY22: 5 | PZ22: 5 | QA22: 5 | QB22: 4 | QC22: 4 | QD22: 5 | QE22: 5 | QF22: 5 | QG22: 4 | QH22: 5 | QI22: 5 | QJ22: 5 | QK22: 4 | QL22: 5 | QM22: 5 | QN22: 5 | QO22: 5 | QP22: 5 | QQ22: 4 | QR22: 4 | QS22: 5 | QT22: 5 | QU22: 5 | QV22: 5 | QW22: 5 | QX22: 5 | QY22: 5 | QZ22: 5 | RA22: 5 | RB22: 5 | RC22: 5 | RD22: 5 | RE22: 4 | RF22: 4 | RG22: 3 | RH22: 5 | RI22: 5 | RJ22: 5 | RK22: 5 | RL22: 5 | RM22: 5 | RN22: 5 | RO22: 2 | RP22: 5 | RQ22: 5 | RR22: 5 | RS22: 5 | RT22: 4 | RU22: 5 | RV22: 5 | RW22: 5 | RX22: 5 | RY22: 4 | RZ22: 5 | SA22: 4 | SB22: 5 | SC22: 5 | SD22: 4 | SE22: 4 | SF22: 5 | SG22: 4 | SH22: 4 | SI22: 5 | SJ22: 5 | SK22: 5 | SL22: 4 | SM22: 5 | SN22: 5 | SO22: 5 | SP22: 5 | SQ22: 5 | SR22: 5 | SS22: 5 | ST22: 4 | SU22: 5 | SV22: 5 | SW22: 5 | SX22: 5 | SY22: 5 | SZ22: 5 | TA22: 5 | TB22: 5 | TC22: 5 | TD22: 4 | TE22: 5 | TF22: 4 | TG22: 5 | TH22: 4 | TI22: 5 | TJ22: 5 | TK22: 2 | TL22: 4 | TM22: 5 | TN22: 5 | TO22: 5 | TP22: 4 | TQ22: 5 | TR22: 5 | TS22: 5 | TT22: 5 | TU22: 5 | TV22: 5 | TW22: 5 | TX22: 5 | TY22: 3 | TZ22: 5 | UA22: 4 | UB22: 5 | UC22: 5 | UD22: 5 | UE22: 5 | UF22: 5 | UG22: 5 | UH22: 5 | UI22: 5 | UJ22: 5 | UK22: 5 | UL22: 5 | UM22: 5 | UN22: 4 | UO22: 5 | UP22: 5 | UQ22: 3 | UR22: 4 | US22: 5 | UT22: 5 | UU22: 5 | UV22: 5 | UW22: 5 | UX22: 4 | UY22: 2 | UZ22: 5 | VA22: 5 | VB22: 5 | VC22: 5 | VD22: 5 | VE22: 5 | VF22: 5 | VG22: 5 | VH22: 4 | VI22: 5 | VJ22: 5 | VK22: 4 | VL22: 4 | VM22: 4 | VN22: 5 | VO22: 5 | VP22: 5 | VQ22: 5 | VR22: 5 | VS22: 5 | VT22: 5 | VU22: 5 | VV22: 5 | VW22: 5 | VX22: 5 | VY22: 4 | VZ22: 4 | WA22: 5 | WB22: 5 | WC22: 5 | WD22: 5 | WE22: 5 | WF22: 5 | WG22: 4 | WH22: 5 | WI22: 5 | WJ22: 5 | WK22: 5 | WL22: 5 | WM22: 5 | WN22: 5 | WO22: 5 | WP22: 5 | WQ22: 4 | WR22: 5 | WS22: 4 | WT22: 5 | WU22: 5 | WV22: 5 | WW22: 5 | WX22: 4 | WY22: 5 | WZ22: 5 | XA22: 5 | XB22: 5 | XC22: 5 | XD22: 5 | XE22: 5 | XF22: 5 | XG22: 5 | XH22: 5 | XI22: 5 | XJ22: 5 | XK22: 5 | XL22: 5 | XM22: 5 | XN22: 4 | XO22: 4 | XP22: 5 | XQ22: 5 | XR22: 5 | XS22: 5 | XT22: 5 | XU22: 5 | XV22: 4 | XW22: 5 | XX22: 5 | XY22: 3 | XZ22: 4 | YA22: 5 | YB22: 4 | YC22: 5 | YD22: 5 | YE22: 5 | YF22: 5 | YG22: 5 | YH22: 5 | YI22: 5 | YJ22: 4 | YK22: 5 | YL22: 5 | YM22: 4 | YN22: 5 | YO22: 5 | YP22: 4 | YQ22: 5 | YR22: 5 | YS22: 4 | YT22: 5 | YU22: 5 | YV22: 4 | YW22: 4 | YX22: 5 | YY22: 5 | YZ22: 4 | ZA22: 5 | ZB22: 5 | ZC22: 4 | ZD22: 5 | ZE22: 4 | ZF22: 5 | ZG22: 5 | ZH22: 4 | ZI22: 4 | ZJ22: 5 | ZK22: 5 | ZL22: 5 | ZM22: 5 | ZN22: 5 | ZO22: 5 | ZP22: 5 | ZQ22: 5 | ZR22: 5 | ZS22: 5 | ZT22: 4 | ZU22: 5 | ZV22: 4 | ZW22: 5 | ZX22: 4 | ZY22: 3 | ZZ22: 2 | AAA22: 5 | AAB22: 4 | AAC22: 4 | AAD22: 4 | AAE22: 4 | AAF22: 5 | AAG22: 5 | AAH22: 5 | AAI22: 4 | AAJ22: 5 | AAK22: 5 | AAL22: 5 | AAM22: 5 | AAN22: 5 | AAO22: 5 | AAP22: 3 | AAQ22: 5 | AAR22: 5 | AAS22: 5 | AAT22: 5 | AAU22: 5 | AAV22: 5 | AAW22: 5 | AAX22: 5 | AAY22: 5 | AAZ22: 4 | ABA22: 5 | ABB22: 5 | ABC22: 4 | ABD22: 4 | ABE22: 4 | ABF22: 5 | ABG22: 5 | ABH22: 4 | ABI22: 4 | ABJ22: 5 | ABK22: 1 | ABL22: 1 | ABM22: 5 | ABN22: 2 | ABO22: 5 | ABP22: 5 | ABQ22: 2 | ABR22: 5 | ABS22: 5 | ABT22: 5 | ABU22: 4 | ABV22: 5 | ABW22: 5 | ABX22: 5 | ABY22: 4 | ABZ22: 4 | ACA22: 5 | ACB22: 4 | ACC22: 4 | ACD22: 4 | ACE22: 5 | ACF22: 4 | ACG22: 5 | ACH22: 0 | ACI22: 5 | ACJ22: 5 | ACK22: 5 | ACL22: 5 | ACM22: 5 | ACN22: 3 | ACO22: 4 | ACP22: 5 | ACQ22: 5 | ACR22: 5 | ACS22: 5 | ACT22: 5 | ACU22: 5 | ACV22: 5 | ACW22: 5 | ACX22: 5 | ACY22: 5 | ACZ22: 4 | ADA22: 5 | ADB22: 5 | ADC22: 1 | ADD22: 4 | ADE22: 5 | ADF22: 5 | ADG22: 5 | ADH22: 4 | ADI22: 4 | ADJ22: 5 | ADK22: 5 | ADL22: 4 | ADM22: 5 | ADN22: 4 | ADO22: 5 | ADP22: 5 | ADQ22: 4 | ADR22: 5 | ADS22: 5 | ADT22: 5 | ADU22: 4 | ADV22: 4 | ADW22: 5 | ADX22: 5 | ADY22: 5 | ADZ22: 5 | AEA22: 5 | AEB22: 5 | AEC22: 5 | AED22: 5 | AEE22: 5 | AEF22: 5 | AEG22: 4 | AEH22: 3 | AEI22: 4 | AEJ22: 4 | AEK22: 5 | AEL22: 5 | AEM22: 5 | AEN22: 4 | AEO22: 5 | AEP22: 5 | AEQ22: 5 | AER22: 4 | AES22: 5 | AET22: 5 | AEU22: 4 | AEV22: 5 | AEW22: 5 | AEX22: 5 | AEY22: 5 | AEZ22: 5 | AFA22: 5 | AFB22: 5 | AFC22: 5 | AFD22: =AVERAGE(Tabela63[[#This Row],[1]:[832]]) -> 4.6165865 | AFE22: =SKEW(Tabela63[[#This Row],[1]:[832]]) -> -2.7785388 | AFF22: =STDEV(Tabela63[[#This Row],[1]:[832]]) -> 0.72657241 | AFG22: 0.86368493
A23: 21 | B23: 3 | C23: Condições físicas de trabalho | D23: 4 | E23: 4 | F23: 5 | G23: 5 | H23: 5 | I23: 5 | J23: 5 | K23: 5 | L23: 4 | M23: 4 | N23: 5 | O23: 4 | P23: 4 | Q23: 4 | R23: 4 | S23: 4 | T23: 5 | U23: 5 | V23: 5 | W23: 4 | X23: 5 | Y23: 3 | Z23: 5 | AA23: 5 | AB23: 5 | AC23: 5 | AD23: 4 | AE23: 5 | AF23: 0 | AG23: 4 | AH23: 4 | AI23: 4 | AJ23: 5 | AK23: 5 | AL23: 5 | AM23: 4 | AN23: 5 | AO23: 5 | AP23: 3 | AQ23: 3 | AR23: 4 | AS23: 5 | AT23: 5 | AU23: 4 | AV23: 5 | AW23: 4 | AX23: 4 | AY23: 3 | AZ23: 4 | BA23: 4 | BB23: 5 | BC23: 4 | BD23: 5 | BE23: 4 | BF23: 1 | BG23: 3 | BH23: 3 | BI23: 4 | BJ23: 4 | BK23: 4 | BL23: 3 | BM23: 4 | BN23: 4 | BO23: 4 | BP23: 4 | BQ23: 4 | BR23: 5 | BS23: 3 | BT23: 4 | BU23: 5 | BV23: 5 | BW23: 4 | BX23: 5 | BY23: 5 | BZ23: 3 | CA23: 4 | CB23: 4 | CC23: 5 | CD23: 4 | CE23: 5 | CF23: 4 | CG23: 4 | CH23: 4 | CI23: 4 | CJ23: 5 | CK23: 4 | CL23: 5 | CM23: 3 | CN23: 5 | CO23: 3 | CP23: 5 | CQ23: 4 | CR23: 4 | CS23: 4 | CT23: 4 | CU23: 4 | CV23: 3 | CW23: 5 | CX23: 5 | CY23: 4 | CZ23: 4 | DA23: 5 | DB23: 4 | DC23: 5 | DD23: 5 | DE23: 5 | DF23: 5 | DG23: 5 | DH23: 1 | DI23: 4 | DJ23: 5 | DK23: 4 | DL23: 4 | DM23: 4 | DN23: 5 | DO23: 5 | DP23: 5 | DQ23: 4 | DR23: 4 | DS23: 4 | DT23: 5 | DU23: 5 | DV23: 5 | DW23: 5 | DX23: 4 | DY23: 5 | DZ23: 5 | EA23: 3 | EB23: 5 | EC23: 4 | ED23: 4 | EE23: 4 | EF23: 4 | EG23: 5 | EH23: 5 | EI23: 4 | EJ23: 5 | EK23: 4 | EL23: 4 | EM23: 5 | EN23: 5 | EO23: 4 | EP23: 5 | EQ23: 5 | ER23: 5 | ES23: 5 | ET23: 4 | EU23: 4 | EV23: 3 | EW23: 5 | EX23: 4 | EY23: 4 | EZ23: 5 | FA23: 5 | FB23: 5 | FC23: 5 | FD23: 5 | FE23: 4 | FF23: 5 | FG23: 4 | FH23: 4 | FI23: 5 | FJ23: 5 | FK23: 5 | FL23: 5 | FM23: 4 | FN23: 3 | FO23: 4 | FP23: 5 | FQ23: 5 | FR23: 5 | FS23: 5 | FT23: 5 | FU23: 5 | FV23: 5 | FW23: 4 | FX23: 5 | FY23: 5 | FZ23: 4 | GA23: 4 | GB23: 4 | GC23: 5 | GD23: 4 | GE23: 4 | GF23: 4 | GG23: 5 | GH23: 4 | GI23: 5 | GJ23: 5 | GK23: 4 | GL23: 4 | GM23: 4 | GN23: 5 | GO23: 4 | GP23: 4 | GQ23: 5 | GR23: 5 | GS23: 4 | GT23: 4 | GU23: 3 | GV23: 5 | GW23: 4 | GX23: 4 | GY23: 5 | GZ23: 3 | HA23: 5 | HB23: 3 | HC23: 4 | HD23: 1 | HE23: 5 | HF23: 5 | HG23: 5 | HH23: 4 | HI23: 4 | HJ23: 5 | HK23: 5 | HL23: 5 | HM23: 5 | HN23: 3 | HO23: 5 | HP23: 3 | HQ23: 4 | HR23: 4 | HS23: 4 | HT23: 3 | HU23: 5 | HV23: 4 | HW23: 3 | HX23: 4 | HY23: 4 | HZ23: 5 | IA23: 5 | IB23: 5 | IC23: 4 | ID23: 3 | IE23: 5 | IF23: 4 | IG23: 4 | IH23: 5 | II23: 4 | IJ23: 4 | IK23: 5 | IL23: 4 | IM23: 2 | IN23: 4 | IO23: 4 | IP23: 4 | IQ23: 5 | IR23: 4 | IS23: 4 | IT23: 5 | IU23: 5 | IV23: 5 | IW23: 4 | IX23: 4 | IY23: 5 | IZ23: 5 | JA23: 4 | JB23: 5 | JC23: 4 | JD23: 5 | JE23: 4 | JF23: 4 | JG23: 4 | JH23: 5 | JI23: 5 | JJ23: 4 | JK23: 4 | JL23: 5 | JM23: 3 | JN23: 4 | JO23: 5 | JP23: 4 | JQ23: 5 | JR23: 5 | JS23: 5 | JT23: 5 | JU23: 4 | JV23: 4 | JW23: 4 | JX23: 5 | JY23: 5 | JZ23: 4 | KA23: 5 | KB23: 2 | KC23: 4 | KD23: 5 | KE23: 5 | KF23: 4 | KG23: 5 | KH23: 5 | KI23: 5 | KJ23: 5 | KK23: 2 | KL23: 4 | KM23: 4 | KN23: 1 | KO23: 4 | KP23: 5 | KQ23: 4 | KR23: 4 | KS23: 4 | KT23: 3 | KU23: 5 | KV23: 4 | KW23: 5 | KX23: 5 | KY23: 5 | KZ23: 5 | LA23: 5 | LB23: 5 | LC23: 5 | LD23: 4 | LE23: 4 | LF23: 5 | LG23: 5 | LH23: 5 | LI23: 4 | LJ23: 5 | LK23: 5 | LL23: 3 | LM23: 4 | LN23: 4 | LO23: 5 | LP23: 5 | LQ23: 5 | LR23: 5 | LS23: 5 | LT23: 5 | LU23: 0 | LV23: 5 | LW23: 3 | LX23: 5 | LY23: 5 | LZ23: 5 | MA23: 5 | MB23: 5 | MC23: 4 | MD23: 5 | ME23: 5 | MF23: 4 | MG23: 4 | MH23: 5 | MI23: 5 | MJ23: 4 | MK23: 4 | ML23: 5 | MM23: 5 | MN23: 4 | MO23: 5 | MP23: 5 | MQ23: 5 | MR23: 5 | MS23: 5 | MT23: 3 | MU23: 4 | MV23: 4 | MW23: 5 | MX23: 5 | MY23: 4 | MZ23: 4 | NA23: 4 | NB23: 2 | NC23: 5 | ND23: 5 | NE23: 4 | NF23: 4 | NG23: 4 | NH23: 4 | NI23: 5 | NJ23: 2 | NK23: 5 | NL23: 5 | NM23: 5 | NN23: 4 | NO23: 4 | NP23: 5 | NQ23: 5 | NR23: 5 | NS23: 4 | NT23: 5 | NU23: 5 | NV23: 5 | NW23: 5 | NX23: 4 | NY23: 5 | NZ23: 4 | OA23: 4 | OB23: 5 | OC23: 5 | OD23: 3 | OE23: 4 | OF23: 5 | OG23: 5 | OH23: 5 | OI23: 5 | OJ23: 4 | OK23: 5 | OL23: 5 | OM23: 4 | ON23: 2 | OO23: 5 | OP23: 4 | OQ23: 4 | OR23: 4 | OS23: 3 | OT23: 5 | OU23: 5 | OV23: 4 | OW23: 4 | OX23: 5 | OY23: 4 | OZ23: 5 | PA23: 5 | PB23: 4 | PC23: 5 | PD23: 4 | PE23: 4 | PF23: 5 | PG23: 0 | PH23: 4 | PI23: 5 | PJ23: 5 | PK23: 5 | PL23: 1 | PM23: 4 | PN23: 5 | PO23: 4 | PP23: 4 | PQ23: 4 | PR23: 4 | PS23: 5 | PT23: 2 | PU23: 2 | PV23: 5 | PW23: 5 | PX23: 5 | PY23: 4 | PZ23: 4 | QA23: 4 | QB23: 4 | QC23: 5 | QD23: 5 | QE23: 5 | QF23: 5 | QG23: 3 | QH23: 5 | QI23: 5 | QJ23: 4 | QK23: 4 | QL23: 5 | QM23: 5 | QN23: 4 | QO23: 5 | QP23: 5 | QQ23: 4 | QR23: 5 | QS23: 4 | QT23: 4 | QU23: 4 | QV23: 4 | QW23: 5 | QX23: 5 | QY23: 5 | QZ23: 5 | RA23: 4 | RB23: 3 | RC23: 4 | RD23: 5 | RE23: 4 | RF23: 4 | RG23: 4 | RH23: 5 | RI23: 4 | RJ23: 5 | RK23: 5 | RL23: 5 | RM23: 5 | RN23: 5 | RO23: 2 | RP23: 5 | RQ23: 5 | RR23: 5 | RS23: 5 | RT23: 3 | RU23: 4 | RV23: 5 | RW23: 5 | RX23: 4 | RY23: 4 | RZ23: 4 | SA23: 4 | SB23: 3 | SC23: 4 | SD23: 5 | SE23: 3 | SF23: 4 | SG23: 4 | SH23: 5 | SI23: 5 | SJ23: 5 | SK23: 5 | SL23: 4 | SM23: 5 | SN23: 4 | SO23: 5 | SP23: 5 | SQ23: 5 | SR23: 5 | SS23: 5 | ST23: 4 | SU23: 5 | SV23: 4 | SW23: 4 | SX23: 5 | SY23: 4 | SZ23: 3 | TA23: 5 | TB23: 5 | TC23: 5 | TD23: 3 | TE23: 5 | TF23: 5 | TG23: 4 | TH23: 4 | TI23: 4 | TJ23: 5 | TK23: 3 | TL23: 4 | TM23: 5 | TN23: 5 | TO23: 4 | TP23: 5 | TQ23: 4 | TR23: 5 | TS23: 5 | TT23: 4 | TU23: 5 | TV23: 5 | TW23: 3 | TX23: 5 | TY23: 5 | TZ23: 5 | UA23: 3 | UB23: 4 | UC23: 5 | UD23: 5 | UE23: 4 | UF23: 5 | UG23: 4 | UH23: 5 | UI23: 5 | UJ23: 4 | UK23: 5 | UL23: 5 | UM23: 4 | UN23: 5 | UO23: 4 | UP23: 4 | UQ23: 3 | UR23: 4 | US23: 5 | UT23: 4 | UU23: 5 | UV23: 4 | UW23: 4 | UX23: 4 | UY23: 3 | UZ23: 4 | VA23: 5 | VB23: 4 | VC23: 4 | VD23: 5 | VE23: 4 | VF23: 5 | VG23: 5 | VH23: 3 | VI23: 4 | VJ23: 4 | VK23: 4 | VL23: 2 | VM23: 3 | VN23: 4 | VO23: 5 | VP23: 4 | VQ23: 5 | VR23: 5 | VS23: 5 | VT23: 5 | VU23: 5 | VV23: 5 | VW23: 5 | VX23: 5 | VY23: 3 | VZ23: 4 | WA23: 4 | WB23: 4 | WC23: 5 | WD23: 0 | WE23: 5 | WF23: 5 | WG23: 4 | WH23: 5 | WI23: 4 | WJ23: 5 | WK23: 4 | WL23: 5 | WM23: 5 | WN23: 5 | WO23: 4 | WP23: 5 | WQ23: 3 | WR23: 4 | WS23: 4 | WT23: 5 | WU23: 5 | WV23: 4 | WW23: 5 | WX23: 4 | WY23: 4 | WZ23: 5 | XA23: 5 | XB23: 5 | XC23: 5 | XD23: 4 | XE23: 4 | XF23: 5 | XG23: 5 | XH23: 5 | XI23: 5 | XJ23: 4 | XK23: 5 | XL23: 5 | XM23: 4 | XN23: 4 | XO23: 5 | XP23: 5 | XQ23: 4 | XR23: 4 | XS23: 4 | XT23: 4 | XU23: 4 | XV23: 3 | XW23: 5 | XX23: 4 | XY23: 4 | XZ23: 4 | YA23: 5 | YB23: 4 | YC23: 4 | YD23: 5 | YE23: 5 | YF23: 5 | YG23: 5 | YH23: 4 | YI23: 3 | YJ23: 5 | YK23: 5 | YL23: 5 | YM23: 5 | YN23: 4 | YO23: 4 | YP23: 4 | YQ23: 5 | YR23: 5 | YS23: 3 | YT23: 4 | YU23: 5 | YV23: 5 | YW23: 4 | YX23: 4 | YY23: 4 | YZ23: 3 | ZA23: 3 | ZB23: 5 | ZC23: 3 | ZD23: 5 | ZE23: 5 | ZF23: 4 | ZG23: 4 | ZH23: 4 | ZI23: 4 | ZJ23: 5 | ZK23: 4 | ZL23: 5 | ZM23: 4 | ZN23: 5 | ZO23: 4 | ZP23: 5 | ZQ23: 5 | ZR23: 5 | ZS23: 5 | ZT23: 4 | ZU23: 4 | ZV23: 3 | ZW23: 4 | ZX23: 4 | ZY23: 4 | ZZ23: 2 | AAA23: 4 | AAB23: 3 | AAC23: 3 | AAD23: 5 | AAE23: 5 | AAF23: 3 | AAG23: 3 | AAH23: 4 | AAI23: 5 | AAJ23: 5 | AAK23: 5 | AAL23: 5 | AAM23: 4 | AAN23: 4 | AAO23: 5 | AAP23: 3 | AAQ23: 5 | AAR23: 5 | AAS23: 5 | AAT23: 4 | AAU23: 4 | AAV23: 4 | AAW23: 4 | AAX23: 5 | AAY23: 4 | AAZ23: 5 | ABA23: 5 | ABB23: 5 | ABC23: 5 | ABD23: 4 | ABE23: 4 | ABF23: 5 | ABG23: 5 | ABH23: 5 | ABI23: 4 | ABJ23: 4 | ABK23: 1 | ABL23: 1 | ABM23: 5 | ABN23: 1 | ABO23: 5 | ABP23: 5 | ABQ23: 3 | ABR23: 4 | ABS23: 5 | ABT23: 4 | ABU23: 3 | ABV23: 3 | ABW23: 5 | ABX23: 5 | ABY23: 4 | ABZ23: 5 | ACA23: 5 | ACB23: 4 | ACC23: 4 | ACD23: 4 | ACE23: 5 | ACF23: 4 | ACG23: 4 | ACH23: 3 | ACI23: 5 | ACJ23: 5 | ACK23: 4 | ACL23: 4 | ACM23: 4 | ACN23: 3 | ACO23: 4 | ACP23: 4 | ACQ23: 4 | ACR23: 4 | ACS23: 5 | ACT23: 4 | ACU23: 4 | ACV23: 4 | ACW23: 5 | ACX23: 4 | ACY23: 5 | ACZ23: 4 | ADA23: 4 | ADB23: 4 | ADC23: 1 | ADD23: 4 | ADE23: 4 | ADF23: 4 | ADG23: 5 | ADH23: 4 | ADI23: 5 | ADJ23: 5 | ADK23: 4 | ADL23: 5 | ADM23: 5 | ADN23: 4 | ADO23: 4 | ADP23: 4 | ADQ23: 4 | ADR23: 5 | ADS23: 5 | ADT23: 4 | ADU23: 5 | ADV23: 4 | ADW23: 4 | ADX23: 5 | ADY23: 4 | ADZ23: 5 | AEA23: 4 | AEB23: 4 | AEC23: 5 | AED23: 4 | AEE23: 5 | AEF23: 5 | AEG23: 4 | AEH23: 2 | AEI23: 4 | AEJ23: 4 | AEK23: 5 | AEL23: 5 | AEM23: 5 | AEN23: 4 | AEO23: 5 | AEP23: 5 | AEQ23: 4 | AER23: 3 | AES23: 5 | AET23: 5 | AEU23: 5 | AEV23: 4 | AEW23: 5 | AEX23: 5 | AEY23: 5 | AEZ23: 5 | AFA23: 4 | AFB23: 5 | AFC23: 5 | AFD23: =AVERAGE(Tabela63[[#This Row],[1]:[832]]) -> 4.3221154 | AFE23: =SKEW(Tabela63[[#This Row],[1]:[832]]) -> -1.7816038 | AFF23: =STDEV(Tabela63[[#This Row],[1]:[832]]) -> 0.82796568 | AFG23: 0.86418341
A24: 22 | B24: 4 | C24: Equilíbrio vida profissional / pessoal | D24: 4 | E24: 5 | F24: 5 | G24: 5 | H24: 5 | I24: 5 | J24: 5 | K24: 5 | L24: 4 | M24: 5 | N24: 5 | O24: 5 | P24: 5 | Q24: 5 | R24: 5 | S24: 4 | T24: 5 | U24: 5 | V24: 5 | W24: 5 | X24: 5 | Y24: 5 | Z24: 5 | AA24: 5 | AB24: 5 | AC24: 4 | AD24: 5 | AE24: 5 | AF24: 5 | AG24: 5 | AH24: 5 | AI24: 4 | AJ24: 5 | AK24: 5 | AL24: 4 | AM24: 5 | AN24: 5 | AO24: 5 | AP24: 5 | AQ24: 3 | AR24: 5 | AS24: 5 | AT24: 5 | AU24: 4 | AV24: 5 | AW24: 5 | AX24: 4 | AY24: 5 | AZ24: 4 | BA24: 5 | BB24: 5 | BC24: 4 | BD24: 4 | BE24: 5 | BF24: 3 | BG24: 5 | BH24: 3 | BI24: 5 | BJ24: 4 | BK24: 4 | BL24: 5 | BM24: 5 | BN24: 5 | BO24: 5 | BP24: 5 | BQ24: 4 | BR24: 5 | BS24: 4 | BT24: 5 | BU24: 5 | BV24: 5 | BW24: 5 | BX24: 5 | BY24: 4 | BZ24: 4 | CA24: 4 | CB24: 4 | CC24: 5 | CD24: 5 | CE24: 5 | CF24: 5 | CG24: 4 | CH24: 3 | CI24: 3 | CJ24: 5 | CK24: 5 | CL24: 5 | CM24: 4 | CN24: 5 | CO24: 5 | CP24: 5 | CQ24: 5 | CR24: 4 | CS24: 4 | CT24: 5 | CU24: 5 | CV24: 4 | CW24: 5 | CX24: 5 | CY24: 4 | CZ24: 5 | DA24: 5 | DB24: 4 | DC24: 4 | DD24: 5 | DE24: 5 | DF24: 5 | DG24: 5 | DH24: 5 | DI24: 4 | DJ24: 5 | DK24: 5 | DL24: 5 | DM24: 4 | DN24: 5 | DO24: 5 | DP24: 5 | DQ24: 4 | DR24: 5 | DS24: 5 | DT24: 5 | DU24: 5 | DV24: 4 | DW24: 5 | DX24: 5 | DY24: 4 | DZ24: 5 | EA24: 5 | EB24: 4 | EC24: 5 | ED24: 5 | EE24: 4 | EF24: 5 | EG24: 5 | EH24: 4 | EI24: 4 | EJ24: 5 | EK24: 5 | EL24: 4 | EM24: 5 | EN24: 5 | EO24: 5 | EP24: 5 | EQ24: 5 | ER24: 5 | ES24: 3 | ET24: 4 | EU24: 5 | EV24: 4 | EW24: 5 | EX24: 5 | EY24: 4 | EZ24: 5 | FA24: 5 | FB24: 5 | FC24: 4 | FD24: 5 | FE24: 5 | FF24: 5 | FG24: 5 | FH24: 5 | FI24: 5 | FJ24: 5 | FK24: 4 | FL24: 5 | FM24: 5 | FN24: 3 | FO24: 5 | FP24: 5 | FQ24: 5 | FR24: 5 | FS24: 5 | FT24: 5 | FU24: 5 | FV24: 5 | FW24: 5 | FX24: 4 | FY24: 5 | FZ24: 4 | GA24: 3 | GB24: 4 | GC24: 5 | GD24: 4 | GE24: 5 | GF24: 4 | GG24: 5 | GH24: 5 | GI24: 5 | GJ24: 5 | GK24: 4 | GL24: 5 | GM24: 5 | GN24: 5 | GO24: 3 | GP24: 3 | GQ24: 5 | GR24: 5 | GS24: 4 | GT24: 4 | GU24: 3 | GV24: 5 | GW24: 4 | GX24: 5 | GY24: 5 | GZ24: 5 | HA24: 5 | HB24: 3 | HC24: 5 | HD24: 1 | HE24: 5 | HF24: 5 | HG24: 5 | HH24: 5 | HI24: 4 | HJ24: 5 | HK24: 5 | HL24: 5 | HM24: 5 | HN24: 4 | HO24: 5 | HP24: 3 | HQ24: 3 | HR24: 5 | HS24: 5 | HT24: 3 | HU24: 5 | HV24: 4 | HW24: 3 | HX24: 4 | HY24: 4 | HZ24: 5 | IA24: 5 | IB24: 5 | IC24: 4 | ID24: 5 | IE24: 4 | IF24: 5 | IG24: 4 | IH24: 5 | II24: 5 | IJ24: 4 | IK24: 5 | IL24: 0 | IM24: 4 | IN24: 5 | IO24: 4 | IP24: 5 | IQ24: 5 | IR24: 4 | IS24: 5 | IT24: 5 | IU24: 5 | IV24: 5 | IW24: 4 | IX24: 5 | IY24: 5 | IZ24: 5 | JA24: 5 | JB24: 5 | JC24: 5 | JD24: 5 | JE24: 5 | JF24: 5 | JG24: 3 | JH24: 5 | JI24: 5 | JJ24: 4 | JK24: 5 | JL24: 5 | JM24: 4 | JN24: 4 | JO24: 5 | JP24: 4 | JQ24: 5 | JR24: 4 | JS24: 5 | JT24: 5 | JU24: 4 | JV24: 4 | JW24: 5 | JX24: 4 | JY24: 5 | JZ24: 4 | KA24: 5 | KB24: 3 | KC24: 5 | KD24: 5 | KE24: 5 | KF24: 4 | KG24: 5 | KH24: 5 | KI24: 5 | KJ24: 5 | KK24: 4 | KL24: 3 | KM24: 5 | KN24: 4 | KO24: 4 | KP24: 4 | KQ24: 5 | KR24: 4 | KS24: 5 | KT24: 5 | KU24: 5 | KV24: 5 | KW24: 5 | KX24: 4 | KY24: 5 | KZ24: 5 | LA24: 5 | LB24: 5 | LC24: 5 | LD24: 5 | LE24: 5 | LF24: 5 | LG24: 5 | LH24: 5 | LI24: 5 | LJ24: 5 | LK24: 5 | LL24: 4 | LM24: 0 | LN24: 5 | LO24: 5 | LP24: 5 | LQ24: 5 | LR24: 5 | LS24: 5 | LT24: 5 | LU24: 5 | LV24: 5 | LW24: 4 | LX24: 5 | LY24: 5 | LZ24: 3 | MA24: 5 | MB24: 5 | MC24: 4 | MD24: 5 | ME24: 5 | MF24: 5 | MG24: 4 | MH24: 5 | MI24: 5 | MJ24: 4 | MK24: 5 | ML24: 5 | MM24: 4 | MN24: 5 | MO24: 5 | MP24: 5 | MQ24: 4 | MR24: 5 | MS24: 5 | MT24: 4 | MU24: 5 | MV24: 5 | MW24: 5 | MX24: 5 | MY24: 4 | MZ24: 5 | NA24: 5 | NB24: 5 | NC24: 4 | ND24: 5 | NE24: 5 | NF24: 4 | NG24: 5 | NH24: 4 | NI24: 5 | NJ24: 4 | NK24: 4 | NL24: 4 | NM24: 5 | NN24: 4 | NO24: 5 | NP24: 5 | NQ24: 5 | NR24: 5 | NS24: 5 | NT24: 5 | NU24: 5 | NV24: 5 | NW24: 4 | NX24: 5 | NY24: 5 | NZ24: 4 | OA24: 5 | OB24: 5 | OC24: 4 | OD24: 4 | OE24: 4 | OF24: 5 | OG24: 5 | OH24: 5 | OI24: 0 | OJ24: 5 | OK24: 5 | OL24: 5 | OM24: 4 | ON24: 5 | OO24: 5 | OP24: 2 | OQ24: 5 | OR24: 5 | OS24: 4 | OT24: 5 | OU24: 5 | OV24: 5 | OW24: 4 | OX24: 5 | OY24: 4 | OZ24: 5 | PA24: 5 | PB24: 4 | PC24: 5 | PD24: 4 | PE24: 5 | PF24: 5 | PG24: 0 | PH24: 5 | PI24: 5 | PJ24: 5 | PK24: 5 | PL24: 1 | PM24: 4 | PN24: 5 | PO24: 5 | PP24: 5 | PQ24: 5 | PR24: 5 | PS24: 5 | PT24: 4 | PU24: 5 | PV24: 5 | PW24: 5 | PX24: 5 | PY24: 5 | PZ24: 5 | QA24: 5 | QB24: 5 | QC24: 5 | QD24: 5 | QE24: 4 | QF24: 5 | QG24: 3 | QH24: 5 | QI24: 5 | QJ24: 5 | QK24: 5 | QL24: 4 | QM24: 5 | QN24: 5 | QO24: 5 | QP24: 5 | QQ24: 5 | QR24: 5 | QS24: 4 | QT24: 5 | QU24: 5 | QV24: 5 | QW24: 5 | QX24: 5 | QY24: 5 | QZ24: 5 | RA24: 5 | RB24: 5 | RC24: 5 | RD24: 5 | RE24: 4 | RF24: 4 | RG24: 4 | RH24: 5 | RI24: 5 | RJ24: 5 | RK24: 5 | RL24: 4 | RM24: 5 | RN24: 4 | RO24: 3 | RP24: 5 | RQ24: 5 | RR24: 5 | RS24: 5 | RT24: 5 | RU24: 5 | RV24: 0 | RW24: 5 | RX24: 0 | RY24: 5 | RZ24: 5 | SA24: 4 | SB24: 4 | SC24: 5 | SD24: 3 | SE24: 4 | SF24: 4 | SG24: 5 | SH24: 4 | SI24: 5 | SJ24: 5 | SK24: 5 | SL24: 5 | SM24: 5 | SN24: 5 | SO24: 5 | SP24: 5 | SQ24: 5 | SR24: 5 | SS24: 5 | ST24: 5 | SU24: 5 | SV24: 4 | SW24: 4 | SX24: 5 | SY24: 4 | SZ24: 5 | TA24: 5 | TB24: 4 | TC24: 5 | TD24: 3 | TE24: 5 | TF24: 5 | TG24: 4 | TH24: 5 | TI24: 4 | TJ24: 5 | TK24: 3 | TL24: 5 | TM24: 2 | TN24: 5 | TO24: 5 | TP24: 5 | TQ24: 4 | TR24: 5 | TS24: 5 | TT24: 5 | TU24: 5 | TV24: 4 | TW24: 4 | TX24: 5 | TY24: 4 | TZ24: 5 | UA24: 4 | UB24: 5 | UC24: 5 | UD24: 5 | UE24: 4 | UF24: 5 | UG24: 4 | UH24: 5 | UI24: 5 | UJ24: 4 | UK24: 5 | UL24: 4 | UM24: 5 | UN24: 4 | UO24: 4 | UP24: 4 | UQ24: 4 | UR24: 4 | US24: 5 | UT24: 5 | UU24: 5 | UV24: 4 | UW24: 5 | UX24: 5 | UY24: 3 | UZ24: 5 | VA24: 5 | VB24: 5 | VC24: 4 | VD24: 5 | VE24: 5 | VF24: 5 | VG24: 5 | VH24: 4 | VI24: 5 | VJ24: 5 | VK24: 5 | VL24: 4 | VM24: 4 | VN24: 5 | VO24: 5 | VP24: 5 | VQ24: 5 | VR24: 5 | VS24: 5 | VT24: 5 | VU24: 5 | VV24: 5 | VW24: 5 | VX24: 5 | VY24: 3 | VZ24: 4 | WA24: 4 | WB24: 5 | WC24: 5 | WD24: 3 | WE24: 5 | WF24: 5 | WG24: 5 | WH24: 4 | WI24: 5 | WJ24: 5 | WK24: 4 | WL24: 4 | WM24: 5 | WN24: 5 | WO24: 5 | WP24: 5 | WQ24: 3 | WR24: 5 | WS24: 4 | WT24: 5 | WU24: 5 | WV24: 4 | WW24: 5 | WX24: 5 | WY24: 4 | WZ24: 5 | XA24: 5 | XB24: 4 | XC24: 4 | XD24: 5 | XE24: 4 | XF24: 5 | XG24: 5 | XH24: 5 | XI24: 5 | XJ24: 5 | XK24: 5 | XL24: 5 | XM24: 5 | XN24: 5 | XO24: 5 | XP24: 5 | XQ24: 5 | XR24: 4 | XS24: 4 | XT24: 5 | XU24: 5 | XV24: 5 | XW24: 5 | XX24: 4 | XY24: 4 | XZ24: 4 | YA24: 5 | YB24: 3 | YC24: 5 | YD24: 5 | YE24: 4 | YF24: 5 | YG24: 5 | YH24: 5 | YI24: 5 | YJ24: 5 | YK24: 5 | YL24: 5 | YM24: 5 | YN24: 5 | YO24: 5 | YP24: 5 | YQ24: 4 | YR24: 5 | YS24: 5 | YT24: 5 | YU24: 4 | YV24: 5 | YW24: 4 | YX24: 5 | YY24: 4 | YZ24: 5 | ZA24: 3 | ZB24: 4 | ZC24: 4 | ZD24: 5 | ZE24: 5 | ZF24: 4 | ZG24: 4 | ZH24: 5 | ZI24: 4 | ZJ24: 5 | ZK24: 5 | ZL24: 5 | ZM24: 5 | ZN24: 4 | ZO24: 4 | ZP24: 5 | ZQ24: 5 | ZR24: 5 | ZS24: 5 | ZT24: 4 | ZU24: 3 | ZV24: 5 | ZW24: 5 | ZX24: 5 | ZY24: 5 | ZZ24: 2 | AAA24: 5 | AAB24: 0 | AAC24: 3 | AAD24: 5 | AAE24: 4 | AAF24: 5 | AAG24: 4 | AAH24: 3 | AAI24: 5 | AAJ24: 4 | AAK24: 5 | AAL24: 4 | AAM24: 4 | AAN24: 5 | AAO24: 5 | AAP24: 5 | AAQ24: 5 | AAR24: 5 | AAS24: 5 | AAT24: 5 | AAU24: 5 | AAV24: 4 | AAW24: 4 | AAX24: 5 | AAY24: 5 | AAZ24: 5 | ABA24: 5 | ABB24: 4 | ABC24: 5 | ABD24: 5 | ABE24: 5 | ABF24: 5 | ABG24: 4 | ABH24: 4 | ABI24: 4 | ABJ24: 5 | ABK24: 1 | ABL24: 1 | ABM24: 5 | ABN24: 2 | ABO24: 5 | ABP24: 5 | ABQ24: 3 | ABR24: 4 | ABS24: 5 | ABT24: 5 | ABU24: 3 | ABV24: 5 | ABW24: 5 | ABX24: 5 | ABY24: 4 | ABZ24: 5 | ACA24: 5 | ACB24: 4 | ACC24: 4 | ACD24: 4 | ACE24: 5 | ACF24: 4 | ACG24: 5 | ACH24: 4 | ACI24: 4 | ACJ24: 5 | ACK24: 5 | ACL24: 4 | ACM24: 5 | ACN24: 3 | ACO24: 5 | ACP24: 4 | ACQ24: 5 | ACR24: 4 | ACS24: 5 | ACT24: 4 | ACU24: 5 | ACV24: 5 | ACW24: 5 | ACX24: 4 | ACY24: 4 | ACZ24: 4 | ADA24: 5 | ADB24: 5 | ADC24: 2 | ADD24: 5 | ADE24: 4 | ADF24: 4 | ADG24: 5 | ADH24: 4 | ADI24: 4 | ADJ24: 4 | ADK24: 5 | ADL24: 5 | ADM24: 5 | ADN24: 5 | ADO24: 3 | ADP24: 5 | ADQ24: 3 | ADR24: 4 | ADS24: 4 | ADT24: 5 | ADU24: 5 | ADV24: 5 | ADW24: 4 | ADX24: 5 | ADY24: 4 | ADZ24: 5 | AEA24: 4 | AEB24: 5 | AEC24: 5 | AED24: 5 | AEE24: 5 | AEF24: 5 | AEG24: 4 | AEH24: 2 | AEI24: 4 | AEJ24: 4 | AEK24: 5 | AEL24: 5 | AEM24: 5 | AEN24: 5 | AEO24: 5 | AEP24: 5 | AEQ24: 4 | AER24: 5 | AES24: 5 | AET24: 4 | AEU24: 4 | AEV24: 3 | AEW24: 5 | AEX24: 5 | AEY24: 5 | AEZ24: 5 | AFA24: 4 | AFB24: 5 | AFC24: 5 | AFD24: =AVERAGE(Tabela63[[#This Row],[1]:[832]]) -> 4.5576923 | AFE24: =SKEW(Tabela63[[#This Row],[1]:[832]]) -> -2.726601 | AFF24: =STDEV(Tabela63[[#This Row],[1]:[832]]) -> 0.7828108 | AFG24: 0.8714365
A25: 23 | B25: 5 | C25: Independência | D25: 3 | E25: 5 | F25: 4 | G25: 4 | H25: 5 | I25: 5 | J25: 4 | K25: 4 | L25: 4 | M25: 5 | N25: 5 | O25: 5 | P25: 4 | Q25: 5 | R25: 3 | S25: 4 | T25: 4 | U25: 5 | V25: 5 | W25: 5 | X25: 4 | Y25: 5 | Z25: 4 | AA25: 5 | AB25: 5 | AC25: 4 | AD25: 4 | AE25: 5 | AF25: 0 | AG25: 4 | AH25: 5 | AI25: 4 | AJ25: 5 | AK25: 5 | AL25: 4 | AM25: 4 | AN25: 5 | AO25: 5 | AP25: 5 | AQ25: 4 | AR25: 4 | AS25: 4 | AT25: 5 | AU25: 4 | AV25: 5 | AW25: 5 | AX25: 3 | AY25: 4 | AZ25: 4 | BA25: 4 | BB25: 4 | BC25: 4 | BD25: 3 | BE25: 3 | BF25: 3 | BG25: 3 | BH25: 4 | BI25: 4 | BJ25: 4 | BK25: 4 | BL25: 4 | BM25: 4 | BN25: 5 | BO25: 4 | BP25: 4 | BQ25: 4 | BR25: 5 | BS25: 4 | BT25: 4 | BU25: 3 | BV25: 5 | BW25: 5 | BX25: 5 | BY25: 4 | BZ25: 4 | CA25: 4 | CB25: 4 | CC25: 4 | CD25: 4 | CE25: 5 | CF25: 4 | CG25: 4 | CH25: 5 | CI25: 3 | CJ25: 4 | CK25: 5 | CL25: 5 | CM25: 5 | CN25: 5 | CO25: 5 | CP25: 4 | CQ25: 5 | CR25: 4 | CS25: 4 | CT25: 4 | CU25: 4 | CV25: 4 | CW25: 4 | CX25: 5 | CY25: 4 | CZ25: 4 | DA25: 4 | DB25: 4 | DC25: 3 | DD25: 5 | DE25: 4 | DF25: 4 | DG25: 4 | DH25: 4 | DI25: 4 | DJ25: 5 | DK25: 3 | DL25: 4 | DM25: 4 | DN25: 2 | DO25: 4 | DP25: 5 | DQ25: 4 | DR25: 5 | DS25: 5 | DT25: 5 | DU25: 4 | DV25: 4 | DW25: 4 | DX25: 4 | DY25: 5 | DZ25: 4 | EA25: 5 | EB25: 5 | EC25: 5 | ED25: 5 | EE25: 4 | EF25: 3 | EG25: 5 | EH25: 4 | EI25: 4 | EJ25: 5 | EK25: 5 | EL25: 4 | EM25: 5 | EN25: 5 | EO25: 4 | EP25: 4 | EQ25: 5 | ER25: 5 | ES25: 4 | ET25: 4 | EU25: 4 | EV25: 3 | EW25: 5 | EX25: 3 | EY25: 5 | EZ25: 4 | FA25: 5 | FB25: 4 | FC25: 5 | FD25: 3 | FE25: 5 | FF25: 5 | FG25: 4 | FH25: 5 | FI25: 4 | FJ25: 5 | FK25: 4 | FL25: 4 | FM25: 5 | FN25: 4 | FO25: 5 | FP25: 5 | FQ25: 5 | FR25: 5 | FS25: 5 | FT25: 3 | FU25: 5 | FV25: 5 | FW25: 5 | FX25: 4 | FY25: 5 | FZ25: 3 | GA25: 4 | GB25: 4 | GC25: 4 | GD25: 3 | GE25: 4 | GF25: 3 | GG25: 5 | GH25: 5 | GI25: 5 | GJ25: 4 | GK25: 4 | GL25: 5 | GM25: 5 | GN25: 5 | GO25: 4 | GP25: 4 | GQ25: 4 | GR25: 4 | GS25: 4 | GT25: 3 | GU25: 5 | GV25: 5 | GW25: 4 | GX25: 5 | GY25: 4 | GZ25: 4 | HA25: 5 | HB25: 3 | HC25: 5 | HD25: 0 | HE25: 5 | HF25: 5 | HG25: 4 | HH25: 5 | HI25: 4 | HJ25: 3 | HK25: 4 | HL25: 5 | HM25: 4 | HN25: 4 | HO25: 5 | HP25: 2 | HQ25: 5 | HR25: 4 | HS25: 4 | HT25: 5 | HU25: 4 | HV25: 3 | HW25: 4 | HX25: 4 | HY25: 3 | HZ25: 5 | IA25: 5 | IB25: 4 | IC25: 4 | ID25: 3 | IE25: 3 | IF25: 0 | IG25: 4 | IH25: 4 | II25: 4 | IJ25: 3 | IK25: 3 | IL25: 4 | IM25: 5 | IN25: 5 | IO25: 4 | IP25: 5 | IQ25: 5 | IR25: 4 | IS25: 3 | IT25: 4 | IU25: 5 | IV25: 5 | IW25: 3 | IX25: 4 | IY25: 5 | IZ25: 5 | JA25: 4 | JB25: 5 | JC25: 5 | JD25: 5 | JE25: 5 | JF25: 4 | JG25: 4 | JH25: 4 | JI25: 4 | JJ25: 5 | JK25: 0 | JL25: 4 | JM25: 4 | JN25: 4 | JO25: 5 | JP25: 4 | JQ25: 5 | JR25: 4 | JS25: 5 | JT25: 4 | JU25: 5 | JV25: 5 | JW25: 4 | JX25: 3 | JY25: 5 | JZ25: 4 | KA25: 5 | KB25: 4 | KC25: 5 | KD25: 5 | KE25: 5 | KF25: 4 | KG25: 3 | KH25: 5 | KI25: 5 | KJ25: 5 | KK25: 4 | KL25: 4 | KM25: 4 | KN25: 5 | KO25: 5 | KP25: 4 | KQ25: 5 | KR25: 4 | KS25: 4 | KT25: 4 | KU25: 4 | KV25: 4 | KW25: 5 | KX25: 3 | KY25: 5 | KZ25: 4 | LA25: 5 | LB25: 5 | LC25: 4 | LD25: 5 | LE25: 4 | LF25: 4 | LG25: 5 | LH25: 5 | LI25: 3 | LJ25: 5 | LK25: 5 | LL25: 5 | LM25: 4 | LN25: 4 | LO25: 5 | LP25: 5 | LQ25: 5 | LR25: 5 | LS25: 4 | LT25: 4 | LU25: 0 | LV25: 4 | LW25: 4 | LX25: 5 | LY25: 5 | LZ25: 5 | MA25: 4 | MB25: 5 | MC25: 3 | MD25: 3 | ME25: 4 | MF25: 4 | MG25: 3 | MH25: 4 | MI25: 5 | MJ25: 5 | MK25: 5 | ML25: 5 | MM25: 4 | MN25: 5 | MO25: 5 | MP25: 4 | MQ25: 4 | MR25: 4 | MS25: 4 | MT25: 3 | MU25: 4 | MV25: 5 | MW25: 5 | MX25: 5 | MY25: 4 | MZ25: 4 | NA25: 5 | NB25: 5 | NC25: 5 | ND25: 4 | NE25: 5 | NF25: 4 | NG25: 4 | NH25: 4 | NI25: 4 | NJ25: 3 | NK25: 3 | NL25: 4 | NM25: 5 | NN25: 4 | NO25: 4 | NP25: 5 | NQ25: 5 | NR25: 5 | NS25: 3 | NT25: 5 | NU25: 4 | NV25: 4 | NW25: 4 | NX25: 5 | NY25: 5 | NZ25: 5 | OA25: 5 | OB25: 4 | OC25: 4 | OD25: 4 | OE25: 3 | OF25: 5 | OG25: 4 | OH25: 5 | OI25: 4 | OJ25: 4 | OK25: 5 | OL25: 5 | OM25: 4 | ON25: 5 | OO25: 5 | OP25: 3 | OQ25: 5 | OR25: 4 | OS25: 3 | OT25: 5 | OU25: 5 | OV25: 4 | OW25: 4 | OX25: 5 | OY25: 4 | OZ25: 5 | PA25: 4 | PB25: 4 | PC25: 5 | PD25: 4 | PE25: 4 | PF25: 5 | PG25: 0 | PH25: 4 | PI25: 5 | PJ25: 5 | PK25: 5 | PL25: 2 | PM25: 4 | PN25: 5 | PO25: 4 | PP25: 5 | PQ25: 3 | PR25: 3 | PS25: 5 | PT25: 2 | PU25: 5 | PV25: 5 | PW25: 5 | PX25: 5 | PY25: 4 | PZ25: 3 | QA25: 4 | QB25: 4 | QC25: 4 | QD25: 5 | QE25: 5 | QF25: 5 | QG25: 3 | QH25: 5 | QI25: 4 | QJ25: 5 | QK25: 4 | QL25: 4 | QM25: 5 | QN25: 5 | QO25: 4 | QP25: 4 | QQ25: 4 | QR25: 4 | QS25: 3 | QT25: 4 | QU25: 5 | QV25: 4 | QW25: 5 | QX25: 5 | QY25: 4 | QZ25: 4 | RA25: 4 | RB25: 4 | RC25: 4 | RD25: 5 | RE25: 3 | RF25: 4 | RG25: 3 | RH25: 5 | RI25: 4 | RJ25: 5 | RK25: 4 | RL25: 4 | RM25: 4 | RN25: 3 | RO25: 4 | RP25: 5 | RQ25: 4 | RR25: 5 | RS25: 3 | RT25: 5 | RU25: 5 | RV25: 1 | RW25: 4 | RX25: 4 | RY25: 4 | RZ25: 4 | SA25: 4 | SB25: 5 | SC25: 5 | SD25: 3 | SE25: 4 | SF25: 4 | SG25: 4 | SH25: 4 | SI25: 5 | SJ25: 5 | SK25: 5 | SL25: 5 | SM25: 4 | SN25: 4 | SO25: 4 | SP25: 5 | SQ25: 4 | SR25: 4 | SS25: 5 | ST25: 5 | SU25: 5 | SV25: 4 | SW25: 4 | SX25: 4 | SY25: 4 | SZ25: 5 | TA25: 4 | TB25: 5 | TC25: 5 | TD25: 5 | TE25: 4 | TF25: 4 | TG25: 3 | TH25: 4 | TI25: 3 | TJ25: 5 | TK25: 2 | TL25: 4 | TM25: 5 | TN25: 4 | TO25: 5 | TP25: 4 | TQ25: 4 | TR25: 5 | TS25: 4 | TT25: 5 | TU25: 4 | TV25: 4 | TW25: 3 | TX25: 4 | TY25: 3 | TZ25: 4 | UA25: 4 | UB25: 5 | UC25: 5 | UD25: 5 | UE25: 4 | UF25: 5 | UG25: 4 | UH25: 5 | UI25: 4 | UJ25: 5 | UK25: 4 | UL25: 4 | UM25: 4 | UN25: 5 | UO25: 3 | UP25: 4 | UQ25: 4 | UR25: 4 | US25: 5 | UT25: 5 | UU25: 5 | UV25: 4 | UW25: 5 | UX25: 4 | UY25: 1 | UZ25: 3 | VA25: 4 | VB25: 5 | VC25: 4 | VD25: 5 | VE25: 4 | VF25: 5 | VG25: 5 | VH25: 4 | VI25: 4 | VJ25: 4 | VK25: 5 | VL25: 4 | VM25: 3 | VN25: 4 | VO25: 4 | VP25: 4 | VQ25: 5 | VR25: 5 | VS25: 5 | VT25: 4 | VU25: 5 | VV25: 5 | VW25: 4 | VX25: 4 | VY25: 4 | VZ25: 4 | WA25: 4 | WB25: 5 | WC25: 5 | WD25: 0 | WE25: 5 | WF25: 5 | WG25: 4 | WH25: 4 | WI25: 5 | WJ25: 5 | WK25: 4 | WL25: 4 | WM25: 5 | WN25: 5 | WO25: 5 | WP25: 5 | WQ25: 4 | WR25: 5 | WS25: 5 | WT25: 5 | WU25: 4 | WV25: 4 | WW25: 4 | WX25: 4 | WY25: 5 | WZ25: 5 | XA25: 3 | XB25: 4 | XC25: 5 | XD25: 5 | XE25: 4 | XF25: 5 | XG25: 5 | XH25: 5 | XI25: 5 | XJ25: 5 | XK25: 5 | XL25: 5 | XM25: 4 | XN25: 5 | XO25: 4 | XP25: 4 | XQ25: 5 | XR25: 4 | XS25: 5 | XT25: 3 | XU25: 5 | XV25: 4 | XW25: 5 | XX25: 4 | XY25: 4 | XZ25: 4 | YA25: 5 | YB25: 4 | YC25: 3 | YD25: 4 | YE25: 4 | YF25: 5 | YG25: 4 | YH25: 3 | YI25: 3 | YJ25: 5 | YK25: 4 | YL25: 5 | YM25: 4 | YN25: 5 | YO25: 4 | YP25: 3 | YQ25: 4 | YR25: 5 | YS25: 5 | YT25: 4 | YU25: 2 | YV25: 5 | YW25: 4 | YX25: 5 | YY25: 4 | YZ25: 4 | ZA25: 5 | ZB25: 4 | ZC25: 4 | ZD25: 5 | ZE25: 5 | ZF25: 4 | ZG25: 4 | ZH25: 5 | ZI25: 5 | ZJ25: 4 | ZK25: 0 | ZL25: 5 | ZM25: 5 | ZN25: 5 | ZO25: 4 | ZP25: 5 | ZQ25: 5 | ZR25: 5 | ZS25: 5 | ZT25: 4 | ZU25: 4 | ZV25: 3 | ZW25: 4 | ZX25: 4 | ZY25: 3 | ZZ25: 2 | AAA25: 4 | AAB25: 4 | AAC25: 4 | AAD25: 5 | AAE25: 5 | AAF25: 5 | AAG25: 4 | AAH25: 4 | AAI25: 4 | AAJ25: 4 | AAK25: 5 | AAL25: 4 | AAM25: 3 | AAN25: 5 | AAO25: 4 | AAP25: 1 | AAQ25: 5 | AAR25: 5 | AAS25: 5 | AAT25: 5 | AAU25: 4 | AAV25: 4 | AAW25: 4 | AAX25: 5 | AAY25: 4 | AAZ25: 5 | ABA25: 4 | ABB25: 5 | ABC25: 3 | ABD25: 4 | ABE25: 5 | ABF25: 5 | ABG25: 5 | ABH25: 4 | ABI25: 3 | ABJ25: 4 | ABK25: 1 | ABL25: 1 | ABM25: 5 | ABN25: 2 | ABO25: 4 | ABP25: 5 | ABQ25: 3 | ABR25: 4 | ABS25: 4 | ABT25: 4 | ABU25: 3 | ABV25: 4 | ABW25: 5 | ABX25: 4 | ABY25: 3 | ABZ25: 4 | ACA25: 4 | ACB25: 3 | ACC25: 4 | ACD25: 4 | ACE25: 5 | ACF25: 5 | ACG25: 5 | ACH25: 4 | ACI25: 4 | ACJ25: 4 | ACK25: 4 | ACL25: 4 | ACM25: 3 | ACN25: 3 | ACO25: 4 | ACP25: 4 | ACQ25: 4 | ACR25: 5 | ACS25: 4 | ACT25: 4 | ACU25: 4 | ACV25: 5 | ACW25: 5 | ACX25: 4 | ACY25: 4 | ACZ25: 4 | ADA25: 2 | ADB25: 5 | ADC25: 2 | ADD25: 5 | ADE25: 4 | ADF25: 4 | ADG25: 4 | ADH25: 4 | ADI25: 4 | ADJ25: 4 | ADK25: 5 | ADL25: 5 | ADM25: 5 | ADN25: 4 | ADO25: 4 | ADP25: 5 | ADQ25: 3 | ADR25: 3 | ADS25: 3 | ADT25: 5 | ADU25: 4 | ADV25: 5 | ADW25: 4 | ADX25: 5 | ADY25: 4 | ADZ25: 4 | AEA25: 5 | AEB25: 4 | AEC25: 4 | AED25: 5 | AEE25: 4 | AEF25: 5 | AEG25: 4 | AEH25: 3 | AEI25: 5 | AEJ25: 4 | AEK25: 5 | AEL25: 5 | AEM25: 5 | AEN25: 4 | AEO25: 4 | AEP25: 5 | AEQ25: 4 | AER25: 5 | AES25: 4 | AET25: 4 | AEU25: 4 | AEV25: 4 | AEW25: 3 | AEX25: 5 | AEY25: 4 | AEZ25: 5 | AFA25: 4 | AFB25: 4 | AFC25: 5 | AFD25: =AVERAGE(Tabela63[[#This Row],[1]:[832]]) -> 4.2247596 | AFE25: =SKEW(Tabela63[[#This Row],[1]:[832]]) -> -1.7718897 | AFF25: =STDEV(Tabela63[[#This Row],[1]:[832]]) -> 0.84330017 | AFG25: 0.86764028
A26: 24 | B26: 6 | C26: Possibilidade de progressão na carreira | D26: 4 | E26: 4 | F26: 5 | G26: 4 | H26: 3 | I26: 4 | J26: 5 | K26: 5 | L26: 5 | M26: 5 | N26: 5 | O26: 5 | P26: 5 | Q26: 5 | R26: 3 | S26: 4 | T26: 4 | U26: 5 | V26: 5 | W26: 5 | X26: 4 | Y26: 3 | Z26: 3 | AA26: 5 | AB26: 5 | AC26: 5 | AD26: 5 | AE26: 5 | AF26: 0 | AG26: 5 | AH26: 5 | AI26: 5 | AJ26: 5 | AK26: 5 | AL26: 5 | AM26: 4 | AN26: 5 | AO26: 5 | AP26: 5 | AQ26: 4 | AR26: 5 | AS26: 5 | AT26: 5 | AU26: 4 | AV26: 5 | AW26: 5 | AX26: 4 | AY26: 5 | AZ26: 4 | BA26: 4 | BB26: 4 | BC26: 4 | BD26: 2 | BE26: 5 | BF26: 1 | BG26: 4 | BH26: 4 | BI26: 3 | BJ26: 5 | BK26: 4 | BL26: 4 | BM26: 5 | BN26: 5 | BO26: 5 | BP26: 5 | BQ26: 4 | BR26: 5 | BS26: 4 | BT26: 5 | BU26: 4 | BV26: 5 | BW26: 5 | BX26: 5 | BY26: 5 | BZ26: 4 | CA26: 4 | CB26: 4 | CC26: 5 | CD26: 5 | CE26: 5 | CF26: 4 | CG26: 5 | CH26: 5 | CI26: 3 | CJ26: 5 | CK26: 4 | CL26: 5 | CM26: 5 | CN26: 5 | CO26: 5 | CP26: 5 | CQ26: 5 | CR26: 4 | CS26: 5 | CT26: 4 | CU26: 5 | CV26: 4 | CW26: 4 | CX26: 5 | CY26: 4 | CZ26: 4 | DA26: 4 | DB26: 4 | DC26: 4 | DD26: 5 | DE26: 5 | DF26: 5 | DG26: 5 | DH26: 5 | DI26: 5 | DJ26: 5 | DK26: 4 | DL26: 4 | DM26: 4 | DN26: 4 | DO26: 5 | DP26: 5 | DQ26: 4 | DR26: 4 | DS26: 5 | DT26: 5 | DU26: 5 | DV26: 4 | DW26: 4 | DX26: 4 | DY26: 4 | DZ26: 5 | EA26: 5 | EB26: 5 | EC26: 5 | ED26: 4 | EE26: 5 | EF26: 5 | EG26: 5 | EH26: 3 | EI26: 4 | EJ26: 4 | EK26: 4 | EL26: 4 | EM26: 5 | EN26: 5 | EO26: 4 | EP26: 5 | EQ26: 5 | ER26: 5 | ES26: 3 | ET26: 5 | EU26: 3 | EV26: 5 | EW26: 5 | EX26: 4 | EY26: 5 | EZ26: 4 | FA26: 5 | FB26: 5 | FC26: 5 | FD26: 5 | FE26: 3 | FF26: 5 | FG26: 4 | FH26: 5 | FI26: 4 | FJ26: 5 | FK26: 4 | FL26: 5 | FM26: 5 | FN26: 4 | FO26: 5 | FP26: 5 | FQ26: 5 | FR26: 5 | FS26: 4 | FT26: 4 | FU26: 5 | FV26: 5 | FW26: 4 | FX26: 4 | FY26: 5 | FZ26: 5 | GA26: 4 | GB26: 5 | GC26: 5 | GD26: 5 | GE26: 4 | GF26: 5 | GG26: 5 | GH26: 5 | GI26: 5 | GJ26: 5 | GK26: 4 | GL26: 4 | GM26: 5 | GN26: 5 | GO26: 4 | GP26: 2 | GQ26: 4 | GR26: 4 | GS26: 5 | GT26: 4 | GU26: 4 | GV26: 5 | GW26: 4 | GX26: 5 | GY26: 5 | GZ26: 4 | HA26: 5 | HB26: 1 | HC26: 5 | HD26: 1 | HE26: 4 | HF26: 5 | HG26: 5 | HH26: 5 | HI26: 5 | HJ26: 4 | HK26: 5 | HL26: 4 | HM26: 5 | HN26: 4 | HO26: 4 | HP26: 5 | HQ26: 5 | HR26: 4 | HS26: 3 | HT26: 4 | HU26: 5 | HV26: 5 | HW26: 4 | HX26: 4 | HY26: 4 | HZ26: 5 | IA26: 5 | IB26: 4 | IC26: 4 | ID26: 3 | IE26: 4 | IF26: 4 | IG26: 4 | IH26: 5 | II26: 5 | IJ26: 5 | IK26: 4 | IL26: 4 | IM26: 4 | IN26: 4 | IO26: 4 | IP26: 5 | IQ26: 5 | IR26: 4 | IS26: 5 | IT26: 4 | IU26: 5 | IV26: 5 | IW26: 3 | IX26: 4 | IY26: 5 | IZ26: 5 | JA26: 4 | JB26: 5 | JC26: 5 | JD26: 5 | JE26: 4 | JF26: 4 | JG26: 4 | JH26: 5 | JI26: 5 | JJ26: 5 | JK26: 5 | JL26: 5 | JM26: 1 | JN26: 5 | JO26: 5 | JP26: 4 | JQ26: 5 | JR26: 5 | JS26: 3 | JT26: 4 | JU26: 4 | JV26: 5 | JW26: 5 | JX26: 3 | JY26: 4 | JZ26: 4 | KA26: 5 | KB26: 5 | KC26: 5 | KD26: 5 | KE26: 5 | KF26: 4 | KG26: 5 | KH26: 5 | KI26: 5 | KJ26: 5 | KK26: 1 | KL26: 5 | KM26: 5 | KN26: 5 | KO26: 4 | KP26: 4 | KQ26: 4 | KR26: 4 | KS26: 5 | KT26: 5 | KU26: 5 | KV26: 4 | KW26: 5 | KX26: 5 | KY26: 5 | KZ26: 5 | LA26: 5 | LB26: 5 | LC26: 4 | LD26: 5 | LE26: 5 | LF26: 5 | LG26: 5 | LH26: 5 | LI26: 5 | LJ26: 5 | LK26: 4 | LL26: 0 | LM26: 4 | LN26: 5 | LO26: 5 | LP26: 5 | LQ26: 5 | LR26: 5 | LS26: 5 | LT26: 4 | LU26: 2 | LV26: 5 | LW26: 2 | LX26: 5 | LY26: 5 | LZ26: 4 | MA26: 5 | MB26: 5 | MC26: 4 | MD26: 5 | ME26: 4 | MF26: 4 | MG26: 0 | MH26: 3 | MI26: 5 | MJ26: 5 | MK26: 5 | ML26: 5 | MM26: 4 | MN26: 5 | MO26: 5 | MP26: 4 | MQ26: 5 | MR26: 5 | MS26: 5 | MT26: 2 | MU26: 5 | MV26: 5 | MW26: 5 | MX26: 5 | MY26: 4 | MZ26: 3 | NA26: 4 | NB26: 1 | NC26: 5 | ND26: 5 | NE26: 5 | NF26: 4 | NG26: 5 | NH26: 4 | NI26: 4 | NJ26: 2 | NK26: 1 | NL26: 5 | NM26: 5 | NN26: 5 | NO26: 4 | NP26: 5 | NQ26: 5 | NR26: 5 | NS26: 5 | NT26: 5 | NU26: 5 | NV26: 5 | NW26: 5 | NX26: 5 | NY26: 5 | NZ26: 5 | OA26: 5 | OB26: 4 | OC26: 5 | OD26: 4 | OE26: 4 | OF26: 5 | OG26: 5 | OH26: 5 | OI26: 5 | OJ26: 5 | OK26: 5 | OL26: 5 | OM26: 4 | ON26: 5 | OO26: 5 | OP26: 5 | OQ26: 5 | OR26: 4 | OS26: 4 | OT26: 5 | OU26: 5 | OV26: 4 | OW26: 4 | OX26: 4 | OY26: 5 | OZ26: 5 | PA26: 5 | PB26: 5 | PC26: 4 | PD26: 4 | PE26: 4 | PF26: 4 | PG26: 0 | PH26: 5 | PI26: 5 | PJ26: 5 | PK26: 5 | PL26: 1 | PM26: 5 | PN26: 5 | PO26: 5 | PP26: 5 | PQ26: 4 | PR26: 4 | PS26: 5 | PT26: 1 | PU26: 4 | PV26: 5 | PW26: 5 | PX26: 5 | PY26: 4 | PZ26: 4 | QA26: 4 | QB26: 5 | QC26: 4 | QD26: 5 | QE26: 4 | QF26: 5 | QG26: 2 | QH26: 5 | QI26: 5 | QJ26: 5 | QK26: 5 | QL26: 4 | QM26: 4 | QN26: 4 | QO26: 5 | QP26: 5 | QQ26: 5 | QR26: 5 | QS26: 4 | QT26: 5 | QU26: 5 | QV26: 4 | QW26: 5 | QX26: 5 | QY26: 5 | QZ26: 5 | RA26: 5 | RB26: 5 | RC26: 4 | RD26: 5 | RE26: 4 | RF26: 5 | RG26: 3 | RH26: 4 | RI26: 4 | RJ26: 5 | RK26: 5 | RL26: 5 | RM26: 5 | RN26: 5 | RO26: 1 | RP26: 3 | RQ26: 5 | RR26: 5 | RS26: 5 | RT26: 5 | RU26: 5 | RV26: 5 | RW26: 5 | RX26: 4 | RY26: 5 | RZ26: 5 | SA26: 4 | SB26: 3 | SC26: 5 | SD26: 4 | SE26: 4 | SF26: 5 | SG26: 5 | SH26: 4 | SI26: 2 | SJ26: 5 | SK26: 5 | SL26: 5 | SM26: 5 | SN26: 5 | SO26: 4 | SP26: 5 | SQ26: 5 | SR26: 5 | SS26: 5 | ST26: 4 | SU26: 5 | SV26: 4 | SW26: 5 | SX26: 5 | SY26: 5 | SZ26: 5 | TA26: 4 | TB26: 5 | TC26: 4 | TD26: 5 | TE26: 4 | TF26: 4 | TG26: 4 | TH26: 5 | TI26: 5 | TJ26: 5 | TK26: 5 | TL26: 4 | TM26: 4 | TN26: 5 | TO26: 5 | TP26: 4 | TQ26: 4 | TR26: 5 | TS26: 5 | TT26: 5 | TU26: 5 | TV26: 5 | TW26: 0 | TX26: 4 | TY26: 4 | TZ26: 4 | UA26: 4 | UB26: 5 | UC26: 5 | UD26: 5 | UE26: 4 | UF26: 5 | UG26: 5 | UH26: 5 | UI26: 5 | UJ26: 4 | UK26: 5 | UL26: 4 | UM26: 5 | UN26: 4 | UO26: 5 | UP26: 5 | UQ26: 5 | UR26: 3 | US26: 5 | UT26: 5 | UU26: 5 | UV26: 5 | UW26: 5 | UX26: 5 | UY26: 0 | UZ26: 5 | VA26: 5 | VB26: 5 | VC26: 5 | VD26: 5 | VE26: 5 | VF26: 5 | VG26: 5 | VH26: 4 | VI26: 5 | VJ26: 5 | VK26: 5 | VL26: 4 | VM26: 3 | VN26: 5 | VO26: 5 | VP26: 3 | VQ26: 5 | VR26: 5 | VS26: 4 | VT26: 5 | VU26: 5 | VV26: 5 | VW26: 5 | VX26: 5 | VY26: 4 | VZ26: 5 | WA26: 3 | WB26: 5 | WC26: 5 | WD26: 4 | WE26: 5 | WF26: 5 | WG26: 4 | WH26: 5 | WI26: 5 | WJ26: 5 | WK26: 3 | WL26: 5 | WM26: 5 | WN26: 5 | WO26: 5 | WP26: 5 | WQ26: 5 | WR26: 5 | WS26: 5 | WT26: 5 | WU26: 4 | WV26: 3 | WW26: 5 | WX26: 5 | WY26: 4 | WZ26: 5 | XA26: 5 | XB26: 4 | XC26: 5 | XD26: 5 | XE26: 5 | XF26: 5 | XG26: 5 | XH26: 5 | XI26: 4 | XJ26: 5 | XK26: 5 | XL26: 5 | XM26: 4 | XN26: 5 | XO26: 5 | XP26: 5 | XQ26: 5 | XR26: 4 | XS26: 5 | XT26: 5 | XU26: 4 | XV26: 4 | XW26: 5 | XX26: 5 | XY26: 3 | XZ26: 3 | YA26: 5 | YB26: 5 | YC26: 4 | YD26: 5 | YE26: 5 | YF26: 5 | YG26: 5 | YH26: 4 | YI26: 5 | YJ26: 5 | YK26: 5 | YL26: 5 | YM26: 5 | YN26: 4 | YO26: 5 | YP26: 4 | YQ26: 4 | YR26: 5 | YS26: 4 | YT26: 5 | YU26: 5 | YV26: 5 | YW26: 5 | YX26: 4 | YY26: 4 | YZ26: 5 | ZA26: 4 | ZB26: 5 | ZC26: 4 | ZD26: 5 | ZE26: 5 | ZF26: 5 | ZG26: 4 | ZH26: 5 | ZI26: 5 | ZJ26: 5 | ZK26: 5 | ZL26: 5 | ZM26: 5 | ZN26: 5 | ZO26: 5 | ZP26: 5 | ZQ26: 5 | ZR26: 5 | ZS26: 4 | ZT26: 5 | ZU26: 5 | ZV26: 3 | ZW26: 5 | ZX26: 5 | ZY26: 3 | ZZ26: 1 | AAA26: 5 | AAB26: 5 | AAC26: 4 | AAD26: 5 | AAE26: 4 | AAF26: 5 | AAG26: 3 | AAH26: 5 | AAI26: 4 | AAJ26: 5 | AAK26: 5 | AAL26: 1 | AAM26: 5 | AAN26: 5 | AAO26: 5 | AAP26: 5 | AAQ26: 5 | AAR26: 5 | AAS26: 5 | AAT26: 5 | AAU26: 4 | AAV26: 5 | AAW26: 5 | AAX26: 5 | AAY26: 5 | AAZ26: 5 | ABA26: 5 | ABB26: 5 | ABC26: 3 | ABD26: 5 | ABE26: 5 | ABF26: 5 | ABG26: 5 | ABH26: 5 | ABI26: 3 | ABJ26: 5 | ABK26: 1 | ABL26: 1 | ABM26: 5 | ABN26: 1 | ABO26: 5 | ABP26: 4 | ABQ26: 3 | ABR26: 5 | ABS26: 5 | ABT26: 5 | ABU26: 4 | ABV26: 5 | ABW26: 5 | ABX26: 5 | ABY26: 5 | ABZ26: 4 | ACA26: 4 | ACB26: 3 | ACC26: 5 | ACD26: 4 | ACE26: 4 | ACF26: 1 | ACG26: 5 | ACH26: 1 | ACI26: 5 | ACJ26: 4 | ACK26: 5 | ACL26: 4 | ACM26: 5 | ACN26: 3 | ACO26: 4 | ACP26: 5 | ACQ26: 4 | ACR26: 5 | ACS26: 5 | ACT26: 5 | ACU26: 4 | ACV26: 5 | ACW26: 5 | ACX26: 4 | ACY26: 4 | ACZ26: 3 | ADA26: 4 | ADB26: 5 | ADC26: 1 | ADD26: 5 | ADE26: 3 | ADF26: 4 | ADG26: 4 | ADH26: 3 | ADI26: 5 | ADJ26: 5 | ADK26: 5 | ADL26: 4 | ADM26: 5 | ADN26: 4 | ADO26: 4 | ADP26: 5 | ADQ26: 2 | ADR26: 5 | ADS26: 5 | ADT26: 4 | ADU26: 5 | ADV26: 3 | ADW26: 4 | ADX26: 4 | ADY26: 4 | ADZ26: 4 | AEA26: 5 | AEB26: 4 | AEC26: 5 | AED26: 5 | AEE26: 4 | AEF26: 5 | AEG26: 4 | AEH26: 3 | AEI26: 4 | AEJ26: 5 | AEK26: 5 | AEL26: 5 | AEM26: 5 | AEN26: 4 | AEO26: 5 | AEP26: 4 | AEQ26: 4 | AER26: 5 | AES26: 5 | AET26: 5 | AEU26: 4 | AEV26: 4 | AEW26: 3 | AEX26: 5 | AEY26: 5 | AEZ26: 4 | AFA26: 4 | AFB26: 4 | AFC26: 5 | AFD26: =AVERAGE(Tabela63[[#This Row],[1]:[832]]) -> 4.4459135 | AFE26: =SKEW(Tabela63[[#This Row],[1]:[832]]) -> -2.3779991 | AFF26: =STDEV(Tabela63[[#This Row],[1]:[832]]) -> 0.90430586 | AFG26: 0.86171205
A27: 25 | B27: 7 | C27: Recompensas intrínsecas | D27: 1 | E27: 4 | F27: 4 | G27: 4 | H27: 3 | I27: 3 | J27: 5 | K27: 5 | L27: 4 | M27: 5 | N27: 5 | O27: 3 | P27: 5 | Q27: 5 | R27: 3 | S27: 4 | T27: 4 | U27: 5 | V27: 5 | W27: 5 | X27: 5 | Y27: 0 | Z27: 4 | AA27: 5 | AB27: 5 | AC27: 5 | AD27: 4 | AE27: 5 | AF27: 0 | AG27: 4 | AH27: 5 | AI27: 4 | AJ27: 5 | AK27: 5 | AL27: 2 | AM27: 4 | AN27: 5 | AO27: 5 | AP27: 0 | AQ27: 2 | AR27: 5 | AS27: 5 | AT27: 3 | AU27: 4 | AV27: 5 | AW27: 5 | AX27: 4 | AY27: 4 | AZ27: 4 | BA27: 3 | BB27: 4 | BC27: 4 | BD27: 3 | BE27: 3 | BF27: 1 | BG27: 2 | BH27: 4 | BI27: 3 | BJ27: 5 | BK27: 4 | BL27: 4 | BM27: 5 | BN27: 4 | BO27: 5 | BP27: 5 | BQ27: 4 | BR27: 5 | BS27: 3 | BT27: 5 | BU27: 4 | BV27: 5 | BW27: 3 | BX27: 5 | BY27: 4 | BZ27: 3 | CA27: 4 | CB27: 4 | CC27: 5 | CD27: 5 | CE27: 5 | CF27: 4 | CG27: 4 | CH27: 5 | CI27: 4 | CJ27: 4 | CK27: 4 | CL27: 5 | CM27: 5 | CN27: 5 | CO27: 3 | CP27: 5 | CQ27: 4 | CR27: 3 | CS27: 3 | CT27: 4 | CU27: 4 | CV27: 4 | CW27: 4 | CX27: 5 | CY27: 4 | CZ27: 4 | DA27: 5 | DB27: 4 | DC27: 4 | DD27: 5 | DE27: 4 | DF27: 4 | DG27: 5 | DH27: 5 | DI27: 4 | DJ27: 5 | DK27: 5 | DL27: 4 | DM27: 3 | DN27: 3 | DO27: 5 | DP27: 5 | DQ27: 4 | DR27: 4 | DS27: 5 | DT27: 5 | DU27: 5 | DV27: 3 | DW27: 3 | DX27: 3 | DY27: 4 | DZ27: 4 | EA27: 2 | EB27: 4 | EC27: 5 | ED27: 4 | EE27: 4 | EF27: 5 | EG27: 5 | EH27: 4 | EI27: 4 | EJ27: 5 | EK27: 3 | EL27: 3 | EM27: 5 | EN27: 5 | EO27: 4 | EP27: 5 | EQ27: 5 | ER27: 4 | ES27: 2 | ET27: 4 | EU27: 0 | EV27: 4 | EW27: 5 | EX27: 4 | EY27: 5 | EZ27: 4 | FA27: 0 | FB27: 4 | FC27: 5 | FD27: 4 | FE27: 4 | FF27: 4 | FG27: 4 | FH27: 3 | FI27: 4 | FJ27: 5 | FK27: 4 | FL27: 5 | FM27: 3 | FN27: 5 | FO27: 5 | FP27: 4 | FQ27: 5 | FR27: 5 | FS27: 5 | FT27: 4 | FU27: 5 | FV27: 4 | FW27: 5 | FX27: 4 | FY27: 5 | FZ27: 5 | GA27: 3 | GB27: 5 | GC27: 4 | GD27: 5 | GE27: 5 | GF27: 4 | GG27: 5 | GH27: 1 | GI27: 5 | GJ27: 5 | GK27: 4 | GL27: 5 | GM27: 4 | GN27: 5 | GO27: 3 | GP27: 3 | GQ27: 4 | GR27: 4 | GS27: 5 | GT27: 4 | GU27: 5 | GV27: 5 | GW27: 4 | GX27: 5 | GY27: 5 | GZ27: 4 | HA27: 5 | HB27: 3 | HC27: 5 | HD27: 1 | HE27: 4 | HF27: 4 | HG27: 4 | HH27: 5 | HI27: 4 | HJ27: 3 | HK27: 4 | HL27: 4 | HM27: 5 | HN27: 5 | HO27: 4 | HP27: 4 | HQ27: 5 | HR27: 5 | HS27: 3 | HT27: 0 | HU27: 5 | HV27: 3 | HW27: 3 | HX27: 4 | HY27: 2 | HZ27: 5 | IA27: 4 | IB27: 4 | IC27: 3 | ID27: 4 | IE27: 4 | IF27: 0 | IG27: 3 | IH27: 4 | II27: 4 | IJ27: 5 | IK27: 3 | IL27: 1 | IM27: 3 | IN27: 3 | IO27: 4 | IP27: 5 | IQ27: 3 | IR27: 4 | IS27: 4 | IT27: 4 | IU27: 4 | IV27: 4 | IW27: 4 | IX27: 5 | IY27: 5 | IZ27: 5 | JA27: 4 | JB27: 4 | JC27: 4 | JD27: 5 | JE27: 4 | JF27: 4 | JG27: 3 | JH27: 5 | JI27: 4 | JJ27: 5 | JK27: 0 | JL27: 5 | JM27: 1 | JN27: 4 | JO27: 5 | JP27: 4 | JQ27: 5 | JR27: 4 | JS27: 3 | JT27: 3 | JU27: 3 | JV27: 5 | JW27: 4 | JX27: 4 | JY27: 5 | JZ27: 4 | KA27: 5 | KB27: 4 | KC27: 5 | KD27: 5 | KE27: 5 | KF27: 4 | KG27: 5 | KH27: 5 | KI27: 4 | KJ27: 5 | KK27: 1 | KL27: 5 | KM27: 5 | KN27: 5 | KO27: 5 | KP27: 4 | KQ27: 5 | KR27: 3 | KS27: 5 | KT27: 4 | KU27: 5 | KV27: 4 | KW27: 5 | KX27: 4 | KY27: 5 | KZ27: 5 | LA27: 5 | LB27: 4 | LC27: 5 | LD27: 4 | LE27: 3 | LF27: 5 | LG27: 5 | LH27: 5 | LI27: 5 | LJ27: 5 | LK27: 4 | LL27: 1 | LM27: 4 | LN27: 4 | LO27: 5 | LP27: 5 | LQ27: 5 | LR27: 4 | LS27: 5 | LT27: 4 | LU27: 1 | LV27: 4 | LW27: 2 | LX27: 5 | LY27: 5 | LZ27: 5 | MA27: 5 | MB27: 5 | MC27: 1 | MD27: 4 | ME27: 4 | MF27: 3 | MG27: 0 | MH27: 5 | MI27: 5 | MJ27: 5 | MK27: 5 | ML27: 4 | MM27: 3 | MN27: 5 | MO27: 5 | MP27: 5 | MQ27: 4 | MR27: 4 | MS27: 5 | MT27: 4 | MU27: 5 | MV27: 5 | MW27: 4 | MX27: 5 | MY27: 4 | MZ27: 5 | NA27: 2 | NB27: 1 | NC27: 5 | ND27: 2 | NE27: 1 | NF27: 4 | NG27: 4 | NH27: 4 | NI27: 4 | NJ27: 3 | NK27: 2 | NL27: 5 | NM27: 5 | NN27: 4 | NO27: 4 | NP27: 5 | NQ27: 3 | NR27: 5 | NS27: 5 | NT27: 5 | NU27: 4 | NV27: 5 | NW27: 5 | NX27: 4 | NY27: 4 | NZ27: 5 | OA27: 5 | OB27: 4 | OC27: 4 | OD27: 4 | OE27: 3 | OF27: 5 | OG27: 4 | OH27: 5 | OI27: 3 | OJ27: 4 | OK27: 5 | OL27: 5 | OM27: 4 | ON27: 5 | OO27: 5 | OP27: 3 | OQ27: 5 | OR27: 4 | OS27: 4 | OT27: 4 | OU27: 0 | OV27: 4 | OW27: 4 | OX27: 5 | OY27: 5 | OZ27: 5 | PA27: 4 | PB27: 4 | PC27: 4 | PD27: 3 | PE27: 3 | PF27: 4 | PG27: 0 | PH27: 3 | PI27: 4 | PJ27: 5 | PK27: 5 | PL27: 1 | PM27: 5 | PN27: 5 | PO27: 5 | PP27: 5 | PQ27: 4 | PR27: 5 | PS27: 5 | PT27: 3 | PU27: 5 | PV27: 5 | PW27: 5 | PX27: 5 | PY27: 4 | PZ27: 4 | QA27: 4 | QB27: 4 | QC27: 4 | QD27: 5 | QE27: 4 | QF27: 4 | QG27: 2 | QH27: 4 | QI27: 3 | QJ27: 4 | QK27: 4 | QL27: 4 | QM27: 4 | QN27: 5 | QO27: 5 | QP27: 4 | QQ27: 5 | QR27: 5 | QS27: 4 | QT27: 4 | QU27: 4 | QV27: 4 | QW27: 5 | QX27: 5 | QY27: 4 | QZ27: 5 | RA27: 5 | RB27: 5 | RC27: 4 | RD27: 4 | RE27: 3 | RF27: 4 | RG27: 3 | RH27: 4 | RI27: 4 | RJ27: 5 | RK27: 3 | RL27: 4 | RM27: 5 | RN27: 4 | RO27: 1 | RP27: 2 | RQ27: 5 | RR27: 5 | RS27: 4 | RT27: 4 | RU27: 5 | RV27: 3 | RW27: 5 | RX27: 4 | RY27: 5 | RZ27: 5 | SA27: 3 | SB27: 0 | SC27: 5 | SD27: 3 | SE27: 5 | SF27: 5 | SG27: 5 | SH27: 4 | SI27: 5 | SJ27: 5 | SK27: 1 | SL27: 5 | SM27: 4 | SN27: 5 | SO27: 4 | SP27: 4 | SQ27: 5 | SR27: 5 | SS27: 5 | ST27: 4 | SU27: 5 | SV27: 4 | SW27: 4 | SX27: 5 | SY27: 4 | SZ27: 5 | TA27: 0 | TB27: 4 | TC27: 5 | TD27: 3 | TE27: 3 | TF27: 5 | TG27: 4 | TH27: 4 | TI27: 4 | TJ27: 5 | TK27: 3 | TL27: 5 | TM27: 5 | TN27: 4 | TO27: 4 | TP27: 4 | TQ27: 5 | TR27: 5 | TS27: 5 | TT27: 5 | TU27: 4 | TV27: 4 | TW27: 5 | TX27: 4 | TY27: 5 | TZ27: 4 | UA27: 3 | UB27: 4 | UC27: 5 | UD27: 5 | UE27: 4 | UF27: 5 | UG27: 4 | UH27: 5 | UI27: 5 | UJ27: 4 | UK27: 5 | UL27: 4 | UM27: 5 | UN27: 4 | UO27: 4 | UP27: 4 | UQ27: 3 | UR27: 5 | US27: 4 | UT27: 4 | UU27: 5 | UV27: 5 | UW27: 5 | UX27: 5 | UY27: 1 | UZ27: 4 | VA27: 3 | VB27: 5 | VC27: 4 | VD27: 5 | VE27: 5 | VF27: 5 | VG27: 5 | VH27: 3 | VI27: 4 | VJ27: 3 | VK27: 5 | VL27: 0 | VM27: 4 | VN27: 4 | VO27: 5 | VP27: 3 | VQ27: 5 | VR27: 5 | VS27: 5 | VT27: 4 | VU27: 5 | VV27: 5 | VW27: 4 | VX27: 4 | VY27: 4 | VZ27: 0 | WA27: 4 | WB27: 4 | WC27: 5 | WD27: 4 | WE27: 4 | WF27: 4 | WG27: 4 | WH27: 4 | WI27: 4 | WJ27: 5 | WK27: 4 | WL27: 5 | WM27: 5 | WN27: 5 | WO27: 5 | WP27: 4 | WQ27: 2 | WR27: 4 | WS27: 4 | WT27: 4 | WU27: 4 | WV27: 4 | WW27: 5 | WX27: 4 | WY27: 4 | WZ27: 5 | XA27: 5 | XB27: 5 | XC27: 5 | XD27: 4 | XE27: 4 | XF27: 5 | XG27: 5 | XH27: 5 | XI27: 4 | XJ27: 5 | XK27: 5 | XL27: 4 | XM27: 4 | XN27: 4 | XO27: 4 | XP27: 4 | XQ27: 4 | XR27: 4 | XS27: 5 | XT27: 4 | XU27: 5 | XV27: 4 | XW27: 4 | XX27: 4 | XY27: 3 | XZ27: 4 | YA27: 5 | YB27: 4 | YC27: 4 | YD27: 5 | YE27: 4 | YF27: 5 | YG27: 5 | YH27: 4 | YI27: 5 | YJ27: 5 | YK27: 5 | YL27: 4 | YM27: 4 | YN27: 4 | YO27: 5 | YP27: 4 | YQ27: 4 | YR27: 5 | YS27: 5 | YT27: 5 | YU27: 3 | YV27: 5 | YW27: 5 | YX27: 5 | YY27: 4 | YZ27: 4 | ZA27: 3 | ZB27: 5 | ZC27: 5 | ZD27: 4 | ZE27: 5 | ZF27: 4 | ZG27: 4 | ZH27: 3 | ZI27: 4 | ZJ27: 3 | ZK27: 4 | ZL27: 5 | ZM27: 5 | ZN27: 4 | ZO27: 5 | ZP27: 5 | ZQ27: 4 | ZR27: 5 | ZS27: 5 | ZT27: 4 | ZU27: 4 | ZV27: 3 | ZW27: 4 | ZX27: 4 | ZY27: 3 | ZZ27: 1 | AAA27: 5 | AAB27: 3 | AAC27: 4 | AAD27: 5 | AAE27: 4 | AAF27: 3 | AAG27: 3 | AAH27: 5 | AAI27: 4 | AAJ27: 4 | AAK27: 5 | AAL27: 1 | AAM27: 4 | AAN27: 5 | AAO27: 5 | AAP27: 4 | AAQ27: 5 | AAR27: 4 | AAS27: 5 | AAT27: 5 | AAU27: 3 | AAV27: 4 | AAW27: 4 | AAX27: 4 | AAY27: 4 | AAZ27: 4 | ABA27: 4 | ABB27: 5 | ABC27: 4 | ABD27: 0 | ABE27: 5 | ABF27: 5 | ABG27: 5 | ABH27: 3 | ABI27: 4 | ABJ27: 3 | ABK27: 1 | ABL27: 1 | ABM27: 5 | ABN27: 3 | ABO27: 3 | ABP27: 4 | ABQ27: 3 | ABR27: 5 | ABS27: 4 | ABT27: 4 | ABU27: 4 | ABV27: 4 | ABW27: 5 | ABX27: 5 | ABY27: 4 | ABZ27: 4 | ACA27: 4 | ACB27: 3 | ACC27: 4 | ACD27: 4 | ACE27: 4 | ACF27: 3 | ACG27: 5 | ACH27: 1 | ACI27: 3 | ACJ27: 4 | ACK27: 5 | ACL27: 4 | ACM27: 5 | ACN27: 3 | ACO27: 4 | ACP27: 5 | ACQ27: 3 | ACR27: 4 | ACS27: 4 | ACT27: 4 | ACU27: 4 | ACV27: 5 | ACW27: 5 | ACX27: 4 | ACY27: 4 | ACZ27: 3 | ADA27: 3 | ADB27: 5 | ADC27: 2 | ADD27: 4 | ADE27: 4 | ADF27: 4 | ADG27: 5 | ADH27: 4 | ADI27: 5 | ADJ27: 3 | ADK27: 5 | ADL27: 4 | ADM27: 5 | ADN27: 5 | ADO27: 3 | ADP27: 5 | ADQ27: 2 | ADR27: 3 | ADS27: 5 | ADT27: 4 | ADU27: 4 | ADV27: 4 | ADW27: 4 | ADX27: 5 | ADY27: 2 | ADZ27: 4 | AEA27: 4 | AEB27: 4 | AEC27: 5 | AED27: 4 | AEE27: 4 | AEF27: 5 | AEG27: 4 | AEH27: 2 | AEI27: 4 | AEJ27: 4 | AEK27: 5 | AEL27: 5 | AEM27: 5 | AEN27: 3 | AEO27: 5 | AEP27: 3 | AEQ27: 3 | AER27: 4 | AES27: 3 | AET27: 5 | AEU27: 4 | AEV27: 4 | AEW27: 4 | AEX27: 4 | AEY27: 5 | AEZ27: 3 | AFA27: 3 | AFB27: 4 | AFC27: 4 | AFD27: =AVERAGE(Tabela63[[#This Row],[1]:[832]]) -> 4.0841346 | AFE27: =SKEW(Tabela63[[#This Row],[1]:[832]]) -> -1.7280608 | AFF27: =STDEV(Tabela63[[#This Row],[1]:[832]]) -> 1.0658864 | AFG27: 0.8680492
A28: 26 | B28: 8 | C28: Relações interpessoais/ambiente social | D28: 2 | E28: 4 | F28: 4 | G28: 4 | H28: 5 | I28: 4 | J28: 4 | K28: 5 | L28: 4 | M28: 5 | N28: 4 | O28: 4 | P28: 4 | Q28: 5 | R28: 4 | S28: 5 | T28: 4 | U28: 5 | V28: 5 | W28: 5 | X28: 5 | Y28: 0 | Z28: 4 | AA28: 5 | AB28: 5 | AC28: 4 | AD28: 4 | AE28: 5 | AF28: 5 | AG28: 5 | AH28: 5 | AI28: 5 | AJ28: 5 | AK28: 5 | AL28: 3 | AM28: 4 | AN28: 5 | AO28: 5 | AP28: 5 | AQ28: 4 | AR28: 5 | AS28: 5 | AT28: 5 | AU28: 4 | AV28: 5 | AW28: 5 | AX28: 4 | AY28: 4 | AZ28: 4 | BA28: 3 | BB28: 3 | BC28: 5 | BD28: 4 | BE28: 4 | BF28: 3 | BG28: 4 | BH28: 4 | BI28: 4 | BJ28: 5 | BK28: 4 | BL28: 4 | BM28: 4 | BN28: 4 | BO28: 5 | BP28: 5 | BQ28: 4 | BR28: 5 | BS28: 4 | BT28: 5 | BU28: 5 | BV28: 5 | BW28: 5 | BX28: 5 | BY28: 4 | BZ28: 4 | CA28: 4 | CB28: 4 | CC28: 5 | CD28: 5 | CE28: 5 | CF28: 5 | CG28: 4 | CH28: 4 | CI28: 4 | CJ28: 5 | CK28: 4 | CL28: 5 | CM28: 5 | CN28: 5 | CO28: 5 | CP28: 5 | CQ28: 5 | CR28: 5 | CS28: 5 | CT28: 4 | CU28: 4 | CV28: 5 | CW28: 4 | CX28: 5 | CY28: 4 | CZ28: 4 | DA28: 0 | DB28: 5 | DC28: 4 | DD28: 5 | DE28: 5 | DF28: 4 | DG28: 4 | DH28: 5 | DI28: 3 | DJ28: 5 | DK28: 5 | DL28: 4 | DM28: 4 | DN28: 4 | DO28: 5 | DP28: 5 | DQ28: 4 | DR28: 4 | DS28: 5 | DT28: 5 | DU28: 5 | DV28: 5 | DW28: 5 | DX28: 5 | DY28: 5 | DZ28: 5 | EA28: 4 | EB28: 4 | EC28: 5 | ED28: 4 | EE28: 5 | EF28: 5 | EG28: 5 | EH28: 5 | EI28: 5 | EJ28: 5 | EK28: 4 | EL28: 4 | EM28: 5 | EN28: 5 | EO28: 4 | EP28: 5 | EQ28: 5 | ER28: 5 | ES28: 4 | ET28: 5 | EU28: 5 | EV28: 4 | EW28: 5 | EX28: 5 | EY28: 5 | EZ28: 4 | FA28: 4 | FB28: 5 | FC28: 5 | FD28: 5 | FE28: 5 | FF28: 5 | FG28: 5 | FH28: 5 | FI28: 4 | FJ28: 5 | FK28: 4 | FL28: 5 | FM28: 5 | FN28: 4 | FO28: 4 | FP28: 4 | FQ28: 5 | FR28: 5 | FS28: 5 | FT28: 5 | FU28: 5 | FV28: 5 | FW28: 5 | FX28: 5 | FY28: 4 | FZ28: 4 | GA28: 4 | GB28: 4 | GC28: 4 | GD28: 5 | GE28: 5 | GF28: 5 | GG28: 5 | GH28: 5 | GI28: 5 | GJ28: 5 | GK28: 4 | GL28: 4 | GM28: 5 | GN28: 5 | GO28: 4 | GP28: 4 | GQ28: 4 | GR28: 5 | GS28: 4 | GT28: 4 | GU28: 5 | GV28: 5 | GW28: 4 | GX28: 4 | GY28: 4 | GZ28: 5 | HA28: 5 | HB28: 4 | HC28: 5 | HD28: 1 | HE28: 4 | HF28: 5 | HG28: 5 | HH28: 5 | HI28: 4 | HJ28: 5 | HK28: 5 | HL28: 4 | HM28: 5 | HN28: 5 | HO28: 5 | HP28: 4 | HQ28: 5 | HR28: 5 | HS28: 3 | HT28: 4 | HU28: 5 | HV28: 5 | HW28: 5 | HX28: 4 | HY28: 3 | HZ28: 5 | IA28: 5 | IB28: 4 | IC28: 5 | ID28: 4 | IE28: 5 | IF28: 0 | IG28: 4 | IH28: 4 | II28: 5 | IJ28: 5 | IK28: 3 | IL28: 3 | IM28: 4 | IN28: 4 | IO28: 4 | IP28: 5 | IQ28: 4 | IR28: 4 | IS28: 4 | IT28: 5 | IU28: 5 | IV28: 4 | IW28: 5 | IX28: 5 | IY28: 5 | IZ28: 5 | JA28: 4 | JB28: 4 | JC28: 4 | JD28: 5 | JE28: 4 | JF28: 5 | JG28: 4 | JH28: 4 | JI28: 4 | JJ28: 5 | JK28: 5 | JL28: 5 | JM28: 4 | JN28: 4 | JO28: 5 | JP28: 5 | JQ28: 5 | JR28: 4 | JS28: 5 | JT28: 4 | JU28: 4 | JV28: 5 | JW28: 5 | JX28: 5 | JY28: 5 | JZ28: 4 | KA28: 5 | KB28: 4 | KC28: 5 | KD28: 5 | KE28: 5 | KF28: 5 | KG28: 5 | KH28: 5 | KI28: 5 | KJ28: 5 | KK28: 4 | KL28: 4 | KM28: 5 | KN28: 5 | KO28: 5 | KP28: 4 | KQ28: 5 | KR28: 5 | KS28: 5 | KT28: 4 | KU28: 5 | KV28: 4 | KW28: 5 | KX28: 5 | KY28: 5 | KZ28: 5 | LA28: 5 | LB28: 5 | LC28: 5 | LD28: 5 | LE28: 5 | LF28: 5 | LG28: 5 | LH28: 5 | LI28: 5 | LJ28: 5 | LK28: 4 | LL28: 3 | LM28: 5 | LN28: 5 | LO28: 5 | LP28: 5 | LQ28: 5 | LR28: 5 | LS28: 5 | LT28: 5 | LU28: 2 | LV28: 5 | LW28: 3 | LX28: 5 | LY28: 5 | LZ28: 5 | MA28: 4 | MB28: 4 | MC28: 4 | MD28: 5 | ME28: 5 | MF28: 4 | MG28: 5 | MH28: 4 | MI28: 5 | MJ28: 5 | MK28: 5 | ML28: 5 | MM28: 5 | MN28: 4 | MO28: 5 | MP28: 4 | MQ28: 5 | MR28: 5 | MS28: 5 | MT28: 5 | MU28: 5 | MV28: 5 | MW28: 5 | MX28: 5 | MY28: 5 | MZ28: 4 | NA28: 5 | NB28: 5 | NC28: 5 | ND28: 4 | NE28: 5 | NF28: 5 | NG28: 4 | NH28: 4 | NI28: 5 | NJ28: 4 | NK28: 3 | NL28: 4 | NM28: 5 | NN28: 4 | NO28: 5 | NP28: 5 | NQ28: 4 | NR28: 5 | NS28: 4 | NT28: 5 | NU28: 5 | NV28: 5 | NW28: 4 | NX28: 5 | NY28: 5 | NZ28: 5 | OA28: 5 | OB28: 5 | OC28: 5 | OD28: 4 | OE28: 4 | OF28: 5 | OG28: 5 | OH28: 5 | OI28: 5 | OJ28: 4 | OK28: 5 | OL28: 4 | OM28: 5 | ON28: 3 | OO28: 5 | OP28: 5 | OQ28: 4 | OR28: 4 | OS28: 3 | OT28: 5 | OU28: 5 | OV28: 5 | OW28: 4 | OX28: 5 | OY28: 4 | OZ28: 5 | PA28: 5 | PB28: 4 | PC28: 4 | PD28: 5 | PE28: 4 | PF28: 5 | PG28: 0 | PH28: 4 | PI28: 4 | PJ28: 5 | PK28: 5 | PL28: 1 | PM28: 5 | PN28: 5 | PO28: 5 | PP28: 5 | PQ28: 4 | PR28: 4 | PS28: 5 | PT28: 5 | PU28: 5 | PV28: 5 | PW28: 5 | PX28: 5 | PY28: 4 | PZ28: 4 | QA28: 4 | QB28: 4 | QC28: 4 | QD28: 5 | QE28: 5 | QF28: 5 | QG28: 2 | QH28: 4 | QI28: 4 | QJ28: 5 | QK28: 4 | QL28: 5 | QM28: 5 | QN28: 4 | QO28: 5 | QP28: 5 | QQ28: 5 | QR28: 5 | QS28: 5 | QT28: 5 | QU28: 5 | QV28: 4 | QW28: 5 | QX28: 5 | QY28: 4 | QZ28: 5 | RA28: 5 | RB28: 5 | RC28: 5 | RD28: 5 | RE28: 5 | RF28: 4 | RG28: 4 | RH28: 5 | RI28: 5 | RJ28: 5 | RK28: 5 | RL28: 5 | RM28: 5 | RN28: 5 | RO28: 3 | RP28: 5 | RQ28: 5 | RR28: 5 | RS28: 5 | RT28: 5 | RU28: 5 | RV28: 5 | RW28: 5 | RX28: 5 | RY28: 5 | RZ28: 4 | SA28: 3 | SB28: 5 | SC28: 5 | SD28: 4 | SE28: 5 | SF28: 5 | SG28: 5 | SH28: 5 | SI28: 5 | SJ28: 5 | SK28: 3 | SL28: 5 | SM28: 5 | SN28: 4 | SO28: 5 | SP28: 5 | SQ28: 5 | SR28: 5 | SS28: 3 | ST28: 4 | SU28: 5 | SV28: 4 | SW28: 4 | SX28: 5 | SY28: 4 | SZ28: 5 | TA28: 4 | TB28: 5 | TC28: 5 | TD28: 3 | TE28: 3 | TF28: 5 | TG28: 5 | TH28: 5 | TI28: 5 | TJ28: 5 | TK28: 2 | TL28: 5 | TM28: 5 | TN28: 5 | TO28: 5 | TP28: 5 | TQ28: 4 | TR28: 5 | TS28: 4 | TT28: 4 | TU28: 4 | TV28: 5 | TW28: 3 | TX28: 4 | TY28: 4 | TZ28: 4 | UA28: 4 | UB28: 5 | UC28: 5 | UD28: 5 | UE28: 5 | UF28: 5 | UG28: 4 | UH28: 5 | UI28: 5 | UJ28: 4 | UK28: 5 | UL28: 5 | UM28: 5 | UN28: 5 | UO28: 5 | UP28: 4 | UQ28: 3 | UR28: 5 | US28: 5 | UT28: 5 | UU28: 5 | UV28: 5 | UW28: 5 | UX28: 5 | UY28: 4 | UZ28: 3 | VA28: 5 | VB28: 5 | VC28: 5 | VD28: 5 | VE28: 5 | VF28: 4 | VG28: 5 | VH28: 4 | VI28: 5 | VJ28: 5 | VK28: 5 | VL28: 5 | VM28: 3 | VN28: 5 | VO28: 5 | VP28: 5 | VQ28: 5 | VR28: 5 | VS28: 5 | VT28: 5 | VU28: 5 | VV28: 5 | VW28: 5 | VX28: 4 | VY28: 5 | VZ28: 5 | WA28: 5 | WB28: 5 | WC28: 5 | WD28: 0 | WE28: 4 | WF28: 4 | WG28: 5 | WH28: 5 | WI28: 4 | WJ28: 5 | WK28: 4 | WL28: 5 | WM28: 5 | WN28: 4 | WO28: 4 | WP28: 5 | WQ28: 2 | WR28: 5 | WS28: 4 | WT28: 5 | WU28: 5 | WV28: 4 | WW28: 5 | WX28: 5 | WY28: 4 | WZ28: 4 | XA28: 5 | XB28: 5 | XC28: 5 | XD28: 5 | XE28: 4 | XF28: 5 | XG28: 5 | XH28: 5 | XI28: 5 | XJ28: 4 | XK28: 5 | XL28: 5 | XM28: 4 | XN28: 4 | XO28: 5 | XP28: 5 | XQ28: 4 | XR28: 4 | XS28: 5 | XT28: 5 | XU28: 4 | XV28: 3 | XW28: 5 | XX28: 5 | XY28: 4 | XZ28: 4 | YA28: 5 | YB28: 4 | YC28: 5 | YD28: 5 | YE28: 4 | YF28: 5 | YG28: 5 | YH28: 5 | YI28: 4 | YJ28: 5 | YK28: 5 | YL28: 5 | YM28: 4 | YN28: 4 | YO28: 3 | YP28: 5 | YQ28: 4 | YR28: 5 | YS28: 5 | YT28: 4 | YU28: 4 | YV28: 4 | YW28: 5 | YX28: 5 | YY28: 4 | YZ28: 3 | ZA28: 3 | ZB28: 5 | ZC28: 4 | ZD28: 5 | ZE28: 5 | ZF28: 4 | ZG28: 5 | ZH28: 4 | ZI28: 5 | ZJ28: 4 | ZK28: 5 | ZL28: 5 | ZM28: 5 | ZN28: 5 | ZO28: 5 | ZP28: 5 | ZQ28: 5 | ZR28: 5 | ZS28: 5 | ZT28: 4 | ZU28: 5 | ZV28: 4 | ZW28: 5 | ZX28: 5 | ZY28: 3 | ZZ28: 2 | AAA28: 4 | AAB28: 5 | AAC28: 4 | AAD28: 5 | AAE28: 5 | AAF28: 5 | AAG28: 3 | AAH28: 5 | AAI28: 5 | AAJ28: 4 | AAK28: 4 | AAL28: 2 | AAM28: 5 | AAN28: 5 | AAO28: 5 | AAP28: 3 | AAQ28: 5 | AAR28: 4 | AAS28: 5 | AAT28: 5 | AAU28: 4 | AAV28: 5 | AAW28: 5 | AAX28: 4 | AAY28: 4 | AAZ28: 4 | ABA28: 5 | ABB28: 4 | ABC28: 5 | ABD28: 3 | ABE28: 4 | ABF28: 5 | ABG28: 5 | ABH28: 0 | ABI28: 4 | ABJ28: 5 | ABK28: 1 | ABL28: 1 | ABM28: 5 | ABN28: 2 | ABO28: 4 | ABP28: 5 | ABQ28: 3 | ABR28: 5 | ABS28: 4 | ABT28: 4 | ABU28: 3 | ABV28: 5 | ABW28: 5 | ABX28: 5 | ABY28: 5 | ABZ28: 4 | ACA28: 4 | ACB28: 3 | ACC28: 4 | ACD28: 4 | ACE28: 5 | ACF28: 5 | ACG28: 5 | ACH28: 3 | ACI28: 4 | ACJ28: 4 | ACK28: 4 | ACL28: 5 | ACM28: 5 | ACN28: 3 | ACO28: 5 | ACP28: 4 | ACQ28: 4 | ACR28: 5 | ACS28: 5 | ACT28: 5 | ACU28: 4 | ACV28: 5 | ACW28: 5 | ACX28: 4 | ACY28: 3 | ACZ28: 3 | ADA28: 4 | ADB28: 5 | ADC28: 1 | ADD28: 4 | ADE28: 4 | ADF28: 5 | ADG28: 4 | ADH28: 4 | ADI28: 4 | ADJ28: 4 | ADK28: 5 | ADL28: 4 | ADM28: 5 | ADN28: 4 | ADO28: 4 | ADP28: 5 | ADQ28: 3 | ADR28: 4 | ADS28: 5 | ADT28: 5 | ADU28: 5 | ADV28: 4 | ADW28: 5 | ADX28: 5 | ADY28: 2 | ADZ28: 5 | AEA28: 3 | AEB28: 4 | AEC28: 5 | AED28: 5 | AEE28: 4 | AEF28: 4 | AEG28: 4 | AEH28: 4 | AEI28: 5 | AEJ28: 4 | AEK28: 5 | AEL28: 5 | AEM28: 5 | AEN28: 5 | AEO28: 5 | AEP28: 5 | AEQ28: 3 | AER28: 5 | AES28: 4 | AET28: 5 | AEU28: 4 | AEV28: 4 | AEW28: 5 | AEX28: 5 | AEY28: 5 | AEZ28: 5 | AFA28: 3 | AFB28: 5 | AFC28: 5 | AFD28: =AVERAGE(Tabela63[[#This Row],[1]:[832]]) -> 4.4795673 | AFE28: =SKEW(Tabela63[[#This Row],[1]:[832]]) -> -2.3504765 | AFF28: =STDEV(Tabela63[[#This Row],[1]:[832]]) -> 0.79684444 | AFG28: 0.86752176
A29: 27 | B29: 9 | C29: Remuneração | D29: 1 | E29: 4 | F29: 5 | G29: 4 | H29: 5 | I29: 4 | J29: 5 | K29: 5 | L29: 4 | M29: 5 | N29: 5 | O29: 4 | P29: 4 | Q29: 5 | R29: 5 | S29: 5 | T29: 4 | U29: 5 | V29: 5 | W29: 4 | X29: 5 | Y29: 0 | Z29: 4 | AA29: 5 | AB29: 5 | AC29: 5 | AD29: 5 | AE29: 5 | AF29: 0 | AG29: 5 | AH29: 5 | AI29: 4 | AJ29: 5 | AK29: 5 | AL29: 4 | AM29: 4 | AN29: 5 | AO29: 5 | AP29: 5 | AQ29: 0 | AR29: 5 | AS29: 5 | AT29: 5 | AU29: 4 | AV29: 5 | AW29: 5 | AX29: 4 | AY29: 4 | AZ29: 4 | BA29: 4 | BB29: 3 | BC29: 4 | BD29: 4 | BE29: 5 | BF29: 5 | BG29: 4 | BH29: 4 | BI29: 3 | BJ29: 5 | BK29: 5 | BL29: 4 | BM29: 5 | BN29: 4 | BO29: 5 | BP29: 5 | BQ29: 4 | BR29: 5 | BS29: 5 | BT29: 5 | BU29: 5 | BV29: 5 | BW29: 5 | BX29: 5 | BY29: 5 | BZ29: 4 | CA29: 5 | CB29: 3 | CC29: 5 | CD29: 5 | CE29: 5 | CF29: 4 | CG29: 4 | CH29: 5 | CI29: 4 | CJ29: 5 | CK29: 4 | CL29: 5 | CM29: 5 | CN29: 5 | CO29: 4 | CP29: 5 | CQ29: 4 | CR29: 4 | CS29: 4 | CT29: 4 | CU29: 4 | CV29: 4 | CW29: 5 | CX29: 5 | CY29: 4 | CZ29: 4 | DA29: 5 | DB29: 5 | DC29: 5 | DD29: 5 | DE29: 4 | DF29: 4 | DG29: 4 | DH29: 5 | DI29: 4 | DJ29: 5 | DK29: 4 | DL29: 4 | DM29: 4 | DN29: 4 | DO29: 5 | DP29: 5 | DQ29: 4 | DR29: 4 | DS29: 5 | DT29: 5 | DU29: 5 | DV29: 4 | DW29: 4 | DX29: 4 | DY29: 5 | DZ29: 5 | EA29: 4 | EB29: 5 | EC29: 5 | ED29: 5 | EE29: 5 | EF29: 5 | EG29: 5 | EH29: 4 | EI29: 5 | EJ29: 5 | EK29: 4 | EL29: 4 | EM29: 5 | EN29: 5 | EO29: 4 | EP29: 5 | EQ29: 5 | ER29: 4 | ES29: 4 | ET29: 4 | EU29: 5 | EV29: 5 | EW29: 5 | EX29: 4 | EY29: 5 | EZ29: 4 | FA29: 4 | FB29: 4 | FC29: 5 | FD29: 5 | FE29: 4 | FF29: 5 | FG29: 5 | FH29: 4 | FI29: 4 | FJ29: 5 | FK29: 4 | FL29: 5 | FM29: 5 | FN29: 5 | FO29: 5 | FP29: 5 | FQ29: 5 | FR29: 5 | FS29: 5 | FT29: 4 | FU29: 5 | FV29: 5 | FW29: 5 | FX29: 4 | FY29: 5 | FZ29: 4 | GA29: 4 | GB29: 5 | GC29: 4 | GD29: 5 | GE29: 4 | GF29: 5 | GG29: 5 | GH29: 5 | GI29: 5 | GJ29: 5 | GK29: 4 | GL29: 5 | GM29: 5 | GN29: 5 | GO29: 4 | GP29: 4 | GQ29: 5 | GR29: 4 | GS29: 5 | GT29: 5 | GU29: 5 | GV29: 5 | GW29: 5 | GX29: 5 | GY29: 4 | GZ29: 4 | HA29: 5 | HB29: 3 | HC29: 5 | HD29: 1 | HE29: 5 | HF29: 5 | HG29: 5 | HH29: 5 | HI29: 5 | HJ29: 4 | HK29: 4 | HL29: 4 | HM29: 5 | HN29: 4 | HO29: 5 | HP29: 5 | HQ29: 5 | HR29: 5 | HS29: 5 | HT29: 4 | HU29: 5 | HV29: 5 | HW29: 5 | HX29: 4 | HY29: 4 | HZ29: 5 | IA29: 5 | IB29: 5 | IC29: 2 | ID29: 3 | IE29: 5 | IF29: 0 | IG29: 5 | IH29: 4 | II29: 5 | IJ29: 4 | IK29: 4 | IL29: 5 | IM29: 5 | IN29: 4 | IO29: 4 | IP29: 4 | IQ29: 2 | IR29: 4 | IS29: 4 | IT29: 4 | IU29: 5 | IV29: 5 | IW29: 4 | IX29: 5 | IY29: 4 | IZ29: 5 | JA29: 4 | JB29: 5 | JC29: 5 | JD29: 5 | JE29: 5 | JF29: 4 | JG29: 4 | JH29: 5 | JI29: 5 | JJ29: 5 | JK29: 5 | JL29: 5 | JM29: 1 | JN29: 5 | JO29: 5 | JP29: 5 | JQ29: 5 | JR29: 4 | JS29: 4 | JT29: 4 | JU29: 4 | JV29: 5 | JW29: 5 | JX29: 4 | JY29: 5 | JZ29: 4 | KA29: 5 | KB29: 5 | KC29: 5 | KD29: 5 | KE29: 5 | KF29: 4 | KG29: 5 | KH29: 5 | KI29: 5 | KJ29: 5 | KK29: 5 | KL29: 4 | KM29: 5 | KN29: 2 | KO29: 5 | KP29: 4 | KQ29: 5 | KR29: 3 | KS29: 5 | KT29: 5 | KU29: 5 | KV29: 4 | KW29: 5 | KX29: 4 | KY29: 5 | KZ29: 5 | LA29: 5 | LB29: 4 | LC29: 5 | LD29: 5 | LE29: 5 | LF29: 5 | LG29: 5 | LH29: 5 | LI29: 3 | LJ29: 5 | LK29: 4 | LL29: 3 | LM29: 5 | LN29: 4 | LO29: 5 | LP29: 5 | LQ29: 5 | LR29: 5 | LS29: 5 | LT29: 5 | LU29: 1 | LV29: 5 | LW29: 3 | LX29: 5 | LY29: 5 | LZ29: 4 | MA29: 5 | MB29: 5 | MC29: 5 | MD29: 4 | ME29: 3 | MF29: 4 | MG29: 5 | MH29: 5 | MI29: 5 | MJ29: 5 | MK29: 4 | ML29: 5 | MM29: 4 | MN29: 5 | MO29: 5 | MP29: 5 | MQ29: 4 | MR29: 5 | MS29: 5 | MT29: 5 | MU29: 5 | MV29: 4 | MW29: 4 | MX29: 5 | MY29: 4 | MZ29: 4 | NA29: 4 | NB29: 5 | NC29: 5 | ND29: 4 | NE29: 4 | NF29: 4 | NG29: 5 | NH29: 4 | NI29: 5 | NJ29: 2 | NK29: 4 | NL29: 4 | NM29: 5 | NN29: 4 | NO29: 4 | NP29: 5 | NQ29: 5 | NR29: 5 | NS29: 5 | NT29: 5 | NU29: 5 | NV29: 5 | NW29: 5 | NX29: 4 | NY29: 5 | NZ29: 4 | OA29: 5 | OB29: 5 | OC29: 5 | OD29: 4 | OE29: 4 | OF29: 5 | OG29: 5 | OH29: 5 | OI29: 5 | OJ29: 4 | OK29: 5 | OL29: 5 | OM29: 4 | ON29: 5 | OO29: 5 | OP29: 4 | OQ29: 5 | OR29: 5 | OS29: 3 | OT29: 5 | OU29: 5 | OV29: 5 | OW29: 5 | OX29: 5 | OY29: 4 | OZ29: 5 | PA29: 5 | PB29: 5 | PC29: 5 | PD29: 3 | PE29: 4 | PF29: 5 | PG29: 0 | PH29: 5 | PI29: 4 | PJ29: 5 | PK29: 5 | PL29: 1 | PM29: 5 | PN29: 5 | PO29: 5 | PP29: 5 | PQ29: 4 | PR29: 4 | PS29: 5 | PT29: 3 | PU29: 5 | PV29: 5 | PW29: 5 | PX29: 5 | PY29: 4 | PZ29: 4 | QA29: 4 | QB29: 5 | QC29: 4 | QD29: 5 | QE29: 4 | QF29: 5 | QG29: 2 | QH29: 5 | QI29: 5 | QJ29: 4 | QK29: 4 | QL29: 5 | QM29: 4 | QN29: 4 | QO29: 5 | QP29: 5 | QQ29: 5 | QR29: 5 | QS29: 4 | QT29: 4 | QU29: 4 | QV29: 4 | QW29: 5 | QX29: 5 | QY29: 5 | QZ29: 5 | RA29: 5 | RB29: 5 | RC29: 3 | RD29: 4 | RE29: 4 | RF29: 5 | RG29: 5 | RH29: 5 | RI29: 5 | RJ29: 5 | RK29: 5 | RL29: 5 | RM29: 5 | RN29: 5 | RO29: 1 | RP29: 4 | RQ29: 5 | RR29: 4 | RS29: 5 | RT29: 5 | RU29: 5 | RV29: 5 | RW29: 5 | RX29: 4 | RY29: 5 | RZ29: 4 | SA29: 4 | SB29: 2 | SC29: 5 | SD29: 4 | SE29: 4 | SF29: 4 | SG29: 4 | SH29: 3 | SI29: 5 | SJ29: 5 | SK29: 5 | SL29: 5 | SM29: 5 | SN29: 5 | SO29: 5 | SP29: 5 | SQ29: 5 | SR29: 5 | SS29: 5 | ST29: 4 | SU29: 5 | SV29: 5 | SW29: 4 | SX29: 5 | SY29: 5 | SZ29: 5 | TA29: 5 | TB29: 4 | TC29: 5 | TD29: 5 | TE29: 4 | TF29: 5 | TG29: 4 | TH29: 5 | TI29: 4 | TJ29: 5 | TK29: 5 | TL29: 4 | TM29: 3 | TN29: 5 | TO29: 0 | TP29: 5 | TQ29: 4 | TR29: 5 | TS29: 5 | TT29: 4 | TU29: 4 | TV29: 5 | TW29: 4 | TX29: 4 | TY29: 5 | TZ29: 4 | UA29: 3 | UB29: 5 | UC29: 5 | UD29: 5 | UE29: 4 | UF29: 5 | UG29: 4 | UH29: 5 | UI29: 5 | UJ29: 4 | UK29: 4 | UL29: 4 | UM29: 5 | UN29: 5 | UO29: 4 | UP29: 5 | UQ29: 5 | UR29: 5 | US29: 5 | UT29: 5 | UU29: 5 | UV29: 4 | UW29: 5 | UX29: 4 | UY29: 0 | UZ29: 4 | VA29: 5 | VB29: 5 | VC29: 5 | VD29: 5 | VE29: 0 | VF29: 5 | VG29: 5 | VH29: 3 | VI29: 5 | VJ29: 4 | VK29: 5 | VL29: 5 | VM29: 3 | VN29: 4 | VO29: 5 | VP29: 5 | VQ29: 5 | VR29: 5 | VS29: 5 | VT29: 0 | VU29: 5 | VV29: 5 | VW29: 5 | VX29: 4 | VY29: 4 | VZ29: 4 | WA29: 4 | WB29: 5 | WC29: 5 | WD29: 5 | WE29: 5 | WF29: 5 | WG29: 4 | WH29: 4 | WI29: 4 | WJ29: 5 | WK29: 4 | WL29: 4 | WM29: 5 | WN29: 4 | WO29: 4 | WP29: 5 | WQ29: 5 | WR29: 5 | WS29: 4 | WT29: 5 | WU29: 4 | WV29: 4 | WW29: 5 | WX29: 4 | WY29: 5 | WZ29: 5 | XA29: 5 | XB29: 5 | XC29: 5 | XD29: 5 | XE29: 5 | XF29: 5 | XG29: 5 | XH29: 5 | XI29: 5 | XJ29: 5 | XK29: 5 | XL29: 5 | XM29: 4 | XN29: 4 | XO29: 4 | XP29: 5 | XQ29: 4 | XR29: 5 | XS29: 5 | XT29: 4 | XU29: 5 | XV29: 4 | XW29: 4 | XX29: 4 | XY29: 5 | XZ29: 4 | YA29: 5 | YB29: 4 | YC29: 5 | YD29: 5 | YE29: 5 | YF29: 5 | YG29: 5 | YH29: 5 | YI29: 5 | YJ29: 5 | YK29: 4 | YL29: 5 | YM29: 5 | YN29: 5 | YO29: 5 | YP29: 4 | YQ29: 5 | YR29: 5 | YS29: 5 | YT29: 5 | YU29: 5 | YV29: 5 | YW29: 5 | YX29: 5 | YY29: 5 | YZ29: 3 | ZA29: 3 | ZB29: 5 | ZC29: 5 | ZD29: 5 | ZE29: 5 | ZF29: 4 | ZG29: 4 | ZH29: 4 | ZI29: 5 | ZJ29: 5 | ZK29: 4 | ZL29: 5 | ZM29: 5 | ZN29: 5 | ZO29: 5 | ZP29: 5 | ZQ29: 5 | ZR29: 5 | ZS29: 5 | ZT29: 5 | ZU29: 5 | ZV29: 3 | ZW29: 5 | ZX29: 5 | ZY29: 4 | ZZ29: 2 | AAA29: 5 | AAB29: 3 | AAC29: 5 | AAD29: 5 | AAE29: 4 | AAF29: 5 | AAG29: 3 | AAH29: 4 | AAI29: 4 | AAJ29: 5 | AAK29: 5 | AAL29: 3 | AAM29: 4 | AAN29: 4 | AAO29: 5 | AAP29: 3 | AAQ29: 5 | AAR29: 4 | AAS29: 5 | AAT29: 4 | AAU29: 5 | AAV29: 4 | AAW29: 4 | AAX29: 5 | AAY29: 5 | AAZ29: 3 | ABA29: 5 | ABB29: 5 | ABC29: 5 | ABD29: 4 | ABE29: 5 | ABF29: 5 | ABG29: 5 | ABH29: 2 | ABI29: 4 | ABJ29: 4 | ABK29: 1 | ABL29: 1 | ABM29: 5 | ABN29: 1 | ABO29: 5 | ABP29: 4 | ABQ29: 3 | ABR29: 5 | ABS29: 5 | ABT29: 4 | ABU29: 5 | ABV29: 4 | ABW29: 5 | ABX29: 5 | ABY29: 5 | ABZ29: 4 | ACA29: 5 | ACB29: 3 | ACC29: 5 | ACD29: 4 | ACE29: 4 | ACF29: 1 | ACG29: 5 | ACH29: 1 | ACI29: 4 | ACJ29: 4 | ACK29: 4 | ACL29: 5 | ACM29: 5 | ACN29: 3 | ACO29: 4 | ACP29: 5 | ACQ29: 4 | ACR29: 1 | ACS29: 5 | ACT29: 5 | ACU29: 4 | ACV29: 5 | ACW29: 5 | ACX29: 4 | ACY29: 4 | ACZ29: 4 | ADA29: 4 | ADB29: 4 | ADC29: 1 | ADD29: 3 | ADE29: 4 | ADF29: 4 | ADG29: 5 | ADH29: 3 | ADI29: 5 | ADJ29: 5 | ADK29: 4 | ADL29: 4 | ADM29: 5 | ADN29: 4 | ADO29: 4 | ADP29: 5 | ADQ29: 2 | ADR29: 4 | ADS29: 4 | ADT29: 5 | ADU29: 5 | ADV29: 4 | ADW29: 3 | ADX29: 5 | ADY29: 5 | ADZ29: 4 | AEA29: 4 | AEB29: 5 | AEC29: 5 | AED29: 4 | AEE29: 5 | AEF29: 5 | AEG29: 4 | AEH29: 2 | AEI29: 4 | AEJ29: 5 | AEK29: 5 | AEL29: 5 | AEM29: 5 | AEN29: 5 | AEO29: 5 | AEP29: 5 | AEQ29: 4 | AER29: 4 | AES29: 4 | AET29: 5 | AEU29: 4 | AEV29: 4 | AEW29: 5 | AEX29: 5 | AEY29: 5 | AEZ29: 5 | AFA29: 4 | AFB29: 4 | AFC29: 4 | AFD29: =AVERAGE(Tabela63[[#This Row],[1]:[832]]) -> 4.4362981 | AFE29: =SKEW(Tabela63[[#This Row],[1]:[832]]) -> -2.5026325 | AFF29: =STDEV(Tabela63[[#This Row],[1]:[832]]) -> 0.89565323 | AFG29: 0.86499002
A30: 28 | B30: 10 | C30: Saúde | D30: 4 | E30: 4 | F30: 5 | G30: 5 | H30: 5 | I30: 5 | J30: 5 | K30: 5 | L30: 5 | M30: 5 | N30: 5 | O30: 5 | P30: 4 | Q30: 5 | R30: 4 | S30: 5 | T30: 5 | U30: 5 | V30: 5 | W30: 5 | X30: 5 | Y30: 5 | Z30: 4 | AA30: 5 | AB30: 5 | AC30: 5 | AD30: 5 | AE30: 5 | AF30: 0 | AG30: 5 | AH30: 5 | AI30: 5 | AJ30: 5 | AK30: 5 | AL30: 5 | AM30: 5 | AN30: 5 | AO30: 5 | AP30: 5 | AQ30: 4 | AR30: 5 | AS30: 5 | AT30: 5 | AU30: 4 | AV30: 5 | AW30: 5 | AX30: 4 | AY30: 4 | AZ30: 5 | BA30: 5 | BB30: 4 | BC30: 4 | BD30: 5 | BE30: 5 | BF30: 5 | BG30: 5 | BH30: 4 | BI30: 4 | BJ30: 5 | BK30: 5 | BL30: 5 | BM30: 5 | BN30: 5 | BO30: 5 | BP30: 5 | BQ30: 5 | BR30: 5 | BS30: 5 | BT30: 5 | BU30: 5 | BV30: 5 | BW30: 5 | BX30: 5 | BY30: 4 | BZ30: 4 | CA30: 5 | CB30: 4 | CC30: 5 | CD30: 5 | CE30: 5 | CF30: 5 | CG30: 4 | CH30: 5 | CI30: 5 | CJ30: 5 | CK30: 5 | CL30: 5 | CM30: 5 | CN30: 5 | CO30: 4 | CP30: 5 | CQ30: 4 | CR30: 5 | CS30: 5 | CT30: 4 | CU30: 4 | CV30: 5 | CW30: 5 | CX30: 5 | CY30: 4 | CZ30: 5 | DA30: 5 | DB30: 5 | DC30: 4 | DD30: 5 | DE30: 5 | DF30: 5 | DG30: 4 | DH30: 5 | DI30: 4 | DJ30: 5 | DK30: 5 | DL30: 5 | DM30: 5 | DN30: 5 | DO30: 5 | DP30: 5 | DQ30: 4 | DR30: 5 | DS30: 5 | DT30: 5 | DU30: 5 | DV30: 5 | DW30: 5 | DX30: 4 | DY30: 4 | DZ30: 5 | EA30: 5 | EB30: 5 | EC30: 5 | ED30: 5 | EE30: 5 | EF30: 5 | EG30: 5 | EH30: 5 | EI30: 5 | EJ30: 5 | EK30: 5 | EL30: 4 | EM30: 5 | EN30: 5 | EO30: 5 | EP30: 5 | EQ30: 5 | ER30: 5 | ES30: 4 | ET30: 4 | EU30: 5 | EV30: 5 | EW30: 5 | EX30: 5 | EY30: 5 | EZ30: 5 | FA30: 5 | FB30: 5 | FC30: 5 | FD30: 5 | FE30: 5 | FF30: 5 | FG30: 5 | FH30: 5 | FI30: 5 | FJ30: 5 | FK30: 5 | FL30: 5 | FM30: 5 | FN30: 3 | FO30: 5 | FP30: 5 | FQ30: 5 | FR30: 5 | FS30: 5 | FT30: 5 | FU30: 5 | FV30: 5 | FW30: 5 | FX30: 5 | FY30: 5 | FZ30: 4 | GA30: 4 | GB30: 4 | GC30: 5 | GD30: 4 | GE30: 5 | GF30: 5 | GG30: 5 | GH30: 5 | GI30: 5 | GJ30: 5 | GK30: 5 | GL30: 5 | GM30: 5 | GN30: 5 | GO30: 5 | GP30: 5 | GQ30: 5 | GR30: 5 | GS30: 5 | GT30: 5 | GU30: 5 | GV30: 5 | GW30: 5 | GX30: 5 | GY30: 5 | GZ30: 5 | HA30: 5 | HB30: 3 | HC30: 5 | HD30: 1 | HE30: 5 | HF30: 5 | HG30: 5 | HH30: 5 | HI30: 4 | HJ30: 5 | HK30: 5 | HL30: 5 | HM30: 5 | HN30: 4 | HO30: 5 | HP30: 3 | HQ30: 5 | HR30: 5 | HS30: 4 | HT30: 4 | HU30: 5 | HV30: 5 | HW30: 5 | HX30: 4 | HY30: 5 | HZ30: 5 | IA30: 5 | IB30: 5 | IC30: 4 | ID30: 4 | IE30: 5 | IF30: 5 | IG30: 5 | IH30: 5 | II30: 5 | IJ30: 4 | IK30: 4 | IL30: 4 | IM30: 4 | IN30: 4 | IO30: 5 | IP30: 5 | IQ30: 4 | IR30: 4 | IS30: 4 | IT30: 5 | IU30: 5 | IV30: 5 | IW30: 5 | IX30: 5 | IY30: 5 | IZ30: 5 | JA30: 5 | JB30: 5 | JC30: 5 | JD30: 5 | JE30: 5 | JF30: 5 | JG30: 5 | JH30: 5 | JI30: 5 | JJ30: 5 | JK30: 4 | JL30: 5 | JM30: 3 | JN30: 4 | JO30: 5 | JP30: 5 | JQ30: 5 | JR30: 4 | JS30: 5 | JT30: 5 | JU30: 5 | JV30: 5 | JW30: 5 | JX30: 5 | JY30: 5 | JZ30: 4 | KA30: 5 | KB30: 5 | KC30: 5 | KD30: 5 | KE30: 5 | KF30: 5 | KG30: 5 | KH30: 5 | KI30: 5 | KJ30: 5 | KK30: 2 | KL30: 4 | KM30: 5 | KN30: 5 | KO30: 4 | KP30: 4 | KQ30: 5 | KR30: 5 | KS30: 5 | KT30: 5 | KU30: 5 | KV30: 4 | KW30: 5 | KX30: 5 | KY30: 5 | KZ30: 5 | LA30: 5 | LB30: 5 | LC30: 5 | LD30: 5 | LE30: 5 | LF30: 5 | LG30: 4 | LH30: 5 | LI30: 5 | LJ30: 5 | LK30: 4 | LL30: 4 | LM30: 4 | LN30: 5 | LO30: 5 | LP30: 5 | LQ30: 5 | LR30: 5 | LS30: 5 | LT30: 5 | LU30: 2 | LV30: 5 | LW30: 2 | LX30: 5 | LY30: 5 | LZ30: 5 | MA30: 5 | MB30: 5 | MC30: 4 | MD30: 5 | ME30: 5 | MF30: 5 | MG30: 4 | MH30: 4 | MI30: 5 | MJ30: 5 | MK30: 5 | ML30: 5 | MM30: 4 | MN30: 5 | MO30: 5 | MP30: 5 | MQ30: 5 | MR30: 5 | MS30: 5 | MT30: 5 | MU30: 5 | MV30: 5 | MW30: 5 | MX30: 5 | MY30: 4 | MZ30: 5 | NA30: 5 | NB30: 5 | NC30: 5 | ND30: 5 | NE30: 3 | NF30: 5 | NG30: 5 | NH30: 4 | NI30: 5 | NJ30: 4 | NK30: 5 | NL30: 5 | NM30: 5 | NN30: 4 | NO30: 5 | NP30: 5 | NQ30: 5 | NR30: 5 | NS30: 4 | NT30: 5 | NU30: 5 | NV30: 5 | NW30: 5 | NX30: 5 | NY30: 5 | NZ30: 5 | OA30: 5 | OB30: 5 | OC30: 5 | OD30: 4 | OE30: 4 | OF30: 5 | OG30: 5 | OH30: 5 | OI30: 5 | OJ30: 5 | OK30: 5 | OL30: 5 | OM30: 4 | ON30: 5 | OO30: 5 | OP30: 5 | OQ30: 5 | OR30: 5 | OS30: 4 | OT30: 5 | OU30: 5 | OV30: 5 | OW30: 5 | OX30: 5 | OY30: 5 | OZ30: 5 | PA30: 5 | PB30: 5 | PC30: 4 | PD30: 3 | PE30: 5 | PF30: 5 | PG30: 0 | PH30: 5 | PI30: 5 | PJ30: 5 | PK30: 5 | PL30: 1 | PM30: 5 | PN30: 5 | PO30: 5 | PP30: 5 | PQ30: 5 | PR30: 4 | PS30: 5 | PT30: 5 | PU30: 5 | PV30: 5 | PW30: 5 | PX30: 5 | PY30: 4 | PZ30: 5 | QA30: 4 | QB30: 4 | QC30: 4 | QD30: 5 | QE30: 4 | QF30: 5 | QG30: 2 | QH30: 5 | QI30: 5 | QJ30: 5 | QK30: 5 | QL30: 5 | QM30: 4 | QN30: 5 | QO30: 5 | QP30: 5 | QQ30: 5 | QR30: 5 | QS30: 4 | QT30: 4 | QU30: 5 | QV30: 5 | QW30: 5 | QX30: 5 | QY30: 4 | QZ30: 5 | RA30: 5 | RB30: 5 | RC30: 5 | RD30: 5 | RE30: 3 | RF30: 5 | RG30: 5 | RH30: 5 | RI30: 5 | RJ30: 5 | RK30: 5 | RL30: 5 | RM30: 5 | RN30: 5 | RO30: 4 | RP30: 5 | RQ30: 5 | RR30: 5 | RS30: 5 | RT30: 5 | RU30: 5 | RV30: 5 | RW30: 5 | RX30: 5 | RY30: 5 | RZ30: 4 | SA30: 4 | SB30: 4 | SC30: 5 | SD30: 4 | SE30: 5 | SF30: 4 | SG30: 5 | SH30: 5 | SI30: 5 | SJ30: 5 | SK30: 5 | SL30: 5 | SM30: 5 | SN30: 4 | SO30: 5 | SP30: 5 | SQ30: 5 | SR30: 5 | SS30: 5 | ST30: 5 | SU30: 5 | SV30: 3 | SW30: 4 | SX30: 5 | SY30: 5 | SZ30: 5 | TA30: 5 | TB30: 4 | TC30: 5 | TD30: 5 | TE30: 5 | TF30: 5 | TG30: 5 | TH30: 5 | TI30: 5 | TJ30: 5 | TK30: 4 | TL30: 5 | TM30: 3 | TN30: 5 | TO30: 5 | TP30: 5 | TQ30: 4 | TR30: 5 | TS30: 5 | TT30: 5 | TU30: 4 | TV30: 5 | TW30: 5 | TX30: 5 | TY30: 5 | TZ30: 5 | UA30: 4 | UB30: 5 | UC30: 5 | UD30: 5 | UE30: 5 | UF30: 5 | UG30: 5 | UH30: 5 | UI30: 5 | UJ30: 5 | UK30: 5 | UL30: 5 | UM30: 5 | UN30: 5 | UO30: 4 | UP30: 5 | UQ30: 5 | UR30: 5 | US30: 5 | UT30: 5 | UU30: 5 | UV30: 5 | UW30: 5 | UX30: 5 | UY30: 5 | UZ30: 3 | VA30: 5 | VB30: 5 | VC30: 5 | VD30: 5 | VE30: 5 | VF30: 5 | VG30: 5 | VH30: 3 | VI30: 5 | VJ30: 5 | VK30: 5 | VL30: 5 | VM30: 3 | VN30: 5 | VO30: 5 | VP30: 3 | VQ30: 5 | VR30: 5 | VS30: 5 | VT30: 5 | VU30: 5 | VV30: 5 | VW30: 5 | VX30: 5 | VY30: 4 | VZ30: 5 | WA30: 5 | WB30: 5 | WC30: 5 | WD30: 4 | WE30: 5 | WF30: 5 | WG30: 4 | WH30: 5 | WI30: 5 | WJ30: 5 | WK30: 4 | WL30: 4 | WM30: 5 | WN30: 5 | WO30: 5 | WP30: 5 | WQ30: 4 | WR30: 5 | WS30: 4 | WT30: 5 | WU30: 5 | WV30: 5 | WW30: 5 | WX30: 4 | WY30: 5 | WZ30: 5 | XA30: 5 | XB30: 5 | XC30: 5 | XD30: 5 | XE30: 5 | XF30: 5 | XG30: 5 | XH30: 5 | XI30: 5 | XJ30: 5 | XK30: 5 | XL30: 5 | XM30: 5 | XN30: 5 | XO30: 5 | XP30: 5 | XQ30: 5 | XR30: 4 | XS30: 5 | XT30: 5 | XU30: 5 | XV30: 5 | XW30: 5 | XX30: 4 | XY30: 5 | XZ30: 4 | YA30: 5 | YB30: 4 | YC30: 5 | YD30: 5 | YE30: 5 | YF30: 5 | YG30: 5 | YH30: 5 | YI30: 5 | YJ30: 5 | YK30: 4 | YL30: 5 | YM30: 4 | YN30: 5 | YO30: 5 | YP30: 4 | YQ30: 5 | YR30: 5 | YS30: 5 | YT30: 4 | YU30: 5 | YV30: 5 | YW30: 5 | YX30: 5 | YY30: 4 | YZ30: 3 | ZA30: 5 | ZB30: 5 | ZC30: 5 | ZD30: 5 | ZE30: 5 | ZF30: 5 | ZG30: 5 | ZH30: 5 | ZI30: 5 | ZJ30: 5 | ZK30: 4 | ZL30: 5 | ZM30: 5 | ZN30: 5 | ZO30: 5 | ZP30: 5 | ZQ30: 5 | ZR30: 5 | ZS30: 5 | ZT30: 5 | ZU30: 5 | ZV30: 5 | ZW30: 5 | ZX30: 5 | ZY30: 4 | ZZ30: 1 | AAA30: 5 | AAB30: 5 | AAC30: 5 | AAD30: 5 | AAE30: 5 | AAF30: 5 | AAG30: 4 | AAH30: 5 | AAI30: 5 | AAJ30: 5 | AAK30: 5 | AAL30: 3 | AAM30: 4 | AAN30: 5 | AAO30: 5 | AAP30: 5 | AAQ30: 5 | AAR30: 5 | AAS30: 5 | AAT30: 5 | AAU30: 5 | AAV30: 4 | AAW30: 5 | AAX30: 5 | AAY30: 5 | AAZ30: 5 | ABA30: 5 | ABB30: 4 | ABC30: 5 | ABD30: 5 | ABE30: 5 | ABF30: 5 | ABG30: 5 | ABH30: 4 | ABI30: 5 | ABJ30: 5 | ABK30: 1 | ABL30: 1 | ABM30: 5 | ABN30: 1 | ABO30: 5 | ABP30: 5 | ABQ30: 3 | ABR30: 5 | ABS30: 5 | ABT30: 5 | ABU30: 5 | ABV30: 5 | ABW30: 5 | ABX30: 5 | ABY30: 5 | ABZ30: 5 | ACA30: 5 | ACB30: 5 | ACC30: 5 | ACD30: 5 | ACE30: 5 | ACF30: 4 | ACG30: 5 | ACH30: 3 | ACI30: 5 | ACJ30: 5 | ACK30: 5 | ACL30: 5 | ACM30: 5 | ACN30: 3 | ACO30: 4 | ACP30: 5 | ACQ30: 5 | ACR30: 5 | ACS30: 5 | ACT30: 5 | ACU30: 5 | ACV30: 5 | ACW30: 5 | ACX30: 5 | ACY30: 5 | ACZ30: 5 | ADA30: 4 | ADB30: 5 | ADC30: 5 | ADD30: 4 | ADE30: 5 | ADF30: 4 | ADG30: 5 | ADH30: 4 | ADI30: 5 | ADJ30: 5 | ADK30: 5 | ADL30: 5 | ADM30: 5 | ADN30: 5 | ADO30: 5 | ADP30: 5 | ADQ30: 3 | ADR30: 3 | ADS30: 5 | ADT30: 5 | ADU30: 5 | ADV30: 5 | ADW30: 4 | ADX30: 5 | ADY30: 5 | ADZ30: 5 | AEA30: 5 | AEB30: 5 | AEC30: 5 | AED30: 5 | AEE30: 5 | AEF30: 5 | AEG30: 4 | AEH30: 3 | AEI30: 5 | AEJ30: 4 | AEK30: 5 | AEL30: 5 | AEM30: 5 | AEN30: 5 | AEO30: 5 | AEP30: 5 | AEQ30: 4 | AER30: 5 | AES30: 4 | AET30: 5 | AEU30: 4 | AEV30: 4 | AEW30: 5 | AEX30: 5 | AEY30: 5 | AEZ30: 5 | AFA30: 4 | AFB30: 5 | AFC30: 5 | AFD30: =AVERAGE(Tabela63[[#This Row],[1]:[832]]) -> 4.7283654 | AFE30: =SKEW(Tabela63[[#This Row],[1]:[832]]) -> -3.4271839 | AFF30: =STDEV(Tabela63[[#This Row],[1]:[832]]) -> 0.64209586 | AFG30: 0.86379847
A31: 29 | B31: 11 | C31: Segurança | D31: 1 | E31: 4 | F31: 5 | G31: 5 | H31: 4 | I31: 5 | J31: 5 | K31: 5 | L31: 5 | M31: 4 | N31: 5 | O31: 5 | P31: 4 | Q31: 5 | R31: 3 | S31: 5 | T31: 5 | U31: 5 | V31: 5 | W31: 5 | X31: 5 | Y31: 5 | Z31: 3 | AA31: 5 | AB31: 5 | AC31: 5 | AD31: 5 | AE31: 5 | AF31: 5 | AG31: 5 | AH31: 5 | AI31: 4 | AJ31: 5 | AK31: 5 | AL31: 5 | AM31: 5 | AN31: 5 | AO31: 5 | AP31: 5 | AQ31: 4 | AR31: 5 | AS31: 5 | AT31: 5 | AU31: 4 | AV31: 5 | AW31: 5 | AX31: 4 | AY31: 4 | AZ31: 4 | BA31: 4 | BB31: 4 | BC31: 4 | BD31: 5 | BE31: 5 | BF31: 5 | BG31: 5 | BH31: 4 | BI31: 4 | BJ31: 5 | BK31: 5 | BL31: 5 | BM31: 5 | BN31: 5 | BO31: 5 | BP31: 5 | BQ31: 5 | BR31: 5 | BS31: 5 | BT31: 5 | BU31: 5 | BV31: 5 | BW31: 5 | BX31: 5 | BY31: 4 | BZ31: 4 | CA31: 4 | CB31: 4 | CC31: 5 | CD31: 5 | CE31: 5 | CF31: 5 | CG31: 4 | CH31: 5 | CI31: 4 | CJ31: 5 | CK31: 5 | CL31: 5 | CM31: 5 | CN31: 5 | CO31: 4 | CP31: 5 | CQ31: 5 | CR31: 5 | CS31: 5 | CT31: 4 | CU31: 4 | CV31: 4 | CW31: 5 | CX31: 5 | CY31: 4 | CZ31: 5 | DA31: 5 | DB31: 5 | DC31: 5 | DD31: 5 | DE31: 5 | DF31: 5 | DG31: 4 | DH31: 5 | DI31: 5 | DJ31: 5 | DK31: 4 | DL31: 5 | DM31: 5 | DN31: 5 | DO31: 5 | DP31: 5 | DQ31: 4 | DR31: 5 | DS31: 5 | DT31: 5 | DU31: 5 | DV31: 5 | DW31: 5 | DX31: 3 | DY31: 4 | DZ31: 5 | EA31: 5 | EB31: 5 | EC31: 5 | ED31: 5 | EE31: 5 | EF31: 5 | EG31: 5 | EH31: 5 | EI31: 5 | EJ31: 5 | EK31: 5 | EL31: 4 | EM31: 5 | EN31: 5 | EO31: 4 | EP31: 5 | EQ31: 5 | ER31: 5 | ES31: 4 | ET31: 4 | EU31: 5 | EV31: 4 | EW31: 5 | EX31: 4 | EY31: 5 | EZ31: 5 | FA31: 5 | FB31: 5 | FC31: 5 | FD31: 5 | FE31: 4 | FF31: 5 | FG31: 5 | FH31: 5 | FI31: 5 | FJ31: 5 | FK31: 4 | FL31: 5 | FM31: 5 | FN31: 3 | FO31: 5 | FP31: 5 | FQ31: 5 | FR31: 5 | FS31: 5 | FT31: 4 | FU31: 5 | FV31: 4 | FW31: 4 | FX31: 4 | FY31: 5 | FZ31: 5 | GA31: 4 | GB31: 4 | GC31: 5 | GD31: 4 | GE31: 4 | GF31: 5 | GG31: 5 | GH31: 5 | GI31: 5 | GJ31: 5 | GK31: 4 | GL31: 5 | GM31: 5 | GN31: 5 | GO31: 4 | GP31: 4 | GQ31: 5 | GR31: 5 | GS31: 4 | GT31: 5 | GU31: 5 | GV31: 5 | GW31: 5 | GX31: 5 | GY31: 5 | GZ31: 5 | HA31: 5 | HB31: 4 | HC31: 5 | HD31: 1 | HE31: 5 | HF31: 4 | HG31: 5 | HH31: 5 | HI31: 4 | HJ31: 5 | HK31: 5 | HL31: 4 | HM31: 5 | HN31: 4 | HO31: 5 | HP31: 3 | HQ31: 5 | HR31: 5 | HS31: 4 | HT31: 5 | HU31: 5 | HV31: 5 | HW31: 4 | HX31: 4 | HY31: 5 | HZ31: 5 | IA31: 5 | IB31: 4 | IC31: 4 | ID31: 4 | IE31: 5 | IF31: 5 | IG31: 5 | IH31: 5 | II31: 4 | IJ31: 4 | IK31: 4 | IL31: 4 | IM31: 3 | IN31: 4 | IO31: 5 | IP31: 5 | IQ31: 4 | IR31: 4 | IS31: 4 | IT31: 5 | IU31: 5 | IV31: 5 | IW31: 5 | IX31: 5 | IY31: 5 | IZ31: 5 | JA31: 5 | JB31: 5 | JC31: 0 | JD31: 5 | JE31: 5 | JF31: 4 | JG31: 5 | JH31: 5 | JI31: 5 | JJ31: 4 | JK31: 3 | JL31: 5 | JM31: 3 | JN31: 4 | JO31: 5 | JP31: 5 | JQ31: 5 | JR31: 4 | JS31: 5 | JT31: 5 | JU31: 5 | JV31: 5 | JW31: 5 | JX31: 4 | JY31: 5 | JZ31: 4 | KA31: 5 | KB31: 5 | KC31: 5 | KD31: 5 | KE31: 5 | KF31: 5 | KG31: 5 | KH31: 5 | KI31: 5 | KJ31: 5 | KK31: 5 | KL31: 4 | KM31: 5 | KN31: 5 | KO31: 5 | KP31: 4 | KQ31: 4 | KR31: 5 | KS31: 5 | KT31: 5 | KU31: 4 | KV31: 4 | KW31: 5 | KX31: 5 | KY31: 5 | KZ31: 5 | LA31: 5 | LB31: 5 | LC31: 5 | LD31: 5 | LE31: 4 | LF31: 5 | LG31: 4 | LH31: 5 | LI31: 5 | LJ31: 5 | LK31: 4 | LL31: 3 | LM31: 5 | LN31: 4 | LO31: 5 | LP31: 5 | LQ31: 5 | LR31: 5 | LS31: 5 | LT31: 5 | LU31: 1 | LV31: 5 | LW31: 2 | LX31: 5 | LY31: 5 | LZ31: 5 | MA31: 5 | MB31: 5 | MC31: 5 | MD31: 5 | ME31: 5 | MF31: 5 | MG31: 3 | MH31: 5 | MI31: 5 | MJ31: 5 | MK31: 5 | ML31: 5 | MM31: 4 | MN31: 5 | MO31: 5 | MP31: 5 | MQ31: 5 | MR31: 5 | MS31: 5 | MT31: 5 | MU31: 5 | MV31: 5 | MW31: 5 | MX31: 5 | MY31: 4 | MZ31: 5 | NA31: 4 | NB31: 5 | NC31: 5 | ND31: 3 | NE31: 4 | NF31: 5 | NG31: 5 | NH31: 4 | NI31: 5 | NJ31: 4 | NK31: 3 | NL31: 4 | NM31: 5 | NN31: 4 | NO31: 5 | NP31: 5 | NQ31: 5 | NR31: 5 | NS31: 4 | NT31: 5 | NU31: 4 | NV31: 5 | NW31: 5 | NX31: 5 | NY31: 5 | NZ31: 5 | OA31: 5 | OB31: 5 | OC31: 5 | OD31: 4 | OE31: 4 | OF31: 5 | OG31: 5 | OH31: 4 | OI31: 5 | OJ31: 5 | OK31: 5 | OL31: 5 | OM31: 4 | ON31: 5 | OO31: 5 | OP31: 5 | OQ31: 5 | OR31: 4 | OS31: 4 | OT31: 5 | OU31: 5 | OV31: 5 | OW31: 5 | OX31: 5 | OY31: 5 | OZ31: 5 | PA31: 5 | PB31: 5 | PC31: 5 | PD31: 4 | PE31: 4 | PF31: 5 | PG31: 0 | PH31: 5 | PI31: 5 | PJ31: 5 | PK31: 5 | PL31: 1 | PM31: 5 | PN31: 5 | PO31: 4 | PP31: 5 | PQ31: 5 | PR31: 4 | PS31: 5 | PT31: 4 | PU31: 5 | PV31: 5 | PW31: 5 | PX31: 5 | PY31: 4 | PZ31: 5 | QA31: 4 | QB31: 4 | QC31: 4 | QD31: 5 | QE31: 4 | QF31: 5 | QG31: 2 | QH31: 5 | QI31: 5 | QJ31: 5 | QK31: 5 | QL31: 5 | QM31: 4 | QN31: 5 | QO31: 5 | QP31: 5 | QQ31: 5 | QR31: 5 | QS31: 4 | QT31: 4 | QU31: 5 | QV31: 5 | QW31: 5 | QX31: 5 | QY31: 5 | QZ31: 5 | RA31: 5 | RB31: 4 | RC31: 4 | RD31: 5 | RE31: 3 | RF31: 5 | RG31: 5 | RH31: 5 | RI31: 5 | RJ31: 5 | RK31: 5 | RL31: 5 | RM31: 5 | RN31: 5 | RO31: 3 | RP31: 5 | RQ31: 5 | RR31: 5 | RS31: 5 | RT31: 5 | RU31: 5 | RV31: 5 | RW31: 5 | RX31: 4 | RY31: 5 | RZ31: 4 | SA31: 4 | SB31: 4 | SC31: 5 | SD31: 4 | SE31: 5 | SF31: 4 | SG31: 5 | SH31: 5 | SI31: 5 | SJ31: 5 | SK31: 5 | SL31: 5 | SM31: 5 | SN31: 5 | SO31: 5 | SP31: 5 | SQ31: 5 | SR31: 5 | SS31: 5 | ST31: 4 | SU31: 5 | SV31: 4 | SW31: 4 | SX31: 5 | SY31: 4 | SZ31: 5 | TA31: 5 | TB31: 4 | TC31: 5 | TD31: 5 | TE31: 5 | TF31: 4 | TG31: 5 | TH31: 5 | TI31: 5 | TJ31: 5 | TK31: 4 | TL31: 4 | TM31: 5 | TN31: 5 | TO31: 5 | TP31: 5 | TQ31: 4 | TR31: 5 | TS31: 4 | TT31: 5 | TU31: 4 | TV31: 5 | TW31: 5 | TX31: 5 | TY31: 5 | TZ31: 5 | UA31: 4 | UB31: 5 | UC31: 5 | UD31: 5 | UE31: 5 | UF31: 5 | UG31: 5 | UH31: 5 | UI31: 5 | UJ31: 5 | UK31: 5 | UL31: 4 | UM31: 5 | UN31: 5 | UO31: 4 | UP31: 5 | UQ31: 5 | UR31: 5 | US31: 5 | UT31: 5 | UU31: 5 | UV31: 5 | UW31: 5 | UX31: 5 | UY31: 5 | UZ31: 3 | VA31: 5 | VB31: 5 | VC31: 5 | VD31: 5 | VE31: 5 | VF31: 5 | VG31: 5 | VH31: 3 | VI31: 5 | VJ31: 5 | VK31: 5 | VL31: 5 | VM31: 3 | VN31: 5 | VO31: 5 | VP31: 3 | VQ31: 5 | VR31: 5 | VS31: 5 | VT31: 5 | VU31: 5 | VV31: 5 | VW31: 5 | VX31: 5 | VY31: 3 | VZ31: 5 | WA31: 5 | WB31: 5 | WC31: 5 | WD31: 4 | WE31: 5 | WF31: 5 | WG31: 4 | WH31: 5 | WI31: 5 | WJ31: 5 | WK31: 5 | WL31: 4 | WM31: 5 | WN31: 5 | WO31: 5 | WP31: 5 | WQ31: 4 | WR31: 5 | WS31: 4 | WT31: 5 | WU31: 5 | WV31: 5 | WW31: 5 | WX31: 4 | WY31: 5 | WZ31: 5 | XA31: 5 | XB31: 5 | XC31: 5 | XD31: 5 | XE31: 5 | XF31: 5 | XG31: 5 | XH31: 5 | XI31: 5 | XJ31: 5 | XK31: 5 | XL31: 5 | XM31: 4 | XN31: 5 | XO31: 5 | XP31: 5 | XQ31: 5 | XR31: 4 | XS31: 5 | XT31: 5 | XU31: 5 | XV31: 5 | XW31: 5 | XX31: 4 | XY31: 5 | XZ31: 4 | YA31: 5 | YB31: 5 | YC31: 5 | YD31: 5 | YE31: 5 | YF31: 5 | YG31: 5 | YH31: 4 | YI31: 5 | YJ31: 5 | YK31: 5 | YL31: 5 | YM31: 5 | YN31: 5 | YO31: 5 | YP31: 5 | YQ31: 4 | YR31: 5 | YS31: 5 | YT31: 4 | YU31: 5 | YV31: 5 | YW31: 5 | YX31: 5 | YY31: 5 | YZ31: 2 | ZA31: 5 | ZB31: 5 | ZC31: 4 | ZD31: 5 | ZE31: 5 | ZF31: 5 | ZG31: 5 | ZH31: 4 | ZI31: 5 | ZJ31: 5 | ZK31: 4 | ZL31: 5 | ZM31: 5 | ZN31: 5 | ZO31: 5 | ZP31: 5 | ZQ31: 5 | ZR31: 5 | ZS31: 5 | ZT31: 4 | ZU31: 5 | ZV31: 5 | ZW31: 4 | ZX31: 5 | ZY31: 4 | ZZ31: 1 | AAA31: 5 | AAB31: 4 | AAC31: 5 | AAD31: 5 | AAE31: 5 | AAF31: 4 | AAG31: 4 | AAH31: 5 | AAI31: 5 | AAJ31: 5 | AAK31: 5 | AAL31: 3 | AAM31: 4 | AAN31: 5 | AAO31: 5 | AAP31: 4 | AAQ31: 5 | AAR31: 5 | AAS31: 5 | AAT31: 5 | AAU31: 5 | AAV31: 4 | AAW31: 5 | AAX31: 5 | AAY31: 5 | AAZ31: 5 | ABA31: 5 | ABB31: 4 | ABC31: 4 | ABD31: 5 | ABE31: 5 | ABF31: 5 | ABG31: 5 | ABH31: 4 | ABI31: 4 | ABJ31: 5 | ABK31: 1 | ABL31: 1 | ABM31: 5 | ABN31: 1 | ABO31: 5 | ABP31: 5 | ABQ31: 3 | ABR31: 5 | ABS31: 4 | ABT31: 4 | ABU31: 5 | ABV31: 4 | ABW31: 5 | ABX31: 5 | ABY31: 5 | ABZ31: 5 | ACA31: 5 | ACB31: 5 | ACC31: 5 | ACD31: 5 | ACE31: 5 | ACF31: 3 | ACG31: 5 | ACH31: 3 | ACI31: 5 | ACJ31: 5 | ACK31: 5 | ACL31: 5 | ACM31: 5 | ACN31: 3 | ACO31: 4 | ACP31: 5 | ACQ31: 5 | ACR31: 5 | ACS31: 5 | ACT31: 5 | ACU31: 5 | ACV31: 5 | ACW31: 5 | ACX31: 5 | ACY31: 5 | ACZ31: 5 | ADA31: 4 | ADB31: 5 | ADC31: 5 | ADD31: 4 | ADE31: 5 | ADF31: 5 | ADG31: 5 | ADH31: 4 | ADI31: 5 | ADJ31: 5 | ADK31: 5 | ADL31: 5 | ADM31: 5 | ADN31: 4 | ADO31: 4 | ADP31: 4 | ADQ31: 4 | ADR31: 4 | ADS31: 5 | ADT31: 4 | ADU31: 4 | ADV31: 4 | ADW31: 4 | ADX31: 5 | ADY31: 5 | ADZ31: 5 | AEA31: 5 | AEB31: 5 | AEC31: 5 | AED31: 4 | AEE31: 5 | AEF31: 5 | AEG31: 4 | AEH31: 3 | AEI31: 4 | AEJ31: 5 | AEK31: 5 | AEL31: 5 | AEM31: 5 | AEN31: 5 | AEO31: 5 | AEP31: 5 | AEQ31: 4 | AER31: 5 | AES31: 5 | AET31: 5 | AEU31: 4 | AEV31: 4 | AEW31: 5 | AEX31: 5 | AEY31: 5 | AEZ31: 5 | AFA31: 4 | AFB31: 5 | AFC31: 5 | AFD31: =AVERAGE(Tabela63[[#This Row],[1]:[832]]) -> 4.6538462 | AFE31: =SKEW(Tabela63[[#This Row],[1]:[832]]) -> -2.9307846 | AFF31: =STDEV(Tabela63[[#This Row],[1]:[832]]) -> 0.68708885 | AFG31: 0.86564182
B32: 12 | C32: MÉDIA | AFD32: =AVERAGE(D21:AFC31) -> 4.4443837
B33: 13 | C33: COEFICIÊNCIA DE ASSIMETRIA | AFE33: =SKEW(D21:AFC31) -> -2.3110373
B34: 14 | C34: DESVIO PADRÃO | AFF34: =STDEV(D21:AFC31) -> 0.84394203
B35: 15 | C35: FIABILIDADE (ALPHA CRONBACH) | AFG35: 0.89318811
B37: Obs: O cálculo do coeficiente de fiabilidade (Alpha de Cronbach) foi feito a partir do sítio, http://www.brunopedroso.com.br/cronbach.html

Sheet Parte BB_Masculino
C1: MASCULINO | D1: Inq | E1: Inq | F1: Inq | G1: Inq | H1: Inq | I1: Inq | J1: Inq | K1: Inq | L1: Inq | M1: Inq | N1: Inq | O1: Inq | P1: Inq | Q1: Inq | R1: Inq | S1: Inq | T1: Inq | U1: Inq | V1: Inq | W1: Inq | X1: Inq | Y1: Inq | Z1: Inq | AA1: Inq | AB1: Inq | AC1: Inq | AD1: Inq | AE1: Inq | AF1: Inq | AG1: Inq | AH1: Inq | AI1: Inq | AJ1: Inq | AK1: Inq | AL1: Inq | AM1: Inq | AN1: Inq | AO1: Inq | AP1: Inq | AQ1: Inq | AR1: Inq | AS1: Inq | AT1: Inq | AU1: Inq | AV1: Inq | AW1: Inq | AX1: Inq | AY1: Inq | AZ1: Inq | BA1: Inq | BB1: Inq | BC1: Inq | BD1: Inq | BE1: Inq | BF1: Inq | BG1: Inq | BH1: Inq | BI1: Inq | BJ1: Inq | BK1: Inq | BL1: Inq | BM1: Inq | BN1: Inq | BO1: Inq | BP1: Inq | BQ1: Inq | BR1: Inq | BS1: Inq | BT1: Inq | BU1: Inq | BV1: Inq | BW1: Inq | BX1: Inq | BY1: Inq | BZ1: Inq | CA1: Inq | CB1: Inq | CC1: Inq | CD1: Inq | CE1: Inq | CF1: Inq | CG1: Inq | CH1: Inq | CI1: Inq | CJ1: Inq | CK1: Inq | CL1: Inq | CM1: Inq | CN1: Inq | CO1: Inq | CP1: Inq | CQ1: Inq | CR1: Inq | CS1: Inq | CT1: Inq | CU1: Inq | CV1: Inq | CW1: Inq | CX1: Inq | CY1: Inq | CZ1: Inq | DA1: Inq | DB1: Inq | DC1: Inq | DD1: Inq | DE1: Inq | DF1: Inq | DG1: Inq | DH1: Inq | DI1: Inq | DJ1: Inq | DK1: Inq | DL1: Inq | DM1: Inq | DN1: Inq | DO1: Inq | DP1: Inq | DQ1: Inq | DR1: Inq | DS1: Inq | DT1: Inq | DU1: Inq | DV1: Inq | DW1: Inq | DX1: Inq | DY1: Inq | DZ1: Inq | EA1: Inq | EB1: Inq | EC1: Inq | ED1: Inq | EE1: Inq | EF1: Inq | EG1: Inq | EH1: Inq | EI1: Inq | EJ1: Inq | EK1: Inq | EL1: Inq | EM1: Inq | EN1: Inq | EO1: Inq | EP1: Inq | EQ1: Inq | ER1: Inq | ES1: Inq | ET1: Inq | EU1: Inq | EV1: Inq | EW1: Inq | EX1: Inq | EY1: Inq | EZ1: Inq | FA1: Inq | FB1: Inq | FC1: Inq | FD1: Inq | FE1: Inq | FF1: Inq | FG1: Inq | FH1: Inq | FI1: Inq | FJ1: Inq | FK1: Inq | FL1: Inq | FM1: Inq | FN1: Inq | FO1: Inq | FP1: Inq | FQ1: Inq | FR1: Inq | FS1: Inq | FT1: Inq | FU1: Inq
A2: Coluna1 | B2: Nº Perg | C2: DIMENSÕES | D2: 5 | E2: 7 | F2: 11 | G2: 12 | H2: 13 | I2: 17 | J2: 23 | K2: 24 | L2: 26 | M2: 30 | N2: 40 | O2: 44 | P2: 45 | Q2: 46 | R2: 47 | S2: 50 | T2: 52 | U2: 53 | V2: 54 | W2: 55 | X2: 56 | Y2: 57 | Z2: 59 | AA2: 63 | AB2: 70 | AC2: 82 | AD2: 84 | AE2: 91 | AF2: 97 | AG2: 105 | AH2: 106 | AI2: 107 | AJ2: 108 | AK2: 110 | AL2: 111 | AM2: 113 | AN2: 115 | AO2: 118 | AP2: 124 | AQ2: 127 | AR2: 128 | AS2: 136 | AT2: 140 | AU2: 142 | AV2: 144 | AW2: 149 | AX2: 154 | AY2: 164 | AZ2: 167 | BA2: 170 | BB2: 171 | BC2: 177 | BD2: 178 | BE2: 204 | BF2: 207 | BG2: 208 | BH2: 221 | BI2: 224 | BJ2: 228 | BK2: 242 | BL2: 244 | BM2: 245 | BN2: 248 | BO2: 250 | BP2: 252 | BQ2: 253 | BR2: 254 | BS2: 256 | BT2: 259 | BU2: 264 | BV2: 270 | BW2: 276 | BX2: 300 | BY2: 302 | BZ2: 303 | CA2: 305 | CB2: 308 | CC2: 309 | CD2: 314 | CE2: 316 | CF2: 320 | CG2: 324 | CH2: 335 | CI2: 340 | CJ2: 342 | CK2: 358 | CL2: 359 | CM2: 363 | CN2: 364 | CO2: 373 | CP2: 377 | CQ2: 378 | CR2: 379 | CS2: 380 | CT2: 387 | CU2: 391 | CV2: 395 | CW2: 396 | CX2: 399 | CY2: 406 | CZ2: 417 | DA2: 419 | DB2: 423 | DC2: 430 | DD2: 433 | DE2: 435 | DF2: 441 | DG2: 442 | DH2: 444 | DI2: 449 | DJ2: 451 | DK2: 456 | DL2: 459 | DM2: 472 | DN2: 480 | DO2: 494 | DP2: 496 | DQ2: 497 | DR2: 500 | DS2: 503 | DT2: 513 | DU2: 522 | DV2: 527 | DW2: 528 | DX2: 529 | DY2: 534 | DZ2: 548 | EA2: 564 | EB2: 566 | EC2: 577 | ED2: 585 | EE2: 595 | EF2: 618 | EG2: 619 | EH2: 622 | EI2: 625 | EJ2: 628 | EK2: 631 | EL2: 637 | EM2: 638 | EN2: 645 | EO2: 657 | EP2: 658 | EQ2: 659 | ER2: 663 | ES2: 664 | ET2: 665 | EU2: 666 | EV2: 667 | EW2: 668 | EX2: 669 | EY2: 673 | EZ2: 674 | FA2: 676 | FB2: 679 | FC2: 681 | FD2: 703 | FE2: 704 | FF2: 705 | FG2: 706 | FH2: 707 | FI2: 742 | FJ2: 760 | FK2: 764 | FL2: 765 | FM2: 766 | FN2: 768 | FO2: 777 | FP2: 780 | FQ2: 785 | FR2: 799 | FS2: 812 | FT2: 816 | FU2: 825 | FV2: MÉDIA | FW2: COEFICIENTE DE ASSIMETRIA (SKEWNESS) | FX2: DESVIO PADRÃO | FY2: FIABILIDADE (Alpha Cronbach)
C3: MASCULINO | D3: X | E3: X | F3: X | G3: X | H3: X | I3: X | J3: X | K3: X | L3: X | M3: X | N3: X | O3: X | P3: X | Q3: X | R3: X | S3: X | T3: X | U3: X | V3: X | W3: X | X3: X | Y3: X | Z3: X | AA3: X | AB3: X | AC3: X | AD3: X | AE3: X | AF3: X | AG3: X | AH3: X | AI3: X | AJ3: X | AK3: X | AL3: X | AM3: X | AN3: X | AO3: X | AP3: X | AQ3: X | AR3: X | AS3: X | AT3: X | AU3: X | AV3: X | AW3: X | AX3: X | AY3: X | AZ3: X | BA3: X | BB3: X | BC3: X | BD3: X | BE3: X | BF3: X | BG3: X | BH3: X | BI3: X | BJ3: X | BK3: X | BL3: X | BM3: X | BN3: X | BO3: X | BP3: X | BQ3: X | BR3: X | BS3: X | BT3: X | BU3: X | BV3: X | BW3: X | BX3: X | BY3: X | BZ3: X | CA3: X | CB3: X | CC3: X | CD3: X | CE3: X | CF3: X | CG3: X | CH3: X | CI3: X | CJ3: X | CK3: X | CL3: X | CM3: X | CN3: X | CO3: X | CP3: X | CQ3: X | CR3: X | CS3: X | CT3: X | CU3: X | CV3: X | CW3: X | CX3: X | CY3: X | CZ3: X | DA3: X | DB3: X | DC3: X | DD3: X | DE3: X | DF3: X | DG3: X | DH3: X | DI3: X | DJ3: X | DK3: X | DL3: X | DM3: X | DN3: X | DO3: X | DP3: X | DQ3: X | DR3: X | DS3: X | DT3: X | DU3: X | DV3: X | DW3: X | DX3: X | DY3: X | DZ3: X | EA3: X | EB3: X | EC3: X | ED3: X | EE3: X | EF3: X | EG3: X | EH3: X | EI3: X | EJ3: X | EK3: X | EL3: X | EM3: X | EN3: X | EO3: X | EP3: X | EQ3: X | ER3: X | ES3: X | ET3: X | EU3: X | EV3: X | EW3: X | EX3: X | EY3: X | EZ3: X | FA3: X | FB3: X | FC3: X | FD3: X | FE3: X | FF3: X | FG3: X | FH3: X | FI3: X | FJ3: X | FK3: X | FL3: X | FM3: X | FN3: X | FO3: X | FP3: X | FQ3: X | FR3: X | FS3: X | FT3: X | FU3: X
A11: 19 | B11: 1 | C11: Autonomia | D11: 4 | E11: 5 | F11: 5 | G11: 5 | H11: 4 | I11: 4 | J11: 4 | K11: 5 | L11: 4 | M11: 4 | N11: 4 | O11: 4 | P11: 4 | Q11: 5 | R11: 5 | S11: 4 | T11: 3 | U11: 5 | V11: 5 | W11: 3 | X11: 3 | Y11: 5 | Z11: 5 | AA11: 5 | AB11: 4 | AC11: 5 | AD11: 3 | AE11: 4 | AF11: 4 | AG11: 5 | AH11: 4 | AI11: 4 | AJ11: 5 | AK11: 4 | AL11: 4 | AM11: 4 | AN11: 3 | AO11: 4 | AP11: 4 | AQ11: 4 | AR11: 4 | AS11: 4 | AT11: 4 | AU11: 5 | AV11: 5 | AW11: 5 | AX11: 5 | AY11: 5 | AZ11: 4 | BA11: 5 | BB11: 5 | BC11: 5 | BD11: 4 | BE11: 3 | BF11: 3 | BG11: 5 | BH11: 4 | BI11: 4 | BJ11: 4 | BK11: 4 | BL11: 3 | BM11: 4 | BN11: 5 | BO11: 4 | BP11: 5 | BQ11: 4 | BR11: 4 | BS11: 5 | BT11: 5 | BU11: 5 | BV11: 3 | BW11: 5 | BX11: 5 | BY11: 4 | BZ11: 3 | CA11: 5 | CB11: 5 | CC11: 4 | CD11: 4 | CE11: 5 | CF11: 5 | CG11: 5 | CH11: 5 | CI11: 4 | CJ11: 3 | CK11: 5 | CL11: 5 | CM11: 5 | CN11: 5 | CO11: 5 | CP11: 5 | CQ11: 5 | CR11: 5 | CS11: 3 | CT11: 5 | CU11: 3 | CV11: 5 | CW11: 4 | CX11: 5 | CY11: 4 | CZ11: 4 | DA11: 5 | DB11: 5 | DC11: 4 | DD11: 5 | DE11: 5 | DF11: 5 | DG11: 4 | DH11: 4 | DI11: 5 | DJ11: 4 | DK11: 5 | DL11: 4 | DM11: 3 | DN11: 4 | DO11: 4 | DP11: 4 | DQ11: 5 | DR11: 5 | DS11: 4 | DT11: 4 | DU11: 5 | DV11: 5 | DW11: 4 | DX11: 4 | DY11: 5 | DZ11: 5 | EA11: 5 | EB11: 5 | EC11: 4 | ED11: 5 | EE11: 4 | EF11: 5 | EG11: 4 | EH11: 1 | EI11: 5 | EJ11: 5 | EK11: 5 | EL11: 4 | EM11: 5 | EN11: 5 | EO11: 5 | EP11: 5 | EQ11: 5 | ER11: 5 | ES11: 4 | ET11: 5 | EU11: 1 | EV11: 5 | EW11: 5 | EX11: 3 | EY11: 3 | EZ11: 5 | FA11: 5 | FB11: 5 | FC11: 4 | FD11: 4 | FE11: 5 | FF11: 5 | FG11: 5 | FH11: 4 | FI11: 4 | FJ11: 4 | FK11: 4 | FL11: 3 | FM11: 4 | FN11: 4 | FO11: 4 | FP11: 1 | FQ11: 4 | FR11: 5 | FS11: 5 | FT11: 5 | FU11: 4 | FV11: =AVERAGE(Tabela634[[#This Row],[5]:[825]]) -> 4.3390805 | FW11: =SKEW(Tabela634[[#This Row],[5]:[825]]) -> -1.5278166 | FX11: =STDEV(Tabela634[[#This Row],[5]:[825]]) -> 0.79374088 | FY11: 0.85606323
A12: 20 | B12: 2 | C12: Aprendizagem/Formação | D12: 2 | E12: 5 | F12: 5 | G12: 4 | H12: 4 | I12: 5 | J12: 5 | K12: 5 | L12: 5 | M12: 5 | N12: 4 | O12: 4 | P12: 5 | Q12: 5 | R12: 5 | S12: 4 | T12: 4 | U12: 4 | V12: 5 | W12: 1 | X12: 4 | Y12: 4 | Z12: 4 | AA12: 5 | AB12: 4 | AC12: 5 | AD12: 3 | AE12: 5 | AF12: 4 | AG12: 5 | AH12: 5 | AI12: 5 | AJ12: 5 | AK12: 5 | AL12: 5 | AM12: 5 | AN12: 4 | AO12: 5 | AP12: 5 | AQ12: 5 | AR12: 5 | AS12: 4 | AT12: 5 | AU12: 4 | AV12: 5 | AW12: 4 | AX12: 5 | AY12: 5 | AZ12: 5 | BA12: 5 | BB12: 5 | BC12: 4 | BD12: 5 | BE12: 5 | BF12: 4 | BG12: 5 | BH12: 4 | BI12: 4 | BJ12: 5 | BK12: 4 | BL12: 2 | BM12: 4 | BN12: 5 | BO12: 4 | BP12: 5 | BQ12: 4 | BR12: 4 | BS12: 5 | BT12: 5 | BU12: 4 | BV12: 4 | BW12: 5 | BX12: 5 | BY12: 4 | BZ12: 5 | CA12: 5 | CB12: 5 | CC12: 5 | CD12: 4 | CE12: 4 | CF12: 4 | CG12: 5 | CH12: 5 | CI12: 5 | CJ12: 2 | CK12: 5 | CL12: 5 | CM12: 5 | CN12: 5 | CO12: 5 | CP12: 5 | CQ12: 5 | CR12: 5 | CS12: 3 | CT12: 5 | CU12: 3 | CV12: 4 | CW12: 5 | CX12: 5 | CY12: 4 | CZ12: 4 | DA12: 4 | DB12: 5 | DC12: 4 | DD12: 5 | DE12: 5 | DF12: 4 | DG12: 4 | DH12: 5 | DI12: 5 | DJ12: 5 | DK12: 4 | DL12: 5 | DM12: 3 | DN12: 2 | DO12: 5 | DP12: 4 | DQ12: 5 | DR12: 5 | DS12: 4 | DT12: 5 | DU12: 5 | DV12: 5 | DW12: 2 | DX12: 4 | DY12: 5 | DZ12: 5 | EA12: 5 | EB12: 5 | EC12: 4 | ED12: 5 | EE12: 4 | EF12: 5 | EG12: 4 | EH12: 5 | EI12: 5 | EJ12: 5 | EK12: 5 | EL12: 5 | EM12: 5 | EN12: 5 | EO12: 4 | EP12: 5 | EQ12: 5 | ER12: 4 | ES12: 5 | ET12: 5 | EU12: 4 | EV12: 5 | EW12: 5 | EX12: 4 | EY12: 4 | EZ12: 5 | FA12: 4 | FB12: 5 | FC12: 4 | FD12: 4 | FE12: 4 | FF12: 5 | FG12: 5 | FH12: 5 | FI12: 2 | FJ12: 5 | FK12: 5 | FL12: 3 | FM12: 4 | FN12: 5 | FO12: 4 | FP12: 1 | FQ12: 4 | FR12: 4 | FS12: 4 | FT12: 5 | FU12: 5 | FV12: =AVERAGE(Tabela634[[#This Row],[5]:[825]]) -> 4.454023 | FW12: =SKEW(Tabela634[[#This Row],[5]:[825]]) -> -1.9392836 | FX12: =STDEV(Tabela634[[#This Row],[5]:[825]]) -> 0.80866758 | FY12: 0.84276487
A13: 21 | B13: 3 | C13: Condições físicas de trabalho | D13: 5 | E13: 5 | F13: 5 | G13: 4 | H13: 4 | I13: 5 | J13: 5 | K13: 5 | L13: 5 | M13: 4 | N13: 3 | O13: 4 | P13: 5 | Q13: 4 | R13: 4 | S13: 4 | T13: 4 | U13: 5 | V13: 4 | W13: 1 | X13: 3 | Y13: 3 | Z13: 4 | AA13: 4 | AB13: 5 | AC13: 4 | AD13: 4 | AE13: 5 | AF13: 3 | AG13: 5 | AH13: 5 | AI13: 5 | AJ13: 5 | AK13: 4 | AL13: 5 | AM13: 4 | AN13: 5 | AO13: 4 | AP13: 5 | AQ13: 5 | AR13: 3 | AS13: 4 | AT13: 5 | AU13: 4 | AV13: 5 | AW13: 3 | AX13: 5 | AY13: 5 | AZ13: 3 | BA13: 5 | BB13: 5 | BC13: 5 | BD13: 5 | BE13: 5 | BF13: 3 | BG13: 4 | BH13: 3 | BI13: 4 | BJ13: 3 | BK13: 5 | BL13: 2 | BM13: 4 | BN13: 5 | BO13: 4 | BP13: 5 | BQ13: 5 | BR13: 4 | BS13: 5 | BT13: 5 | BU13: 4 | BV13: 3 | BW13: 5 | BX13: 4 | BY13: 4 | BZ13: 3 | CA13: 4 | CB13: 5 | CC13: 5 | CD13: 4 | CE13: 5 | CF13: 5 | CG13: 5 | CH13: 5 | CI13: 5 | CJ13: 4 | CK13: 5 | CL13: 5 | CM13: 2 | CN13: 5 | CO13: 5 | CP13: 5 | CQ13: 5 | CR13: 5 | CS13: 4 | CT13: 4 | CU13: 3 | CV13: 5 | CW13: 5 | CX13: 5 | CY13: 3 | CZ13: 4 | DA13: 5 | DB13: 5 | DC13: 4 | DD13: 2 | DE13: 5 | DF13: 4 | DG13: 5 | DH13: 5 | DI13: 4 | DJ13: 5 | DK13: 4 | DL13: 4 | DM13: 4 | DN13: 2 | DO13: 4 | DP13: 3 | DQ13: 4 | DR13: 5 | DS13: 4 | DT13: 4 | DU13: 5 | DV13: 5 | DW13: 3 | DX13: 4 | DY13: 4 | DZ13: 4 | EA13: 5 | EB13: 4 | EC13: 3 | ED13: 4 | EE13: 4 | EF13: 5 | EG13: 4 | EH13: 5 | EI13: 4 | EJ13: 5 | EK13: 4 | EL13: 5 | EM13: 4 | EN13: 4 | EO13: 5 | EP13: 5 | EQ13: 5 | ER13: 4 | ES13: 5 | ET13: 5 | EU13: 3 | EV13: 4 | EW13: 5 | EX13: 5 | EY13: 3 | EZ13: 3 | FA13: 3 | FB13: 4 | FC13: 4 | FD13: 5 | FE13: 5 | FF13: 3 | FG13: 3 | FH13: 4 | FI13: 3 | FJ13: 5 | FK13: 4 | FL13: 3 | FM13: 4 | FN13: 4 | FO13: 4 | FP13: 1 | FQ13: 4 | FR13: 4 | FS13: 4 | FT13: 5 | FU13: 4 | FV13: =AVERAGE(Tabela634[[#This Row],[5]:[825]]) -> 4.2183908 | FW13: =SKEW(Tabela634[[#This Row],[5]:[825]]) -> -1.1016458 | FX13: =STDEV(Tabela634[[#This Row],[5]:[825]]) -> 0.8591606 | FY13: 0.8397969
A14: 22 | B14: 4 | C14: Equilíbrio vida profissional / pessoal | D14: 5 | E14: 5 | F14: 5 | G14: 5 | H14: 5 | I14: 5 | J14: 5 | K14: 5 | L14: 4 | M14: 5 | N14: 3 | O14: 4 | P14: 5 | Q14: 5 | R14: 4 | S14: 5 | T14: 4 | U14: 4 | V14: 5 | W14: 3 | X14: 5 | Y14: 3 | Z14: 4 | AA14: 5 | AB14: 5 | AC14: 4 | AD14: 3 | AE14: 5 | AF14: 4 | AG14: 5 | AH14: 5 | AI14: 5 | AJ14: 5 | AK14: 4 | AL14: 5 | AM14: 5 | AN14: 5 | AO14: 4 | AP14: 5 | AQ14: 5 | AR14: 5 | AS14: 4 | AT14: 5 | AU14: 5 | AV14: 5 | AW14: 4 | AX14: 5 | AY14: 4 | AZ14: 3 | BA14: 5 | BB14: 5 | BC14: 4 | BD14: 5 | BE14: 5 | BF14: 3 | BG14: 5 | BH14: 3 | BI14: 5 | BJ14: 3 | BK14: 5 | BL14: 4 | BM14: 5 | BN14: 5 | BO14: 5 | BP14: 5 | BQ14: 5 | BR14: 4 | BS14: 5 | BT14: 5 | BU14: 3 | BV14: 4 | BW14: 5 | BX14: 5 | BY14: 5 | BZ14: 5 | CA14: 5 | CB14: 5 | CC14: 5 | CD14: 5 | CE14: 5 | CF14: 5 | CG14: 5 | CH14: 3 | CI14: 5 | CJ14: 4 | CK14: 5 | CL14: 5 | CM14: 5 | CN14: 4 | CO14: 4 | CP14: 5 | CQ14: 5 | CR14: 5 | CS14: 5 | CT14: 4 | CU14: 4 | CV14: 5 | CW14: 0 | CX14: 5 | CY14: 4 | CZ14: 4 | DA14: 5 | DB14: 5 | DC14: 5 | DD14: 4 | DE14: 5 | DF14: 5 | DG14: 5 | DH14: 4 | DI14: 5 | DJ14: 4 | DK14: 5 | DL14: 5 | DM14: 4 | DN14: 3 | DO14: 5 | DP14: 4 | DQ14: 4 | DR14: 5 | DS14: 5 | DT14: 4 | DU14: 5 | DV14: 5 | DW14: 3 | DX14: 5 | DY14: 4 | DZ14: 4 | EA14: 5 | EB14: 5 | EC14: 4 | ED14: 5 | EE14: 4 | EF14: 5 | EG14: 5 | EH14: 5 | EI14: 5 | EJ14: 5 | EK14: 5 | EL14: 5 | EM14: 5 | EN14: 4 | EO14: 5 | EP14: 5 | EQ14: 5 | ER14: 5 | ES14: 4 | ET14: 5 | EU14: 5 | EV14: 5 | EW14: 4 | EX14: 5 | EY14: 5 | EZ14: 3 | FA14: 4 | FB14: 4 | FC14: 5 | FD14: 5 | FE14: 4 | FF14: 5 | FG14: 4 | FH14: 3 | FI14: 3 | FJ14: 4 | FK14: 5 | FL14: 3 | FM14: 5 | FN14: 5 | FO14: 4 | FP14: 2 | FQ14: 4 | FR14: 5 | FS14: 4 | FT14: 5 | FU14: 3 | FV14: =AVERAGE(Tabela634[[#This Row],[5]:[825]]) -> 4.4942529 | FW14: =SKEW(Tabela634[[#This Row],[5]:[825]]) -> -1.9520963 | FX14: =STDEV(Tabela634[[#This Row],[5]:[825]]) -> 0.77345502 | FY14: 0.85097586
A15: 23 | B15: 5 | C15: Independência | D15: 5 | E15: 4 | F15: 5 | G15: 5 | H15: 4 | I15: 4 | J15: 4 | K15: 5 | L15: 4 | M15: 4 | N15: 4 | O15: 4 | P15: 5 | Q15: 5 | R15: 3 | S15: 4 | T15: 4 | U15: 3 | V15: 3 | W15: 3 | X15: 3 | Y15: 4 | Z15: 4 | AA15: 5 | AB15: 3 | AC15: 4 | AD15: 3 | AE15: 4 | AF15: 4 | AG15: 5 | AH15: 4 | AI15: 4 | AJ15: 4 | AK15: 4 | AL15: 5 | AM15: 4 | AN15: 2 | AO15: 4 | AP15: 4 | AQ15: 4 | AR15: 5 | AS15: 4 | AT15: 5 | AU15: 4 | AV15: 5 | AW15: 3 | AX15: 5 | AY15: 4 | AZ15: 4 | BA15: 5 | BB15: 5 | BC15: 4 | BD15: 5 | BE15: 4 | BF15: 3 | BG15: 5 | BH15: 2 | BI15: 4 | BJ15: 4 | BK15: 3 | BL15: 5 | BM15: 5 | BN15: 5 | BO15: 3 | BP15: 5 | BQ15: 5 | BR15: 3 | BS15: 5 | BT15: 5 | BU15: 4 | BV15: 4 | BW15: 5 | BX15: 5 | BY15: 4 | BZ15: 4 | CA15: 4 | CB15: 5 | CC15: 4 | CD15: 4 | CE15: 5 | CF15: 5 | CG15: 5 | CH15: 5 | CI15: 4 | CJ15: 3 | CK15: 5 | CL15: 5 | CM15: 5 | CN15: 5 | CO15: 4 | CP15: 5 | CQ15: 5 | CR15: 5 | CS15: 3 | CT15: 5 | CU15: 4 | CV15: 5 | CW15: 4 | CX15: 5 | CY15: 3 | CZ15: 4 | DA15: 5 | DB15: 5 | DC15: 3 | DD15: 2 | DE15: 5 | DF15: 4 | DG15: 4 | DH15: 5 | DI15: 5 | DJ15: 4 | DK15: 4 | DL15: 4 | DM15: 3 | DN15: 4 | DO15: 5 | DP15: 4 | DQ15: 4 | DR15: 5 | DS15: 5 | DT15: 4 | DU15: 4 | DV15: 5 | DW15: 2 | DX15: 4 | DY15: 4 | DZ15: 4 | EA15: 5 | EB15: 5 | EC15: 4 | ED15: 4 | EE15: 4 | EF15: 4 | EG15: 4 | EH15: 3 | EI15: 5 | EJ15: 5 | EK15: 5 | EL15: 4 | EM15: 5 | EN15: 4 | EO15: 5 | EP15: 4 | EQ15: 5 | ER15: 3 | ES15: 4 | ET15: 5 | EU15: 5 | EV15: 4 | EW15: 2 | EX15: 5 | EY15: 4 | EZ15: 5 | FA15: 4 | FB15: 4 | FC15: 5 | FD15: 5 | FE15: 5 | FF15: 5 | FG15: 4 | FH15: 4 | FI15: 3 | FJ15: 4 | FK15: 3 | FL15: 3 | FM15: 4 | FN15: 4 | FO15: 4 | FP15: 2 | FQ15: 4 | FR15: 5 | FS15: 5 | FT15: 5 | FU15: 4 | FV15: =AVERAGE(Tabela634[[#This Row],[5]:[825]]) -> 4.2011494 | FW15: =SKEW(Tabela634[[#This Row],[5]:[825]]) -> -0.80143453 | FX15: =STDEV(Tabela634[[#This Row],[5]:[825]]) -> 0.78996513 | FY15: 0.84900704
A16: 24 | B16: 6 | C16: Possibilidade de progressão na carreira | D16: 3 | E16: 5 | F16: 5 | G16: 5 | H16: 5 | I16: 4 | J16: 3 | K16: 5 | L16: 5 | M16: 5 | N16: 4 | O16: 4 | P16: 5 | Q16: 5 | R16: 4 | S16: 4 | T16: 4 | U16: 2 | V16: 5 | W16: 1 | X16: 4 | Y16: 4 | Z16: 5 | AA16: 5 | AB16: 4 | AC16: 5 | AD16: 3 | AE16: 5 | AF16: 4 | AG16: 5 | AH16: 5 | AI16: 5 | AJ16: 5 | AK16: 5 | AL16: 5 | AM16: 4 | AN16: 4 | AO16: 4 | AP16: 4 | AQ16: 5 | AR16: 5 | AS16: 4 | AT16: 5 | AU16: 4 | AV16: 5 | AW16: 5 | AX16: 5 | AY16: 4 | AZ16: 4 | BA16: 5 | BB16: 5 | BC16: 4 | BD16: 5 | BE16: 5 | BF16: 1 | BG16: 5 | BH16: 5 | BI16: 3 | BJ16: 4 | BK16: 4 | BL16: 4 | BM16: 4 | BN16: 5 | BO16: 5 | BP16: 5 | BQ16: 5 | BR16: 3 | BS16: 5 | BT16: 5 | BU16: 4 | BV16: 1 | BW16: 3 | BX16: 4 | BY16: 5 | BZ16: 5 | CA16: 4 | CB16: 5 | CC16: 5 | CD16: 5 | CE16: 5 | CF16: 4 | CG16: 5 | CH16: 4 | CI16: 4 | CJ16: 0 | CK16: 5 | CL16: 5 | CM16: 1 | CN16: 5 | CO16: 5 | CP16: 5 | CQ16: 5 | CR16: 5 | CS16: 5 | CT16: 5 | CU16: 4 | CV16: 5 | CW16: 5 | CX16: 5 | CY16: 4 | CZ16: 4 | DA16: 4 | DB16: 5 | DC16: 4 | DD16: 1 | DE16: 5 | DF16: 5 | DG16: 4 | DH16: 4 | DI16: 5 | DJ16: 4 | DK16: 5 | DL16: 5 | DM16: 3 | DN16: 1 | DO16: 5 | DP16: 4 | DQ16: 5 | DR16: 2 | DS16: 5 | DT16: 4 | DU16: 4 | DV16: 5 | DW16: 5 | DX16: 4 | DY16: 4 | DZ16: 4 | EA16: 5 | EB16: 5 | EC16: 4 | ED16: 3 | EE16: 5 | EF16: 5 | EG16: 5 | EH16: 5 | EI16: 5 | EJ16: 5 | EK16: 5 | EL16: 5 | EM16: 5 | EN16: 5 | EO16: 5 | EP16: 5 | EQ16: 5 | ER16: 4 | ES16: 4 | ET16: 5 | EU16: 4 | EV16: 5 | EW16: 5 | EX16: 5 | EY16: 5 | EZ16: 4 | FA16: 4 | FB16: 5 | FC16: 5 | FD16: 5 | FE16: 4 | FF16: 5 | FG16: 3 | FH16: 5 | FI16: 3 | FJ16: 5 | FK16: 5 | FL16: 3 | FM16: 4 | FN16: 4 | FO16: 3 | FP16: 1 | FQ16: 3 | FR16: 3 | FS16: 4 | FT16: 5 | FU16: 4 | FV16: =AVERAGE(Tabela634[[#This Row],[5]:[825]]) -> 4.3045977 | FW16: =SKEW(Tabela634[[#This Row],[5]:[825]]) -> -1.9540406 | FX16: =STDEV(Tabela634[[#This Row],[5]:[825]]) -> 1.022454 | FY16: 0.84250279
A17: 25 | B17: 7 | C17: Recompensas intrínsecas | D17: 3 | E17: 5 | F17: 5 | G17: 3 | H17: 5 | I17: 4 | J17: 4 | K17: 5 | L17: 5 | M17: 4 | N17: 2 | O17: 4 | P17: 5 | Q17: 5 | R17: 4 | S17: 3 | T17: 4 | U17: 3 | V17: 3 | W17: 1 | X17: 2 | Y17: 4 | Z17: 5 | AA17: 4 | AB17: 4 | AC17: 4 | AD17: 4 | AE17: 5 | AF17: 4 | AG17: 5 | AH17: 4 | AI17: 4 | AJ17: 5 | AK17: 4 | AL17: 5 | AM17: 4 | AN17: 3 | AO17: 4 | AP17: 3 | AQ17: 4 | AR17: 2 | AS17: 4 | AT17: 5 | AU17: 4 | AV17: 5 | AW17: 4 | AX17: 0 | AY17: 4 | AZ17: 5 | BA17: 5 | BB17: 5 | BC17: 4 | BD17: 5 | BE17: 5 | BF17: 3 | BG17: 5 | BH17: 4 | BI17: 3 | BJ17: 3 | BK17: 3 | BL17: 3 | BM17: 3 | BN17: 3 | BO17: 4 | BP17: 4 | BQ17: 4 | BR17: 4 | BS17: 5 | BT17: 4 | BU17: 3 | BV17: 1 | BW17: 3 | BX17: 5 | BY17: 5 | BZ17: 4 | CA17: 4 | CB17: 5 | CC17: 5 | CD17: 3 | CE17: 5 | CF17: 4 | CG17: 5 | CH17: 5 | CI17: 4 | CJ17: 0 | CK17: 4 | CL17: 5 | CM17: 1 | CN17: 5 | CO17: 5 | CP17: 5 | CQ17: 3 | CR17: 5 | CS17: 5 | CT17: 5 | CU17: 4 | CV17: 5 | CW17: 3 | CX17: 5 | CY17: 4 | CZ17: 3 | DA17: 4 | DB17: 5 | DC17: 4 | DD17: 3 | DE17: 5 | DF17: 4 | DG17: 4 | DH17: 4 | DI17: 4 | DJ17: 4 | DK17: 5 | DL17: 4 | DM17: 3 | DN17: 1 | DO17: 5 | DP17: 5 | DQ17: 5 | DR17: 5 | DS17: 5 | DT17: 4 | DU17: 3 | DV17: 5 | DW17: 3 | DX17: 5 | DY17: 5 | DZ17: 4 | EA17: 5 | EB17: 5 | EC17: 3 | ED17: 3 | EE17: 0 | EF17: 5 | EG17: 4 | EH17: 5 | EI17: 4 | EJ17: 5 | EK17: 5 | EL17: 4 | EM17: 4 | EN17: 4 | EO17: 5 | EP17: 5 | EQ17: 4 | ER17: 4 | ES17: 4 | ET17: 5 | EU17: 5 | EV17: 5 | EW17: 3 | EX17: 5 | EY17: 4 | EZ17: 3 | FA17: 5 | FB17: 4 | FC17: 3 | FD17: 5 | FE17: 4 | FF17: 3 | FG17: 3 | FH17: 5 | FI17: 3 | FJ17: 3 | FK17: 5 | FL17: 3 | FM17: 4 | FN17: 3 | FO17: 3 | FP17: 2 | FQ17: 4 | FR17: 4 | FS17: 4 | FT17: 5 | FU17: 4 | FV17: =AVERAGE(Tabela634[[#This Row],[5]:[825]]) -> 3.9827586 | FW17: =SKEW(Tabela634[[#This Row],[5]:[825]]) -> -1.3667828 | FX17: =STDEV(Tabela634[[#This Row],[5]:[825]]) -> 1.0777526 | FY17: 0.84861154
A18: 26 | B18: 8 | C18: Relações interpessoais/ambiente social | D18: 5 | E18: 4 | F18: 4 | G18: 4 | H18: 4 | I18: 4 | J18: 4 | K18: 5 | L18: 4 | M18: 5 | N18: 4 | O18: 4 | P18: 5 | Q18: 5 | R18: 4 | S18: 3 | T18: 5 | U18: 4 | V18: 4 | W18: 3 | X18: 4 | Y18: 4 | Z18: 5 | AA18: 4 | AB18: 5 | AC18: 4 | AD18: 4 | AE18: 5 | AF18: 5 | AG18: 5 | AH18: 5 | AI18: 4 | AJ18: 4 | AK18: 3 | AL18: 5 | AM18: 4 | AN18: 4 | AO18: 4 | AP18: 5 | AQ18: 5 | AR18: 4 | AS18: 5 | AT18: 5 | AU18: 4 | AV18: 5 | AW18: 4 | AX18: 4 | AY18: 4 | AZ18: 4 | BA18: 5 | BB18: 5 | BC18: 5 | BD18: 4 | BE18: 4 | BF18: 4 | BG18: 5 | BH18: 4 | BI18: 3 | BJ18: 5 | BK18: 3 | BL18: 4 | BM18: 4 | BN18: 4 | BO18: 4 | BP18: 5 | BQ18: 4 | BR18: 5 | BS18: 5 | BT18: 4 | BU18: 4 | BV18: 4 | BW18: 5 | BX18: 5 | BY18: 5 | BZ18: 4 | CA18: 4 | CB18: 5 | CC18: 5 | CD18: 5 | CE18: 5 | CF18: 4 | CG18: 5 | CH18: 5 | CI18: 5 | CJ18: 5 | CK18: 5 | CL18: 5 | CM18: 5 | CN18: 5 | CO18: 4 | CP18: 5 | CQ18: 4 | CR18: 5 | CS18: 4 | CT18: 5 | CU18: 4 | CV18: 5 | CW18: 5 | CX18: 4 | CY18: 3 | CZ18: 5 | DA18: 5 | DB18: 5 | DC18: 4 | DD18: 5 | DE18: 5 | DF18: 4 | DG18: 4 | DH18: 5 | DI18: 5 | DJ18: 5 | DK18: 5 | DL18: 5 | DM18: 4 | DN18: 3 | DO18: 5 | DP18: 5 | DQ18: 5 | DR18: 5 | DS18: 5 | DT18: 4 | DU18: 3 | DV18: 5 | DW18: 2 | DX18: 5 | DY18: 4 | DZ18: 5 | EA18: 5 | EB18: 5 | EC18: 4 | ED18: 5 | EE18: 5 | EF18: 5 | EG18: 5 | EH18: 5 | EI18: 5 | EJ18: 5 | EK18: 4 | EL18: 5 | EM18: 4 | EN18: 5 | EO18: 5 | EP18: 5 | EQ18: 5 | ER18: 5 | ES18: 4 | ET18: 5 | EU18: 5 | EV18: 4 | EW18: 4 | EX18: 4 | EY18: 3 | EZ18: 3 | FA18: 4 | FB18: 4 | FC18: 4 | FD18: 5 | FE18: 5 | FF18: 5 | FG18: 3 | FH18: 5 | FI18: 3 | FJ18: 4 | FK18: 5 | FL18: 3 | FM18: 5 | FN18: 4 | FO18: 3 | FP18: 1 | FQ18: 4 | FR18: 4 | FS18: 5 | FT18: 5 | FU18: 4 | FV18: =AVERAGE(Tabela634[[#This Row],[5]:[825]]) -> 4.4022989 | FW18: =SKEW(Tabela634[[#This Row],[5]:[825]]) -> -1.2500472 | FX18: =STDEV(Tabela634[[#This Row],[5]:[825]]) -> 0.71255901 | FY18: 0.8482507
A19: 27 | B19: 9 | C19: Remuneração | D19: 5 | E19: 5 | F19: 5 | G19: 4 | H19: 4 | I19: 4 | J19: 4 | K19: 5 | L19: 5 | M19: 5 | N19: 0 | O19: 4 | P19: 5 | Q19: 5 | R19: 4 | S19: 4 | T19: 4 | U19: 4 | V19: 5 | W19: 5 | X19: 4 | Y19: 4 | Z19: 5 | AA19: 4 | AB19: 5 | AC19: 4 | AD19: 4 | AE19: 5 | AF19: 4 | AG19: 5 | AH19: 4 | AI19: 4 | AJ19: 4 | AK19: 4 | AL19: 5 | AM19: 4 | AN19: 4 | AO19: 4 | AP19: 4 | AQ19: 5 | AR19: 4 | AS19: 5 | AT19: 5 | AU19: 4 | AV19: 5 | AW19: 5 | AX19: 4 | AY19: 4 | AZ19: 5 | BA19: 5 | BB19: 5 | BC19: 4 | BD19: 5 | BE19: 4 | BF19: 3 | BG19: 5 | BH19: 5 | BI19: 5 | BJ19: 5 | BK19: 4 | BL19: 5 | BM19: 4 | BN19: 2 | BO19: 4 | BP19: 5 | BQ19: 5 | BR19: 4 | BS19: 4 | BT19: 5 | BU19: 4 | BV19: 1 | BW19: 4 | BX19: 5 | BY19: 5 | BZ19: 5 | CA19: 4 | CB19: 5 | CC19: 5 | CD19: 5 | CE19: 5 | CF19: 4 | CG19: 5 | CH19: 4 | CI19: 3 | CJ19: 5 | CK19: 4 | CL19: 5 | CM19: 5 | CN19: 5 | CO19: 4 | CP19: 5 | CQ19: 5 | CR19: 5 | CS19: 5 | CT19: 4 | CU19: 4 | CV19: 5 | CW19: 5 | CX19: 5 | CY19: 3 | CZ19: 3 | DA19: 5 | DB19: 5 | DC19: 4 | DD19: 3 | DE19: 5 | DF19: 5 | DG19: 4 | DH19: 4 | DI19: 4 | DJ19: 5 | DK19: 5 | DL19: 4 | DM19: 5 | DN19: 1 | DO19: 5 | DP19: 4 | DQ19: 4 | DR19: 5 | DS19: 5 | DT19: 5 | DU19: 4 | DV19: 5 | DW19: 5 | DX19: 4 | DY19: 4 | DZ19: 4 | EA19: 5 | EB19: 5 | EC19: 3 | ED19: 5 | EE19: 4 | EF19: 5 | EG19: 4 | EH19: 5 | EI19: 5 | EJ19: 5 | EK19: 5 | EL19: 5 | EM19: 4 | EN19: 4 | EO19: 5 | EP19: 4 | EQ19: 5 | ER19: 4 | ES19: 5 | ET19: 5 | EU19: 5 | EV19: 5 | EW19: 5 | EX19: 5 | EY19: 3 | EZ19: 3 | FA19: 5 | FB19: 4 | FC19: 4 | FD19: 5 | FE19: 4 | FF19: 5 | FG19: 3 | FH19: 4 | FI19: 3 | FJ19: 4 | FK19: 5 | FL19: 3 | FM19: 4 | FN19: 4 | FO19: 4 | FP19: 1 | FQ19: 3 | FR19: 4 | FS19: 4 | FT19: 5 | FU19: 4 | FV19: =AVERAGE(Tabela634[[#This Row],[5]:[825]]) -> 4.3390805 | FW19: =SKEW(Tabela634[[#This Row],[5]:[825]]) -> -2.0274564 | FX19: =STDEV(Tabela634[[#This Row],[5]:[825]]) -> 0.85000596 | FY19: 0.84827665
A20: 28 | B20: 10 | C20: Saúde | D20: 5 | E20: 5 | F20: 5 | G20: 5 | H20: 4 | I20: 5 | J20: 4 | K20: 5 | L20: 5 | M20: 5 | N20: 4 | O20: 4 | P20: 5 | Q20: 5 | R20: 4 | S20: 5 | T20: 4 | U20: 5 | V20: 5 | W20: 5 | X20: 5 | Y20: 4 | Z20: 5 | AA20: 5 | AB20: 5 | AC20: 4 | AD20: 5 | AE20: 5 | AF20: 5 | AG20: 5 | AH20: 5 | AI20: 5 | AJ20: 4 | AK20: 4 | AL20: 5 | AM20: 5 | AN20: 5 | AO20: 4 | AP20: 5 | AQ20: 5 | AR20: 5 | AS20: 5 | AT20: 5 | AU20: 5 | AV20: 5 | AW20: 5 | AX20: 5 | AY20: 5 | AZ20: 3 | BA20: 5 | BB20: 5 | BC20: 5 | BD20: 5 | BE20: 5 | BF20: 3 | BG20: 5 | BH20: 3 | BI20: 4 | BJ20: 5 | BK20: 4 | BL20: 4 | BM20: 4 | BN20: 4 | BO20: 4 | BP20: 5 | BQ20: 5 | BR20: 5 | BS20: 5 | BT20: 5 | BU20: 5 | BV20: 3 | BW20: 5 | BX20: 5 | BY20: 5 | BZ20: 5 | CA20: 4 | CB20: 5 | CC20: 5 | CD20: 5 | CE20: 4 | CF20: 4 | CG20: 5 | CH20: 5 | CI20: 5 | CJ20: 4 | CK20: 5 | CL20: 5 | CM20: 5 | CN20: 5 | CO20: 5 | CP20: 5 | CQ20: 5 | CR20: 5 | CS20: 4 | CT20: 5 | CU20: 4 | CV20: 5 | CW20: 5 | CX20: 5 | CY20: 4 | CZ20: 3 | DA20: 5 | DB20: 5 | DC20: 5 | DD20: 5 | DE20: 5 | DF20: 4 | DG20: 4 | DH20: 4 | DI20: 5 | DJ20: 5 | DK20: 5 | DL20: 4 | DM20: 5 | DN20: 4 | DO20: 5 | DP20: 5 | DQ20: 4 | DR20: 5 | DS20: 5 | DT20: 3 | DU20: 5 | DV20: 5 | DW20: 4 | DX20: 5 | DY20: 4 | DZ20: 5 | EA20: 5 | EB20: 5 | EC20: 3 | ED20: 3 | EE20: 5 | EF20: 5 | EG20: 4 | EH20: 5 | EI20: 5 | EJ20: 5 | EK20: 5 | EL20: 5 | EM20: 5 | EN20: 4 | EO20: 5 | EP20: 4 | EQ20: 5 | ER20: 4 | ES20: 5 | ET20: 5 | EU20: 5 | EV20: 4 | EW20: 5 | EX20: 5 | EY20: 3 | EZ20: 5 | FA20: 5 | FB20: 5 | FC20: 5 | FD20: 5 | FE20: 5 | FF20: 5 | FG20: 4 | FH20: 5 | FI20: 3 | FJ20: 5 | FK20: 5 | FL20: 3 | FM20: 4 | FN20: 5 | FO20: 5 | FP20: 5 | FQ20: 4 | FR20: 5 | FS20: 5 | FT20: 5 | FU20: 4 | FV20: =AVERAGE(Tabela634[[#This Row],[5]:[825]]) -> 4.637931 | FW20: =SKEW(Tabela634[[#This Row],[5]:[825]]) -> -1.4431074 | FX20: =STDEV(Tabela634[[#This Row],[5]:[825]]) -> 0.59956466 | FY20: 0.85358437
A21: 29 | B21: 11 | C21: Segurança | D21: 4 | E21: 5 | F21: 5 | G21: 5 | H21: 4 | I21: 5 | J21: 3 | K21: 5 | L21: 5 | M21: 5 | N21: 4 | O21: 4 | P21: 5 | Q21: 5 | R21: 4 | S21: 4 | T21: 4 | U21: 5 | V21: 5 | W21: 5 | X21: 5 | Y21: 4 | Z21: 5 | AA21: 5 | AB21: 5 | AC21: 4 | AD21: 4 | AE21: 5 | AF21: 4 | AG21: 5 | AH21: 5 | AI21: 5 | AJ21: 4 | AK21: 5 | AL21: 5 | AM21: 5 | AN21: 5 | AO21: 4 | AP21: 5 | AQ21: 5 | AR21: 5 | AS21: 5 | AT21: 5 | AU21: 4 | AV21: 5 | AW21: 4 | AX21: 5 | AY21: 4 | AZ21: 3 | BA21: 5 | BB21: 5 | BC21: 4 | BD21: 5 | BE21: 5 | BF21: 4 | BG21: 5 | BH21: 3 | BI21: 4 | BJ21: 4 | BK21: 4 | BL21: 3 | BM21: 4 | BN21: 4 | BO21: 4 | BP21: 5 | BQ21: 5 | BR21: 5 | BS21: 5 | BT21: 5 | BU21: 5 | BV21: 3 | BW21: 5 | BX21: 4 | BY21: 5 | BZ21: 5 | CA21: 4 | CB21: 5 | CC21: 5 | CD21: 4 | CE21: 4 | CF21: 4 | CG21: 5 | CH21: 5 | CI21: 5 | CJ21: 3 | CK21: 5 | CL21: 5 | CM21: 5 | CN21: 5 | CO21: 4 | CP21: 5 | CQ21: 5 | CR21: 5 | CS21: 4 | CT21: 5 | CU21: 4 | CV21: 4 | CW21: 5 | CX21: 5 | CY21: 4 | CZ21: 4 | DA21: 5 | DB21: 5 | DC21: 5 | DD21: 4 | DE21: 5 | DF21: 4 | DG21: 4 | DH21: 4 | DI21: 5 | DJ21: 5 | DK21: 5 | DL21: 4 | DM21: 5 | DN21: 3 | DO21: 5 | DP21: 5 | DQ21: 4 | DR21: 5 | DS21: 5 | DT21: 4 | DU21: 5 | DV21: 5 | DW21: 4 | DX21: 4 | DY21: 4 | DZ21: 5 | EA21: 5 | EB21: 5 | EC21: 3 | ED21: 3 | EE21: 5 | EF21: 5 | EG21: 4 | EH21: 5 | EI21: 5 | EJ21: 5 | EK21: 5 | EL21: 5 | EM21: 5 | EN21: 4 | EO21: 5 | EP21: 5 | EQ21: 5 | ER21: 5 | ES21: 4 | ET21: 5 | EU21: 5 | EV21: 4 | EW21: 5 | EX21: 5 | EY21: 2 | EZ21: 5 | FA21: 4 | FB21: 5 | FC21: 4 | FD21: 5 | FE21: 5 | FF21: 4 | FG21: 4 | FH21: 5 | FI21: 3 | FJ21: 5 | FK21: 5 | FL21: 3 | FM21: 4 | FN21: 5 | FO21: 5 | FP21: 5 | FQ21: 4 | FR21: 4 | FS21: 4 | FT21: 5 | FU21: 4 | FV21: =AVERAGE(Tabela634[[#This Row],[5]:[825]]) -> 4.5229885 | FW21: =SKEW(Tabela634[[#This Row],[5]:[825]]) -> -1.1450244 | FX21: =STDEV(Tabela634[[#This Row],[5]:[825]]) -> 0.64246655 | FY21: 0.85066701
B22: 12 | C22: MÉDIA | FV22: =AVERAGE(D11:FU21) -> 4.354232
B23: 13 | C23: COEFICIÊNCIA DE ASSIMETRIA | FW23: =SKEW(D11:FU21) -> -1.6683238
B24: 14 | C24: DESVIO PADRÃO | FX24: =STDEV(D11:FU21) -> 0.83876004
B25: 15 | C25: FIABILIDADE (ALPHA CRONBACH) | FY25: 0.86023734
B27: Obs: O cálculo do coeficiente de fiabilidade (Alpha de Cronbach) foi feito a partir do sítio, http://www.brunopedroso.com.br/cronbach.html

Sheet Parte BB_Feminino
C1: FEMININO | D1: Inq | E1: Inq | F1: Inq | G1: Inq | H1: Inq | I1: Inq | J1: Inq | K1: Inq | L1: Inq | M1: Inq | N1: Inq | O1: Inq | P1: Inq | Q1: Inq | R1: Inq | S1: Inq | T1: Inq | U1: Inq | V1: Inq | W1: Inq | X1: Inq | Y1: Inq | Z1: Inq | AA1: Inq | AB1: Inq | AC1: Inq | AD1: Inq | AE1: Inq | AF1: Inq | AG1: Inq | AH1: Inq | AI1: Inq | AJ1: Inq | AK1: Inq | AL1: Inq | AM1: Inq | AN1: Inq | AO1: Inq | AP1: Inq | AQ1: Inq | AR1: Inq | AS1: Inq | AT1: Inq | AU1: Inq | AV1: Inq | AW1: Inq | AX1: Inq | AY1: Inq | AZ1: Inq | BA1: Inq | BB1: Inq | BC1: Inq | BD1: Inq | BE1: Inq | BF1: Inq | BG1: Inq | BH1: Inq | BI1: Inq | BJ1: Inq | BK1: Inq | BL1: Inq | BM1: Inq | BN1: Inq | BO1: Inq | BP1: Inq | BQ1: Inq | BR1: Inq | BS1: Inq | BT1: Inq | BU1: Inq | BV1: Inq | BW1: Inq | BX1: Inq | BY1: Inq | BZ1: Inq | CA1: Inq | CB1: Inq | CC1: Inq | CD1: Inq | CE1: Inq | CF1: Inq | CG1: Inq | CH1: Inq | CI1: Inq | CJ1: Inq | CK1: Inq | CL1: Inq | CM1: Inq | CN1: Inq | CO1: Inq | CP1: Inq | CQ1: Inq | CR1: Inq | CS1: Inq | CT1: Inq | CU1: Inq | CV1: Inq | CW1: Inq | CX1: Inq | CY1: Inq | CZ1: Inq | DA1: Inq | DB1: Inq | DC1: Inq | DD1: Inq | DE1: Inq | DF1: Inq | DG1: Inq | DH1: Inq | DI1: Inq | DJ1: Inq | DK1: Inq | DL1: Inq | DM1: Inq | DN1: Inq | DO1: Inq | DP1: Inq | DQ1: Inq | DR1: Inq | DS1: Inq | DT1: Inq | DU1: Inq | DV1: Inq | DW1: Inq | DX1: Inq | DY1: Inq | DZ1: Inq | EA1: Inq | EB1: Inq | EC1: Inq | ED1: Inq | EE1: Inq | EF1: Inq | EG1: Inq | EH1: Inq | EI1: Inq | EJ1: Inq | EK1: Inq | EL1: Inq | EM1: Inq | EN1: Inq | EO1: Inq | EP1: Inq | EQ1: Inq | ER1: Inq | ES1: Inq | ET1: Inq | EU1: Inq | EV1: Inq | EW1: Inq | EX1: Inq | EY1: Inq | EZ1: Inq | FA1: Inq | FB1: Inq | FC1: Inq | FD1: Inq | FE1: Inq | FF1: Inq | FG1: Inq | FH1: Inq | FI1: Inq | FJ1: Inq | FK1: Inq | FL1: Inq | FM1: Inq | FN1: Inq | FO1: Inq | FP1: Inq | FQ1: Inq | FR1: Inq | FS1: Inq | FT1: Inq | FU1: Inq | FV1: Inq | FW1: Inq | FX1: Inq | FY1: Inq | FZ1: Inq | GA1: Inq | GB1: Inq | GC1: Inq | GD1: Inq | GE1: Inq | GF1: Inq | GG1: Inq | GH1: Inq | GI1: Inq | GJ1: Inq | GK1: Inq | GL1: Inq | GM1: Inq | GN1: Inq | GO1: Inq | GP1: Inq | GQ1: Inq | GR1: Inq | GS1: Inq | GT1: Inq | GU1: Inq | GV1: Inq | GW1: Inq | GX1: Inq | GY1: Inq | GZ1: Inq | HA1: Inq | HB1: Inq | HC1: Inq | HD1: Inq | HE1: Inq | HF1: Inq | HG1: Inq | HH1: Inq | HI1: Inq | HJ1: Inq | HK1: Inq | HL1: Inq | HM1: Inq | HN1: Inq | HO1: Inq | HP1: Inq | HQ1: Inq | HR1: Inq | HS1: Inq | HT1: Inq | HU1: Inq | HV1: Inq | HW1: Inq | HX1: Inq | HY1: Inq | HZ1: Inq | IA1: Inq | IB1: Inq | IC1: Inq | ID1: Inq | IE1: Inq | IF1: Inq | IG1: Inq | IH1: Inq | II1: Inq | IJ1: Inq | IK1: Inq | IL1: Inq | IM1: Inq | IN1: Inq | IO1: Inq | IP1: Inq | IQ1: Inq | IR1: Inq | IS1: Inq | IT1: Inq | IU1: Inq | IV1: Inq | IW1: Inq | IX1: Inq | IY1: Inq | IZ1: Inq | JA1: Inq | JB1: Inq | JC1: Inq | JD1: Inq | JE1: Inq | JF1: Inq | JG1: Inq | JH1: Inq | JI1: Inq | JJ1: Inq | JK1: Inq | JL1: Inq | JM1: Inq | JN1: Inq | JO1: Inq | JP1: Inq | JQ1: Inq | JR1: Inq | JS1: Inq | JT1: Inq | JU1: Inq | JV1: Inq | JW1: Inq | JX1: Inq | JY1: Inq | JZ1: Inq | KA1: Inq | KB1: Inq | KC1: Inq | KD1: Inq | KE1: Inq | KF1: Inq | KG1: Inq | KH1: Inq | KI1: Inq | KJ1: Inq | KK1: Inq | KL1: Inq | KM1: Inq | KN1: Inq | KO1: Inq | KP1: Inq | KQ1: Inq | KR1: Inq | KS1: Inq | KT1: Inq | KU1: Inq | KV1: Inq | KW1: Inq | KX1: Inq | KY1: Inq | KZ1: Inq | LA1: Inq | LB1: Inq | LC1: Inq | LD1: Inq | LE1: Inq | LF1: Inq | LG1: Inq | LH1: Inq | LI1: Inq | LJ1: Inq | LK1: Inq | LL1: Inq | LM1: Inq | LN1: Inq | LO1: Inq | LP1: Inq | LQ1: Inq | LR1: Inq | LS1: Inq | LT1: Inq | LU1: Inq | LV1: Inq | LW1: Inq | LX1: Inq | LY1: Inq | LZ1: Inq | MA1: Inq | MB1: Inq | MC1: Inq | MD1: Inq | ME1: Inq | MF1: Inq | MG1: Inq | MH1: Inq | MI1: Inq | MJ1: Inq | MK1: Inq | ML1: Inq | MM1: Inq | MN1: Inq | MO1: Inq | MP1: Inq | MQ1: Inq | MR1: Inq | MS1: Inq | MT1: Inq | MU1: Inq | MV1: Inq | MW1: Inq | MX1: Inq | MY1: Inq | MZ1: Inq | NA1: Inq | NB1: Inq | NC1: Inq | ND1: Inq | NE1: Inq | NF1: Inq | NG1: Inq | NH1: Inq | NI1: Inq | NJ1: Inq | NK1: Inq | NL1: Inq | NM1: Inq | NN1: Inq | NO1: Inq | NP1: Inq | NQ1: Inq | NR1: Inq | NS1: Inq | NT1: Inq | NU1: Inq | NV1: Inq | NW1: Inq | NX1: Inq | NY1: Inq | NZ1: Inq | OA1: Inq | OB1: Inq | OC1: Inq | OD1: Inq | OE1: Inq | OF1: Inq | OG1: Inq | OH1: Inq | OI1: Inq | OJ1: Inq | OK1: Inq | OL1: Inq | OM1: Inq | ON1: Inq | OO1: Inq | OP1: Inq | OQ1: Inq | OR1: Inq | OS1: Inq | OT1: Inq | OU1: Inq | OV1: Inq | OW1: Inq | OX1: Inq | OY1: Inq | OZ1: Inq | PA1: Inq | PB1: Inq | PC1: Inq | PD1: Inq | PE1: Inq | PF1: Inq | PG1: Inq | PH1: Inq | PI1: Inq | PJ1: Inq | PK1: Inq | PL1: Inq | PM1: Inq | PN1: Inq | PO1: Inq | PP1: Inq | PQ1: Inq | PR1: Inq | PS1: Inq | PT1: Inq | PU1: Inq | PV1: Inq | PW1: Inq | PX1: Inq | PY1: Inq | PZ1: Inq | QA1: Inq | QB1: Inq | QC1: Inq | QD1: Inq | QE1: Inq | QF1: Inq | QG1: Inq | QH1: Inq | QI1: Inq | QJ1: Inq | QK1: Inq | QL1: Inq | QM1: Inq | QN1: Inq | QO1: Inq | QP1: Inq | QQ1: Inq | QR1: Inq | QS1: Inq | QT1: Inq | QU1: Inq | QV1: Inq | QW1: Inq | QX1: Inq | QY1: Inq | QZ1: Inq | RA1: Inq | RB1: Inq | RC1: Inq | RD1: Inq | RE1: Inq | RF1: Inq | RG1: Inq | RH1: Inq | RI1: Inq | RJ1: Inq | RK1: Inq | RL1: Inq | RM1: Inq | RN1: Inq | RO1: Inq | RP1: Inq | RQ1: Inq | RR1: Inq | RS1: Inq | RT1: Inq | RU1: Inq | RV1: Inq | RW1: Inq | RX1: Inq | RY1: Inq | RZ1: Inq | SA1: Inq | SB1: Inq | SC1: Inq | SD1: Inq | SE1: Inq | SF1: Inq | SG1: Inq | SH1: Inq | SI1: Inq | SJ1: Inq | SK1: Inq | SL1: Inq | SM1: Inq | SN1: Inq | SO1: Inq | SP1: Inq | SQ1: Inq | SR1: Inq | SS1: Inq | ST1: Inq | SU1: Inq | SV1: Inq | SW1: Inq | SX1: Inq | SY1: Inq | SZ1: Inq | TA1: Inq | TB1: Inq | TC1: Inq | TD1: Inq | TE1: Inq | TF1: Inq | TG1: Inq | TH1: Inq | TI1: Inq | TJ1: Inq | TK1: Inq | TL1: Inq | TM1: Inq | TN1: Inq | TO1: Inq | TP1: Inq | TQ1: Inq | TR1: Inq | TS1: Inq | TT1: Inq | TU1: Inq | TV1: Inq | TW1: Inq | TX1: Inq | TY1: Inq | TZ1: Inq | UA1: Inq | UB1: Inq | UC1: Inq | UD1: Inq | UE1: Inq | UF1: Inq | UG1: Inq | UH1: Inq | UI1: Inq | UJ1: Inq | UK1: Inq | UL1: Inq | UM1: Inq | UN1: Inq | UO1: Inq | UP1: Inq | UQ1: Inq | UR1: Inq | US1: Inq | UT1: Inq | UU1: Inq | UV1: Inq | UW1: Inq | UX1: Inq | UY1: Inq | UZ1: Inq | VA1: Inq | VB1: Inq | VC1: Inq | VD1: Inq | VE1: Inq | VF1: Inq | VG1: Inq | VH1: Inq | VI1: Inq | VJ1: Inq | VK1: Inq | VL1: Inq | VM1: Inq | VN1: Inq | VO1: Inq | VP1: Inq | VQ1: Inq | VR1: Inq | VS1: Inq | VT1: Inq | VU1: Inq | VV1: Inq | VW1: Inq | VX1: Inq | VY1: Inq | VZ1: Inq | WA1: Inq | WB1: Inq | WC1: Inq | WD1: Inq | WE1: Inq | WF1: Inq | WG1: Inq | WH1: Inq | WI1: Inq | WJ1: Inq | WK1: Inq | WL1: Inq | WM1: Inq | WN1: Inq | WO1: Inq | WP1: Inq | WQ1: Inq | WR1: Inq | WS1: Inq | WT1: Inq | WU1: Inq | WV1: Inq | WW1: Inq | WX1: Inq | WY1: Inq | WZ1: Inq | XA1: Inq | XB1: Inq | XC1: Inq | XD1: Inq | XE1: Inq | XF1: Inq | XG1: Inq | XH1: Inq | XI1: Inq | XJ1: Inq | XK1: Inq | XL1: Inq | XM1: Inq | XN1: Inq | XO1: Inq | XP1: Inq | XQ1: Inq | XR1: Inq | XS1: Inq | XT1: Inq | XU1: Inq | XV1: Inq | XW1: Inq | XX1: Inq | XY1: Inq | XZ1: Inq | YA1: Inq | YB1: Inq | YC1: Inq | YD1: Inq | YE1: Inq | YF1: Inq | YG1: Inq | YH1: Inq | YI1: Inq | YJ1: Inq | YK1: Inq | YL1: Inq | YM1: Inq | YN1: Inq
A2: Coluna1 | B2: Nº Perg | C2: DIMENSÕES | D2: 1 | E2: 2 | F2: 3 | G2: 4 | H2: 6 | I2: 8 | J2: 9 | K2: 10 | L2: 14 | M2: 15 | N2: 16 | O2: 18 | P2: 19 | Q2: 20 | R2: 21 | S2: 22 | T2: 25 | U2: 27 | V2: 28 | W2: 29 | X2: 31 | Y2: 32 | Z2: 33 | AA2: 34 | AB2: 35 | AC2: 36 | AD2: 37 | AE2: 38 | AF2: 39 | AG2: 41 | AH2: 42 | AI2: 43 | AJ2: 48 | AK2: 49 | AL2: 51 | AM2: 58 | AN2: 60 | AO2: 61 | AP2: 62 | AQ2: 64 | AR2: 65 | AS2: 66 | AT2: 67 | AU2: 68 | AV2: 69 | AW2: 71 | AX2: 72 | AY2: 73 | AZ2: 74 | BA2: 75 | BB2: 76 | BC2: 77 | BD2: 78 | BE2: 79 | BF2: 80 | BG2: 81 | BH2: 83 | BI2: 85 | BJ2: 86 | BK2: 87 | BL2: 88 | BM2: 89 | BN2: 90 | BO2: 92 | BP2: 93 | BQ2: 94 | BR2: 95 | BS2: 96 | BT2: 98 | BU2: 99 | BV2: 100 | BW2: 101 | BX2: 102 | BY2: 103 | BZ2: 104 | CA2: 109 | CB2: 112 | CC2: 114 | CD2: 116 | CE2: 117 | CF2: 119 | CG2: 120 | CH2: 121 | CI2: 122 | CJ2: 123 | CK2: 125 | CL2: 126 | CM2: 129 | CN2: 130 | CO2: 131 | CP2: 132 | CQ2: 133 | CR2: 134 | CS2: 135 | CT2: 137 | CU2: 138 | CV2: 139 | CW2: 141 | CX2: 143 | CY2: 145 | CZ2: 146 | DA2: 147 | DB2: 148 | DC2: 150 | DD2: 151 | DE2: 152 | DF2: 153 | DG2: 155 | DH2: 156 | DI2: 157 | DJ2: 158 | DK2: 159 | DL2: 160 | DM2: 161 | DN2: 162 | DO2: 163 | DP2: 165 | DQ2: 166 | DR2: 168 | DS2: 169 | DT2: 172 | DU2: 173 | DV2: 174 | DW2: 175 | DX2: 176 | DY2: 179 | DZ2: 180 | EA2: 181 | EB2: 182 | EC2: 183 | ED2: 184 | EE2: 185 | EF2: 186 | EG2: 187 | EH2: 188 | EI2: 189 | EJ2: 190 | EK2: 191 | EL2: 192 | EM2: 193 | EN2: 194 | EO2: 195 | EP2: 196 | EQ2: 197 | ER2: 198 | ES2: 199 | ET2: 200 | EU2: 201 | EV2: 202 | EW2: 203 | EX2: 204 | EY2: 205 | EZ2: 206 | FA2: 209 | FB2: 210 | FC2: 211 | FD2: 212 | FE2: 213 | FF2: 214 | FG2: 215 | FH2: 216 | FI2: 217 | FJ2: 218 | FK2: 219 | FL2: 220 | FM2: 222 | FN2: 223 | FO2: 225 | FP2: 226 | FQ2: 227 | FR2: 229 | FS2: 230 | FT2: 231 | FU2: 232 | FV2: 233 | FW2: 234 | FX2: 235 | FY2: 236 | FZ2: 237 | GA2: 238 | GB2: 239 | GC2: 240 | GD2: 241 | GE2: 243 | GF2: 246 | GG2: 247 | GH2: 249 | GI2: 251 | GJ2: 255 | GK2: 257 | GL2: 258 | GM2: 260 | GN2: 261 | GO2: 262 | GP2: 263 | GQ2: 265 | GR2: 266 | GS2: 267 | GT2: 268 | GU2: 269 | GV2: 271 | GW2: 272 | GX2: 273 | GY2: 274 | GZ2: 275 | HA2: 277 | HB2: 278 | HC2: 279 | HD2: 280 | HE2: 281 | HF2: 282 | HG2: 283 | HH2: 284 | HI2: 285 | HJ2: 286 | HK2: 287 | HL2: 288 | HM2: 289 | HN2: 290 | HO2: 291 | HP2: 292 | HQ2: 293 | HR2: 294 | HS2: 295 | HT2: 296 | HU2: 297 | HV2: 298 | HW2: 299 | HX2: 301 | HY2: 304 | HZ2: 306 | IA2: 307 | IB2: 310 | IC2: 311 | ID2: 312 | IE2: 313 | IF2: 315 | IG2: 317 | IH2: 318 | II2: 319 | IJ2: 321 | IK2: 322 | IL2: 323 | IM2: 325 | IN2: 326 | IO2: 327 | IP2: 328 | IQ2: 329 | IR2: 330 | IS2: 331 | IT2: 332 | IU2: 333 | IV2: 334 | IW2: 336 | IX2: 337 | IY2: 338 | IZ2: 339 | JA2: 341 | JB2: 343 | JC2: 344 | JD2: 345 | JE2: 346 | JF2: 347 | JG2: 348 | JH2: 349 | JI2: 350 | JJ2: 351 | JK2: 352 | JL2: 353 | JM2: 354 | JN2: 355 | JO2: 356 | JP2: 357 | JQ2: 360 | JR2: 361 | JS2: 362 | JT2: 365 | JU2: 366 | JV2: 367 | JW2: 368 | JX2: 369 | JY2: 370 | JZ2: 371 | KA2: 372 | KB2: 374 | KC2: 375 | KD2: 376 | KE2: 381 | KF2: 382 | KG2: 383 | KH2: 384 | KI2: 385 | KJ2: 386 | KK2: 388 | KL2: 389 | KM2: 390 | KN2: 392 | KO2: 393 | KP2: 394 | KQ2: 397 | KR2: 398 | KS2: 400 | KT2: 401 | KU2: 402 | KV2: 403 | KW2: 404 | KX2: 405 | KY2: 407 | KZ2: 408 | LA2: 409 | LB2: 410 | LC2: 411 | LD2: 412 | LE2: 413 | LF2: 414 | LG2: 415 | LH2: 416 | LI2: 418 | LJ2: 420 | LK2: 421 | LL2: 422 | LM2: 424 | LN2: 425 | LO2: 426 | LP2: 427 | LQ2: 428 | LR2: 429 | LS2: 431 | LT2: 432 | LU2: 434 | LV2: 436 | LW2: 437 | LX2: 438 | LY2: 439 | LZ2: 440 | MA2: 443 | MB2: 445 | MC2: 446 | MD2: 447 | ME2: 448 | MF2: 450 | MG2: 452 | MH2: 453 | MI2: 454 | MJ2: 455 | MK2: 457 | ML2: 458 | MM2: 460 | MN2: 461 | MO2: 462 | MP2: 463 | MQ2: 464 | MR2: 465 | MS2: 466 | MT2: 467 | MU2: 468 | MV2: 469 | MW2: 470 | MX2: 471 | MY2: 473 | MZ2: 474 | NA2: 475 | NB2: 476 | NC2: 477 | ND2: 478 | NE2: 479 | NF2: 481 | NG2: 482 | NH2: 483 | NI2: 484 | NJ2: 485 | NK2: 486 | NL2: 487 | NM2: 488 | NN2: 489 | NO2: 490 | NP2: 491 | NQ2: 492 | NR2: 493 | NS2: 495 | NT2: 498 | NU2: 499 | NV2: 501 | NW2: 502 | NX2: 504 | NY2: 505 | NZ2: 506 | OA2: 507 | OB2: 508 | OC2: 509 | OD2: 510 | OE2: 511 | OF2: 512 | OG2: 514 | OH2: 515 | OI2: 516 | OJ2: 517 | OK2: 518 | OL2: 519 | OM2: 520 | ON2: 521 | OO2: 523 | OP2: 524 | OQ2: 525 | OR2: 526 | OS2: 530 | OT2: 531 | OU2: 532 | OV2: 533 | OW2: 534 | OX2: 535 | OY2: 536 | OZ2: 537 | PA2: 538 | PB2: 539 | PC2: 540 | PD2: 541 | PE2: 542 | PF2: 543 | PG2: 544 | PH2: 545 | PI2: 546 | PJ2: 547 | PK2: 548 | PL2: 549 | PM2: 550 | PN2: 551 | PO2: 552 | PP2: 553 | PQ2: 554 | PR2: 555 | PS2: 556 | PT2: 557 | PU2: 558 | PV2: 559 | PW2: 560 | PX2: 561 | PY2: 562 | PZ2: 563 | QA2: 565 | QB2: 567 | QC2: 568 | QD2: 569 | QE2: 570 | QF2: 571 | QG2: 572 | QH2: 573 | QI2: 574 | QJ2: 575 | QK2: 576 | QL2: 578 | QM2: 579 | QN2: 580 | QO2: 581 | QP2: 582 | QQ2: 583 | QR2: 584 | QS2: 586 | QT2: 587 | QU2: 588 | QV2: 589 | QW2: 590 | QX2: 591 | QY2: 592 | QZ2: 593 | RA2: 594 | RB2: 596 | RC2: 597 | RD2: 598 | RE2: 599 | RF2: 600 | RG2: 601 | RH2: 602 | RI2: 603 | RJ2: 604 | RK2: 605 | RL2: 606 | RM2: 607 | RN2: 608 | RO2: 609 | RP2: 610 | RQ2: 611 | RR2: 612 | RS2: 613 | RT2: 614 | RU2: 615 | RV2: 616 | RW2: 617 | RX2: 620 | RY2: 621 | RZ2: 623 | SA2: 624 | SB2: 626 | SC2: 627 | SD2: 629 | SE2: 630 | SF2: 632 | SG2: 633 | SH2: 634 | SI2: 635 | SJ2: 636 | SK2: 639 | SL2: 640 | SM2: 641 | SN2: 642 | SO2: 643 | SP2: 644 | SQ2: 646 | SR2: 647 | SS2: 648 | ST2: 649 | SU2: 650 | SV2: 651 | SW2: 652 | SX2: 653 | SY2: 654 | SZ2: 655 | TA2: 656 | TB2: 660 | TC2: 661 | TD2: 662 | TE2: 670 | TF2: 671 | TG2: 672 | TH2: 675 | TI2: 677 | TJ2: 678 | TK2: 680 | TL2: 682 | TM2: 683 | TN2: 684 | TO2: 685 | TP2: 686 | TQ2: 687 | TR2: 688 | TS2: 689 | TT2: 690 | TU2: 691 | TV2: 692 | TW2: 693 | TX2: 694 | TY2: 695 | TZ2: 696 | UA2: 697 | UB2: 698 | UC2: 699 | UD2: 700 | UE2: 701 | UF2: 702 | UG2: 708 | UH2: 709 | UI2: 710 | UJ2: 711 | UK2: 712 | UL2: 713 | UM2: 714 | UN2: 715 | UO2: 716 | UP2: 717 | UQ2: 718 | UR2: 719 | US2: 720 | UT2: 721 | UU2: 722 | UV2: 723 | UW2: 724 | UX2: 725 | UY2: 726 | UZ2: 727 | VA2: 728 | VB2: 729 | VC2: 730 | VD2: 731 | VE2: 732 | VF2: 733 | VG2: 734 | VH2: 735 | VI2: 736 | VJ2: 737 | VK2: 738 | VL2: 739 | VM2: 740 | VN2: 741 | VO2: 743 | VP2: 744 | VQ2: 745 | VR2: 746 | VS2: 747 | VT2: 748 | VU2: 749 | VV2: 750 | VW2: 751 | VX2: 752 | VY2: 753 | VZ2: 754 | WA2: 755 | WB2: 756 | WC2: 757 | WD2: 758 | WE2: 759 | WF2: 761 | WG2: 762 | WH2: 763 | WI2: 767 | WJ2: 769 | WK2: 770 | WL2: 771 | WM2: 772 | WN2: 773 | WO2: 774 | WP2: 775 | WQ2: 776 | WR2: 778 | WS2: 779 | WT2: 781 | WU2: 782 | WV2: 783 | WW2: 784 | WX2: 786 | WY2: 787 | WZ2: 788 | XA2: 789 | XB2: 790 | XC2: 791 | XD2: 792 | XE2: 793 | XF2: 794 | XG2: 795 | XH2: 796 | XI2: 797 | XJ2: 798 | XK2: 800 | XL2: 801 | XM2: 802 | XN2: 803 | XO2: 804 | XP2: 805 | XQ2: 806 | XR2: 807 | XS2: 808 | XT2: 809 | XU2: 810 | XV2: 811 | XW2: 813 | XX2: 814 | XY2: 815 | XZ2: 817 | YA2: 818 | YB2: 819 | YC2: 820 | YD2: 821 | YE2: 822 | YF2: 823 | YG2: 824 | YH2: 826 | YI2: 827 | YJ2: 828 | YK2: 829 | YL2: 830 | YM2: 831 | YN2: 832 | YO2: MÉDIA | YP2: COEFICIENTE DE ASSIMETRIA (SKEWNESS) | YQ2: DESVIO PADRÃO | YR2: FIABILIDADE (Alpha Cronbach)
C3: FEMININO | D3: X | E3: X | F3: X | G3: X | H3: X | I3: X | J3: X | K3: X | L3: X | M3: X | N3: X | O3: X | P3: X | Q3: X | R3: X | S3: X | T3: X | U3: X | V3: X | W3: X | X3: X | Y3: X | Z3: X | AA3: X | AB3: X | AC3: X | AD3: X | AE3: X | AF3: X | AG3: X | AH3: X | AI3: X | AJ3: X | AK3: X | AL3: X | AM3: X | AN3: X | AO3: X | AP3: X | AQ3: X | AR3: X | AS3: X | AT3: X | AU3: X | AV3: X | AW3: X | AX3: X | AY3: X | AZ3: X | BA3: X | BB3: X | BC3: X | BD3: X | BE3: X | BF3: X | BG3: X | BH3: X | BI3: X | BJ3: X | BK3: X | BL3: X | BM3: X | BN3: X | BO3: X | BP3: X | BQ3: X | BR3: X | BS3: X | BT3: X | BU3: X | BV3: X | BW3: X | BX3: X | BY3: X | BZ3: X | CA3: X | CB3: X | CC3: X | CD3: X | CE3: X | CF3: X | CG3: X | CH3: X | CI3: X | CJ3: X | CK3: X | CL3: X | CM3: X | CN3: X | CO3: X | CP3: X | CQ3: X | CR3: X | CS3: X | CT3: X | CU3: X | CV3: X | CW3: X | CX3: X | CY3: X | CZ3: X | DA3: X | DB3: X | DC3: X | DD3: X | DE3: X | DF3: X | DG3: X | DH3: X | DI3: X | DJ3: X | DK3: X | DL3: X | DM3: X | DN3: X | DO3: X | DP3: X | DQ3: X | DR3: X | DS3: X | DT3: X | DU3: X | DV3: X | DW3: X | DX3: X | DY3: X | DZ3: X | EA3: X | EB3: X | EC3: X | ED3: X | EE3: X | EF3: X | EG3: X | EH3: X | EI3: X | EJ3: X | EK3: X | EL3: X | EM3: X | EN3: X | EO3: X | EP3: X | EQ3: X | ER3: X | ES3: X | ET3: X | EU3: X | EV3: X | EW3: X | EX3: 0 | EY3: X | EZ3: X | FA3: X | FB3: X | FC3: X | FD3: X | FE3: X | FF3: X | FG3: X | FH3: X | FI3: X | FJ3: X | FK3: X | FL3: X | FM3: X | FN3: X | FO3: X | FP3: X | FQ3: X | FR3: X | FS3: X | FT3: X | FU3: X | FV3: X | FW3: X | FX3: X | FY3: X | FZ3: X | GA3: X | GB3: X | GC3: X | GD3: X | GE3: X | GF3: X | GG3: X | GH3: X | GI3: X | GJ3: X | GK3: X | GL3: X | GM3: X | GN3: X | GO3: X | GP3: X | GQ3: X | GR3: X | GS3: X | GT3: X | GU3: X | GV3: X | GW3: X | GX3: X | GY3: X | GZ3: X | HA3: X | HB3: X | HC3: X | HD3: X | HE3: X | HF3: X | HG3: X | HH3: X | HI3: X | HJ3: X | HK3: X | HL3: X | HM3: X | HN3: X | HO3: X | HP3: X | HQ3: X | HR3: X | HS3: X | HT3: X | HU3: X | HV3: X | HW3: X | HX3: X | HY3: X | HZ3: X | IA3: X | IB3: X | IC3: X | ID3: X | IE3: X | IF3: X | IG3: X | IH3: X | II3: X | IJ3: X | IK3: X | IL3: X | IM3: X | IN3: X | IO3: X | IP3: X | IQ3: X | IR3: X | IS3: X | IT3: X | IU3: X | IV3: X | IW3: X | IX3: X | IY3: X | IZ3: X | JA3: X | JB3: X | JC3: X | JD3: X | JE3: X | JF3: X | JG3: X | JH3: X | JI3: X | JJ3: X | JK3: X | JL3: X | JM3: X | JN3: X | JO3: X | JP3: X | JQ3: X | JR3: X | JS3: X | JT3: X | JU3: X | JV3: X | JW3: X | JX3: X | JY3: X | JZ3: X | KA3: X | KB3: X | KC3: X | KD3: X | KE3: X | KF3: X | KG3: X | KH3: X | KI3: X | KJ3: X | KK3: X | KL3: X | KM3: X | KN3: X | KO3: X | KP3: X | KQ3: X | KR3: X | KS3: X | KT3: X | KU3: X | KV3: X | KW3: X | KX3: X | KY3: X | KZ3: X | LA3: X | LB3: X | LC3: X | LD3: X | LE3: X | LF3: X | LG3: X | LH3: X | LI3: X | LJ3: X | LK3: X | LL3: X | LM3: X | LN3: X | LO3: X | LP3: X | LQ3: X | LR3: X | LS3: X | LT3: X | LU3: X | LV3: X | LW3: X | LX3: X | LY3: X | LZ3: X | MA3: X | MB3: X | MC3: X | MD3: X | ME3: X | MF3: X | MG3: X | MH3: X | MI3: X | MJ3: X | MK3: X | ML3: X | MM3: X | MN3: X | MO3: X | MP3: X | MQ3: X | MR3: X | MS3: X | MT3: X | MU3: X | MV3: X | MW3: X | MX3: X | MY3: X | MZ3: X | NA3: X | NB3: X | NC3: X | ND3: X | NE3: X | NF3: X | NG3: X | NH3: X | NI3: X | NJ3: X | NK3: X | NL3: X | NM3: X | NN3: X | NO3: X | NP3: X | NQ3: X | NR3: X | NS3: X | NT3: X | NU3: X | NV3: X | NW3: X | NX3: X | NY3: X | NZ3: X | OA3: X | OB3: X | OC3: X | OD3: X | OE3: X | OF3: X | OG3: X | OH3: X | OI3: X | OJ3: X | OK3: X | OL3: X | OM3: X | ON3: X | OO3: X | OP3: X | OQ3: X | OR3: X | OS3: X | OT3: X | OU3: X | OV3: X | OW3: 0 | OX3: X | OY3: X | OZ3: X | PA3: X | PB3: X | PC3: X | PD3: X | PE3: X | PF3: X | PG3: X | PH3: X | PI3: X | PJ3: X | PK3: 0 | PL3: X | PM3: X | PN3: X | PO3: X | PP3: X | PQ3: X | PR3: X | PS3: X | PT3: X | PU3: X | PV3: X | PW3: X | PX3: X | PY3: X | PZ3: X | QA3: X | QB3: X | QC3: X | QD3: X | QE3: X | QF3: X | QG3: X | QH3: X | QI3: X | QJ3: X | QK3: X | QL3: X | QM3: X | QN3: X | QO3: X | QP3: X | QQ3: X | QR3: X | QS3: X | QT3: X | QU3: X | QV3: X | QW3: X | QX3: X | QY3: X | QZ3: X | RA3: X | RB3: X | RC3: X | RD3: X | RE3: X | RF3: X | RG3: X | RH3: X | RI3: X | RJ3: X | RK3: X | RL3: X | RM3: X | RN3: X | RO3: X | RP3: X | RQ3: X | RR3: X | RS3: X | RT3: X | RU3: X | RV3: X | RW3: X | RX3: X | RY3: X | RZ3: X | SA3: X | SB3: X | SC3: X | SD3: X | SE3: X | SF3: X | SG3: X | SH3: X | SI3: X | SJ3: X | SK3: X | SL3: X | SM3: X | SN3: X | SO3: X | SP3: X | SQ3: X | SR3: X | SS3: X | ST3: X | SU3: X | SV3: X | SW3: X | SX3: X | SY3: X | SZ3: X | TA3: X | TB3: X | TC3: X | TD3: X | TE3: X | TF3: X | TG3: X | TH3: X | TI3: X | TJ3: X | TK3: X | TL3: X | TM3: X | TN3: X | TO3: X | TP3: X | TQ3: X | TR3: X | TS3: X | TT3: X | TU3: X | TV3: X | TW3: X | TX3: X | TY3: X | TZ3: X | UA3: X | UB3: X | UC3: X | UD3: X | UE3: X | UF3: X | UG3: X | UH3: X | UI3: X | UJ3: X | UK3: X | UL3: X | UM3: X | UN3: X | UO3: X | UP3: X | UQ3: X | UR3: X | US3: X | UT3: X | UU3: X | UV3: X | UW3: X | UX3: X | UY3: X | UZ3: X | VA3: X | VB3: X | VC3: X | VD3: X | VE3: X | VF3: X | VG3: X | VH3: X | VI3: X | VJ3: X | VK3: X | VL3: X | VM3: X | VN3: X | VO3: X | VP3: X | VQ3: X | VR3: X | VS3: X | VT3: X | VU3: X | VV3: X | VW3: X | VX3: X | VY3: X | VZ3: X | WA3: X | WB3: X | WC3: X | WD3: X | WE3: X | WF3: X | WG3: X | WH3: X | WI3: X | WJ3: X | WK3: X | WL3: X | WM3: X | WN3: X | WO3: X | WP3: X | WQ3: X | WR3: X | WS3: X | WT3: X | WU3: X | WV3: X | WW3: X | WX3: X | WY3: X | WZ3: X | XA3: X | XB3: X | XC3: X | XD3: X | XE3: X | XF3: X | XG3: X | XH3: X | XI3: X | XJ3: X | XK3: X | XL3: X | XM3: X | XN3: X | XO3: X | XP3: X | XQ3: X | XR3: X | XS3: X | XT3: X | XU3: X | XV3: X | XW3: X | XX3: X | XY3: X | XZ3: X | YA3: X | YB3: X | YC3: X | YD3: X | YE3: X | YF3: X | YG3: X | YH3: X | YI3: X | YJ3: X | YK3: X | YL3: X | YM3: X | YN3: X
A12: 19 | B12: 1 | C12: Autonomia | D12: 3 | E12: 4 | F12: 4 | G12: 4 | H12: 4 | I12: 4 | J12: 4 | K12: 5 | L12: 5 | M12: 4 | N12: 4 | O12: 4 | P12: 5 | Q12: 4 | R12: 4 | S12: 4 | T12: 5 | U12: 5 | V12: 5 | W12: 0 | X12: 4 | Y12: 4 | Z12: 5 | AA12: 5 | AB12: 4 | AC12: 4 | AD12: 5 | AE12: 5 | AF12: 4 | AG12: 4 | AH12: 4 | AI12: 5 | AJ12: 4 | AK12: 4 | AL12: 5 | AM12: 5 | AN12: 4 | AO12: 4 | AP12: 4 | AQ12: 4 | AR12: 3 | AS12: 4 | AT12: 5 | AU12: 5 | AV12: 4 | AW12: 5 | AX12: 5 | AY12: 5 | AZ12: 4 | BA12: 4 | BB12: 4 | BC12: 4 | BD12: 4 | BE12: 5 | BF12: 5 | BG12: 5 | BH12: 5 | BI12: 5 | BJ12: 4 | BK12: 5 | BL12: 4 | BM12: 5 | BN12: 5 | BO12: 4 | BP12: 4 | BQ12: 5 | BR12: 4 | BS12: 4 | BT12: 4 | BU12: 4 | BV12: 5 | BW12: 4 | BX12: 4 | BY12: 4 | BZ12: 4 | CA12: 5 | CB12: 4 | CC12: 4 | CD12: 4 | CE12: 4 | CF12: 5 | CG12: 5 | CH12: 5 | CI12: 4 | CJ12: 4 | CK12: 4 | CL12: 4 | CM12: 4 | CN12: 4 | CO12: 5 | CP12: 4 | CQ12: 5 | CR12: 5 | CS12: 5 | CT12: 4 | CU12: 4 | CV12: 4 | CW12: 5 | CX12: 4 | CY12: 5 | CZ12: 4 | DA12: 4 | DB12: 4 | DC12: 5 | DD12: 4 | DE12: 5 | DF12: 4 | DG12: 4 | DH12: 4 | DI12: 0 | DJ12: 5 | DK12: 5 | DL12: 4 | DM12: 5 | DN12: 4 | DO12: 5 | DP12: 4 | DQ12: 5 | DR12: 5 | DS12: 5 | DT12: 5 | DU12: 4 | DV12: 5 | DW12: 5 | DX12: 5 | DY12: 4 | DZ12: 4 | EA12: 4 | EB12: 5 | EC12: 5 | ED12: 5 | EE12: 4 | EF12: 3 | EG12: 4 | EH12: 5 | EI12: 4 | EJ12: 5 | EK12: 4 | EL12: 5 | EM12: 5 | EN12: 5 | EO12: 4 | EP12: 5 | EQ12: 4 | ER12: 3 | ES12: 4 | ET12: 5 | EU12: 4 | EV12: 4 | EW12: 4 | EX12: 3 | EY12: 4 | EZ12: 5 | FA12: 1 | FB12: 4 | FC12: 5 | FD12: 4 | FE12: 5 | FF12: 4 | FG12: 5 | FH12: 4 | FI12: 5 | FJ12: 5 | FK12: 2 | FL12: 5 | FM12: 4 | FN12: 4 | FO12: 5 | FP12: 5 | FQ12: 5 | FR12: 4 | FS12: 4 | FT12: 5 | FU12: 5 | FV12: 4 | FW12: 3 | FX12: 4 | FY12: 4 | FZ12: 3 | GA12: 4 | GB12: 4 | GC12: 5 | GD12: 4 | GE12: 3 | GF12: 5 | GG12: 5 | GH12: 4 | GI12: 5 | GJ12: 5 | GK12: 5 | GL12: 5 | GM12: 5 | GN12: 5 | GO12: 4 | GP12: 5 | GQ12: 4 | GR12: 4 | GS12: 4 | GT12: 4 | GU12: 5 | GV12: 4 | GW12: 5 | GX12: 5 | GY12: 5 | GZ12: 4 | HA12: 4 | HB12: 5 | HC12: 5 | HD12: 4 | HE12: 3 | HF12: 5 | HG12: 4 | HH12: 4 | HI12: 4 | HJ12: 5 | HK12: 5 | HL12: 4 | HM12: 5 | HN12: 3 | HO12: 5 | HP12: 5 | HQ12: 5 | HR12: 3 | HS12: 4 | HT12: 4 | HU12: 4 | HV12: 4 | HW12: 4 | HX12: 4 | HY12: 4 | HZ12: 5 | IA12: 4 | IB12: 5 | IC12: 5 | ID12: 4 | IE12: 4 | IF12: 4 | IG12: 5 | IH12: 4 | II12: 5 | IJ12: 0 | IK12: 4 | IL12: 4 | IM12: 5 | IN12: 5 | IO12: 5 | IP12: 4 | IQ12: 4 | IR12: 2 | IS12: 5 | IT12: 3 | IU12: 5 | IV12: 5 | IW12: 4 | IX12: 4 | IY12: 4 | IZ12: 4 | JA12: 5 | JB12: 4 | JC12: 5 | JD12: 5 | JE12: 5 | JF12: 5 | JG12: 4 | JH12: 4 | JI12: 5 | JJ12: 4 | JK12: 4 | JL12: 4 | JM12: 4 | JN12: 4 | JO12: 5 | JP12: 5 | JQ12: 3 | JR12: 4 | JS12: 4 | JT12: 4 | JU12: 5 | JV12: 4 | JW12: 5 | JX12: 4 | JY12: 4 | JZ12: 4 | KA12: 5 | KB12: 5 | KC12: 4 | KD12: 5 | KE12: 5 | KF12: 4 | KG12: 4 | KH12: 5 | KI12: 5 | KJ12: 5 | KK12: 5 | KL12: 4 | KM12: 4 | KN12: 5 | KO12: 4 | KP12: 4 | KQ12: 4 | KR12: 5 | KS12: 3 | KT12: 3 | KU12: 4 | KV12: 3 | KW12: 4 | KX12: 5 | KY12: 5 | KZ12: 5 | LA12: 5 | LB12: 3 | LC12: 5 | LD12: 4 | LE12: 5 | LF12: 4 | LG12: 4 | LH12: 5 | LI12: 3 | LJ12: 0 | LK12: 4 | LL12: 5 | LM12: 5 | LN12: 1 | LO12: 4 | LP12: 4 | LQ12: 4 | LR12: 5 | LS12: 4 | LT12: 5 | LU12: 1 | LV12: 5 | LW12: 5 | LX12: 5 | LY12: 4 | LZ12: 5 | MA12: 5 | MB12: 5 | MC12: 4 | MD12: 5 | ME12: 4 | MF12: 4 | MG12: 5 | MH12: 5 | MI12: 5 | MJ12: 5 | MK12: 5 | ML12: 4 | MM12: 5 | MN12: 5 | MO12: 5 | MP12: 5 | MQ12: 5 | MR12: 4 | MS12: 4 | MT12: 4 | MU12: 4 | MV12: 5 | MW12: 4 | MX12: 4 | MY12: 5 | MZ12: 4 | NA12: 5 | NB12: 4 | NC12: 4 | ND12: 4 | NE12: 4 | NF12: 5 | NG12: 4 | NH12: 5 | NI12: 5 | NJ12: 4 | NK12: 5 | NL12: 5 | NM12: 4 | NN12: 4 | NO12: 4 | NP12: 4 | NQ12: 4 | NR12: 5 | NS12: 4 | NT12: 4 | NU12: 5 | NV12: 5 | NW12: 4 | NX12: 4 | NY12: 4 | NZ12: 5 | OA12: 5 | OB12: 4 | OC12: 4 | OD12: 4 | OE12: 3 | OF12: 5 | OG12: 5 | OH12: 5 | OI12: 4 | OJ12: 5 | OK12: 5 | OL12: 5 | OM12: 5 | ON12: 0 | OO12: 4 | OP12: 4 | OQ12: 3 | OR12: 4 | OS12: 5 | OT12: 5 | OU12: 5 | OV12: 4 | OW12: 5 | OX12: 4 | OY12: 4 | OZ12: 5 | PA12: 4 | PB12: 5 | PC12: 5 | PD12: 4 | PE12: 4 | PF12: 5 | PG12: 4 | PH12: 5 | PI12: 5 | PJ12: 5 | PK12: 5 | PL12: 5 | PM12: 5 | PN12: 5 | PO12: 5 | PP12: 4 | PQ12: 4 | PR12: 5 | PS12: 4 | PT12: 4 | PU12: 4 | PV12: 4 | PW12: 0 | PX12: 4 | PY12: 5 | PZ12: 4 | QA12: 5 | QB12: 4 | QC12: 1 | QD12: 5 | QE12: 5 | QF12: 4 | QG12: 5 | QH12: 5 | QI12: 4 | QJ12: 5 | QK12: 5 | QL12: 5 | QM12: 5 | QN12: 4 | QO12: 4 | QP12: 4 | QQ12: 4 | QR12: 5 | QS12: 5 | QT12: 5 | QU12: 5 | QV12: 4 | QW12: 5 | QX12: 5 | QY12: 4 | QZ12: 4 | RA12: 5 | RB12: 4 | RC12: 4 | RD12: 5 | RE12: 5 | RF12: 5 | RG12: 5 | RH12: 4 | RI12: 5 | RJ12: 5 | RK12: 5 | RL12: 5 | RM12: 4 | RN12: 5 | RO12: 5 | RP12: 5 | RQ12: 5 | RR12: 4 | RS12: 5 | RT12: 4 | RU12: 4 | RV12: 4 | RW12: 5 | RX12: 5 | RY12: 4 | RZ12: 5 | SA12: 5 | SB12: 5 | SC12: 5 | SD12: 4 | SE12: 5 | SF12: 4 | SG12: 4 | SH12: 5 | SI12: 5 | SJ12: 4 | SK12: 5 | SL12: 5 | SM12: 5 | SN12: 5 | SO12: 4 | SP12: 5 | SQ12: 4 | SR12: 4 | SS12: 5 | ST12: 4 | SU12: 4 | SV12: 4 | SW12: 4 | SX12: 5 | SY12: 5 | SZ12: 4 | TA12: 4 | TB12: 4 | TC12: 4 | TD12: 4 | TE12: 4 | TF12: 5 | TG12: 5 | TH12: 5 | TI12: 5 | TJ12: 5 | TK12: 4 | TL12: 4 | TM12: 4 | TN12: 5 | TO12: 5 | TP12: 5 | TQ12: 4 | TR12: 5 | TS12: 5 | TT12: 5 | TU12: 5 | TV12: 5 | TW12: 4 | TX12: 3 | TY12: 4 | TZ12: 4 | UA12: 4 | UB12: 4 | UC12: 2 | UD12: 5 | UE12: 4 | UF12: 3 | UG12: 4 | UH12: 5 | UI12: 5 | UJ12: 4 | UK12: 4 | UL12: 5 | UM12: 4 | UN12: 4 | UO12: 5 | UP12: 5 | UQ12: 5 | UR12: 4 | US12: 5 | UT12: 5 | UU12: 5 | UV12: 3 | UW12: 4 | UX12: 5 | UY12: 5 | UZ12: 4 | VA12: 3 | VB12: 4 | VC12: 4 | VD12: 5 | VE12: 0 | VF12: 4 | VG12: 4 | VH12: 4 | VI12: 1 | VJ12: 1 | VK12: 5 | VL12: 1 | VM12: 5 | VN12: 5 | VO12: 5 | VP12: 4 | VQ12: 4 | VR12: 4 | VS12: 5 | VT12: 5 | VU12: 4 | VV12: 5 | VW12: 5 | VX12: 4 | VY12: 4 | VZ12: 4 | WA12: 4 | WB12: 5 | WC12: 5 | WD12: 5 | WE12: 5 | WF12: 4 | WG12: 5 | WH12: 5 | WI12: 4 | WJ12: 5 | WK12: 4 | WL12: 4 | WM12: 5 | WN12: 5 | WO12: 4 | WP12: 4 | WQ12: 4 | WR12: 4 | WS12: 5 | WT12: 5 | WU12: 4 | WV12: 5 | WW12: 5 | WX12: 5 | WY12: 4 | WZ12: 5 | XA12: 5 | XB12: 5 | XC12: 4 | XD12: 4 | XE12: 4 | XF12: 4 | XG12: 4 | XH12: 4 | XI12: 5 | XJ12: 4 | XK12: 4 | XL12: 5 | XM12: 4 | XN12: 4 | XO12: 5 | XP12: 4 | XQ12: 4 | XR12: 5 | XS12: 5 | XT12: 4 | XU12: 4 | XV12: 3 | XW12: 4 | XX12: 5 | XY12: 5 | XZ12: 4 | YA12: 4 | YB12: 5 | YC12: 5 | YD12: 4 | YE12: 4 | YF12: 4 | YG12: 4 | YH12: 5 | YI12: 5 | YJ12: 4 | YK12: 5 | YL12: 5 | YM12: 4 | YN12: 5 | YO12: =AVERAGE(Tabela636[[#This Row],[1]:[832]]) -> 4.3388805 | YP12: =SKEW(Tabela636[[#This Row],[1]:[832]]) -> -2.3867733 | YQ12: =STDEV(Tabela636[[#This Row],[1]:[832]]) -> 0.8165808 | YR12: 0.87483628
A13: 20 | B13: 2 | C13: Aprendizagem/Formação | D13: 4 | E13: 5 | F13: 5 | G13: 4 | H13: 4 | I13: 5 | J13: 4 | K13: 4 | L13: 5 | M13: 4 | N13: 5 | O13: 5 | P13: 5 | Q13: 5 | R13: 4 | S13: 5 | T13: 5 | U13: 5 | V13: 5 | W13: 0 | X13: 5 | Y13: 5 | Z13: 5 | AA13: 4 | AB13: 4 | AC13: 5 | AD13: 5 | AE13: 5 | AF13: 5 | AG13: 5 | AH13: 5 | AI13: 5 | AJ13: 5 | AK13: 4 | AL13: 4 | AM13: 3 | AN13: 4 | AO13: 5 | AP13: 5 | AQ13: 4 | AR13: 5 | AS13: 4 | AT13: 5 | AU13: 3 | AV13: 5 | AW13: 5 | AX13: 5 | AY13: 5 | AZ13: 5 | BA13: 5 | BB13: 5 | BC13: 3 | BD13: 5 | BE13: 4 | BF13: 5 | BG13: 5 | BH13: 5 | BI13: 5 | BJ13: 4 | BK13: 5 | BL13: 5 | BM13: 5 | BN13: 4 | BO13: 5 | BP13: 5 | BQ13: 5 | BR13: 4 | BS13: 4 | BT13: 5 | BU13: 5 | BV13: 4 | BW13: 4 | BX13: 5 | BY13: 4 | BZ13: 4 | CA13: 5 | CB13: 5 | CC13: 4 | CD13: 5 | CE13: 4 | CF13: 4 | CG13: 5 | CH13: 5 | CI13: 5 | CJ13: 5 | CK13: 4 | CL13: 4 | CM13: 5 | CN13: 4 | CO13: 4 | CP13: 4 | CQ13: 5 | CR13: 5 | CS13: 4 | CT13: 4 | CU13: 5 | CV13: 4 | CW13: 5 | CX13: 5 | CY13: 5 | CZ13: 4 | DA13: 5 | DB13: 5 | DC13: 5 | DD13: 4 | DE13: 5 | DF13: 5 | DG13: 5 | DH13: 5 | DI13: 5 | DJ13: 4 | DK13: 5 | DL13: 3 | DM13: 5 | DN13: 4 | DO13: 5 | DP13: 5 | DQ13: 4 | DR13: 5 | DS13: 5 | DT13: 5 | DU13: 4 | DV13: 5 | DW13: 5 | DX13: 5 | DY13: 5 | DZ13: 4 | EA13: 5 | EB13: 5 | EC13: 5 | ED13: 5 | EE13: 5 | EF13: 5 | EG13: 5 | EH13: 5 | EI13: 5 | EJ13: 5 | EK13: 5 | EL13: 5 | EM13: 5 | EN13: 4 | EO13: 4 | EP13: 5 | EQ13: 5 | ER13: 5 | ES13: 5 | ET13: 5 | EU13: 5 | EV13: 4 | EW13: 5 | EX13: 5 | EY13: 4 | EZ13: 5 | FA13: 1 | FB13: 4 | FC13: 5 | FD13: 5 | FE13: 5 | FF13: 4 | FG13: 5 | FH13: 5 | FI13: 5 | FJ13: 5 | FK13: 4 | FL13: 5 | FM13: 5 | FN13: 5 | FO13: 4 | FP13: 5 | FQ13: 5 | FR13: 4 | FS13: 5 | FT13: 5 | FU13: 5 | FV13: 4 | FW13: 4 | FX13: 5 | FY13: 5 | FZ13: 5 | GA13: 5 | GB13: 4 | GC13: 3 | GD13: 4 | GE13: 3 | GF13: 4 | GG13: 5 | GH13: 4 | GI13: 5 | GJ13: 5 | GK13: 5 | GL13: 4 | GM13: 5 | GN13: 5 | GO13: 5 | GP13: 5 | GQ13: 5 | GR13: 5 | GS13: 4 | GT13: 4 | GU13: 5 | GV13: 5 | GW13: 5 | GX13: 5 | GY13: 5 | GZ13: 5 | HA13: 5 | HB13: 4 | HC13: 5 | HD13: 5 | HE13: 5 | HF13: 5 | HG13: 4 | HH13: 5 | HI13: 5 | HJ13: 5 | HK13: 5 | HL13: 5 | HM13: 5 | HN13: 3 | HO13: 5 | HP13: 5 | HQ13: 5 | HR13: 4 | HS13: 5 | HT13: 5 | HU13: 5 | HV13: 4 | HW13: 5 | HX13: 5 | HY13: 5 | HZ13: 5 | IA13: 5 | IB13: 5 | IC13: 5 | ID13: 5 | IE13: 4 | IF13: 4 | IG13: 5 | IH13: 5 | II13: 5 | IJ13: 3 | IK13: 5 | IL13: 5 | IM13: 5 | IN13: 5 | IO13: 5 | IP13: 5 | IQ13: 5 | IR13: 2 | IS13: 5 | IT13: 2 | IU13: 5 | IV13: 5 | IW13: 5 | IX13: 5 | IY13: 5 | IZ13: 5 | JA13: 5 | JB13: 5 | JC13: 5 | JD13: 5 | JE13: 5 | JF13: 5 | JG13: 5 | JH13: 4 | JI13: 5 | JJ13: 3 | JK13: 5 | JL13: 4 | JM13: 5 | JN13: 4 | JO13: 5 | JP13: 5 | JQ13: 5 | JR13: 5 | JS13: 5 | JT13: 4 | JU13: 3 | JV13: 4 | JW13: 5 | JX13: 4 | JY13: 5 | JZ13: 4 | KA13: 4 | KB13: 5 | KC13: 5 | KD13: 5 | KE13: 5 | KF13: 5 | KG13: 5 | KH13: 5 | KI13: 5 | KJ13: 5 | KK13: 5 | KL13: 5 | KM13: 5 | KN13: 5 | KO13: 5 | KP13: 5 | KQ13: 5 | KR13: 5 | KS13: 5 | KT13: 3 | KU13: 5 | KV13: 5 | KW13: 5 | KX13: 5 | KY13: 5 | KZ13: 5 | LA13: 4 | LB13: 5 | LC13: 5 | LD13: 5 | LE13: 5 | LF13: 4 | LG13: 5 | LH13: 5 | LI13: 4 | LJ13: 0 | LK13: 5 | LL13: 5 | LM13: 5 | LN13: 1 | LO13: 5 | LP13: 5 | LQ13: 4 | LR13: 5 | LS13: 4 | LT13: 5 | LU13: 5 | LV13: 5 | LW13: 5 | LX13: 5 | LY13: 5 | LZ13: 5 | MA13: 5 | MB13: 5 | MC13: 4 | MD13: 5 | ME13: 5 | MF13: 4 | MG13: 5 | MH13: 5 | MI13: 5 | MJ13: 5 | MK13: 4 | ML13: 5 | MM13: 5 | MN13: 5 | MO13: 5 | MP13: 5 | MQ13: 5 | MR13: 5 | MS13: 5 | MT13: 5 | MU13: 5 | MV13: 5 | MW13: 4 | MX13: 4 | MY13: 5 | MZ13: 5 | NA13: 5 | NB13: 5 | NC13: 5 | ND13: 5 | NE13: 5 | NF13: 5 | NG13: 5 | NH13: 5 | NI13: 5 | NJ13: 4 | NK13: 5 | NL13: 5 | NM13: 5 | NN13: 5 | NO13: 4 | NP13: 5 | NQ13: 4 | NR13: 5 | NS13: 4 | NT13: 4 | NU13: 4 | NV13: 5 | NW13: 5 | NX13: 5 | NY13: 5 | NZ13: 5 | OA13: 5 | OB13: 5 | OC13: 5 | OD13: 5 | OE13: 4 | OF13: 5 | OG13: 5 | OH13: 5 | OI13: 5 | OJ13: 5 | OK13: 5 | OL13: 5 | OM13: 5 | ON13: 4 | OO13: 4 | OP13: 5 | OQ13: 4 | OR13: 5 | OS13: 5 | OT13: 5 | OU13: 5 | OV13: 4 | OW13: 5 | OX13: 5 | OY13: 5 | OZ13: 5 | PA13: 5 | PB13: 5 | PC13: 5 | PD13: 5 | PE13: 3 | PF13: 5 | PG13: 4 | PH13: 5 | PI13: 5 | PJ13: 5 | PK13: 5 | PL13: 5 | PM13: 5 | PN13: 5 | PO13: 5 | PP13: 5 | PQ13: 5 | PR13: 5 | PS13: 5 | PT13: 4 | PU13: 5 | PV13: 5 | PW13: 3 | PX13: 4 | PY13: 5 | PZ13: 5 | QA13: 5 | QB13: 4 | QC13: 2 | QD13: 5 | QE13: 5 | QF13: 5 | QG13: 5 | QH13: 5 | QI13: 5 | QJ13: 5 | QK13: 5 | QL13: 5 | QM13: 5 | QN13: 4 | QO13: 4 | QP13: 4 | QQ13: 5 | QR13: 5 | QS13: 5 | QT13: 5 | QU13: 5 | QV13: 5 | QW13: 5 | QX13: 5 | QY13: 5 | QZ13: 5 | RA13: 4 | RB13: 5 | RC13: 5 | RD13: 5 | RE13: 5 | RF13: 5 | RG13: 5 | RH13: 4 | RI13: 5 | RJ13: 5 | RK13: 5 | RL13: 5 | RM13: 5 | RN13: 5 | RO13: 5 | RP13: 5 | RQ13: 5 | RR13: 4 | RS13: 5 | RT13: 4 | RU13: 5 | RV13: 5 | RW13: 5 | RX13: 5 | RY13: 5 | RZ13: 5 | SA13: 5 | SB13: 5 | SC13: 5 | SD13: 5 | SE13: 5 | SF13: 5 | SG13: 5 | SH13: 5 | SI13: 4 | SJ13: 4 | SK13: 5 | SL13: 5 | SM13: 5 | SN13: 5 | SO13: 4 | SP13: 5 | SQ13: 3 | SR13: 4 | SS13: 5 | ST13: 4 | SU13: 5 | SV13: 5 | SW13: 5 | SX13: 5 | SY13: 5 | SZ13: 5 | TA13: 5 | TB13: 4 | TC13: 5 | TD13: 5 | TE13: 4 | TF13: 5 | TG13: 5 | TH13: 5 | TI13: 5 | TJ13: 4 | TK13: 5 | TL13: 4 | TM13: 5 | TN13: 5 | TO13: 5 | TP13: 5 | TQ13: 5 | TR13: 5 | TS13: 5 | TT13: 5 | TU13: 5 | TV13: 5 | TW13: 4 | TX13: 5 | TY13: 4 | TZ13: 5 | UA13: 4 | UB13: 3 | UC13: 2 | UD13: 5 | UE13: 4 | UF13: 4 | UG13: 4 | UH13: 5 | UI13: 5 | UJ13: 5 | UK13: 5 | UL13: 5 | UM13: 5 | UN13: 3 | UO13: 5 | UP13: 5 | UQ13: 5 | UR13: 5 | US13: 5 | UT13: 5 | UU13: 5 | UV13: 5 | UW13: 5 | UX13: 4 | UY13: 5 | UZ13: 5 | VA13: 4 | VB13: 4 | VC13: 4 | VD13: 5 | VE13: 5 | VF13: 4 | VG13: 4 | VH13: 5 | VI13: 1 | VJ13: 1 | VK13: 5 | VL13: 2 | VM13: 5 | VN13: 5 | VO13: 5 | VP13: 5 | VQ13: 5 | VR13: 4 | VS13: 5 | VT13: 5 | VU13: 5 | VV13: 4 | VW13: 4 | VX13: 5 | VY13: 4 | VZ13: 4 | WA13: 4 | WB13: 5 | WC13: 4 | WD13: 5 | WE13: 0 | WF13: 5 | WG13: 5 | WH13: 5 | WI13: 5 | WJ13: 5 | WK13: 5 | WL13: 5 | WM13: 5 | WN13: 5 | WO13: 5 | WP13: 5 | WQ13: 5 | WR13: 5 | WS13: 5 | WT13: 4 | WU13: 5 | WV13: 5 | WW13: 5 | WX13: 4 | WY13: 5 | WZ13: 5 | XA13: 4 | XB13: 5 | XC13: 4 | XD13: 5 | XE13: 5 | XF13: 4 | XG13: 5 | XH13: 5 | XI13: 5 | XJ13: 4 | XK13: 5 | XL13: 5 | XM13: 5 | XN13: 5 | XO13: 5 | XP13: 5 | XQ13: 5 | XR13: 5 | XS13: 5 | XT13: 5 | XU13: 4 | XV13: 3 | XW13: 4 | XX13: 5 | XY13: 5 | XZ13: 4 | YA13: 5 | YB13: 5 | YC13: 5 | YD13: 4 | YE13: 5 | YF13: 5 | YG13: 4 | YH13: 5 | YI13: 5 | YJ13: 5 | YK13: 5 | YL13: 5 | YM13: 5 | YN13: 5 | YO13: =AVERAGE(Tabela636[[#This Row],[1]:[832]]) -> 4.6611195 | YP13: =SKEW(Tabela636[[#This Row],[1]:[832]]) -> -3.1266159 | YQ13: =STDEV(Tabela636[[#This Row],[1]:[832]]) -> 0.69640937 | YR13: 0.86755472
A14: 21 | B14: 3 | C14: Condições físicas de trabalho | D14: 4 | E14: 4 | F14: 5 | G14: 5 | H14: 5 | I14: 5 | J14: 4 | K14: 4 | L14: 4 | M14: 4 | N14: 4 | O14: 5 | P14: 5 | Q14: 4 | R14: 5 | S14: 3 | T14: 5 | U14: 4 | V14: 5 | W14: 0 | X14: 4 | Y14: 4 | Z14: 5 | AA14: 5 | AB14: 5 | AC14: 4 | AD14: 5 | AE14: 5 | AF14: 3 | AG14: 4 | AH14: 5 | AI14: 5 | AJ14: 3 | AK14: 4 | AL14: 5 | AM14: 4 | AN14: 4 | AO14: 3 | AP14: 4 | AQ14: 4 | AR14: 4 | AS14: 4 | AT14: 5 | AU14: 3 | AV14: 4 | AW14: 5 | AX14: 4 | AY14: 5 | AZ14: 5 | BA14: 3 | BB14: 4 | BC14: 4 | BD14: 5 | BE14: 4 | BF14: 5 | BG14: 4 | BH14: 4 | BI14: 5 | BJ14: 4 | BK14: 5 | BL14: 3 | BM14: 5 | BN14: 3 | BO14: 4 | BP14: 4 | BQ14: 4 | BR14: 4 | BS14: 4 | BT14: 5 | BU14: 5 | BV14: 4 | BW14: 4 | BX14: 5 | BY14: 4 | BZ14: 5 | CA14: 1 | CB14: 4 | CC14: 4 | CD14: 5 | CE14: 5 | CF14: 4 | CG14: 4 | CH14: 5 | CI14: 5 | CJ14: 5 | CK14: 4 | CL14: 5 | CM14: 5 | CN14: 4 | CO14: 4 | CP14: 4 | CQ14: 4 | CR14: 5 | CS14: 5 | CT14: 5 | CU14: 4 | CV14: 4 | CW14: 5 | CX14: 5 | CY14: 5 | CZ14: 5 | DA14: 4 | DB14: 4 | DC14: 5 | DD14: 4 | DE14: 4 | DF14: 5 | DG14: 5 | DH14: 5 | DI14: 5 | DJ14: 4 | DK14: 5 | DL14: 4 | DM14: 4 | DN14: 5 | DO14: 5 | DP14: 5 | DQ14: 4 | DR14: 4 | DS14: 5 | DT14: 5 | DU14: 5 | DV14: 5 | DW14: 5 | DX14: 4 | DY14: 4 | DZ14: 4 | EA14: 4 | EB14: 5 | EC14: 4 | ED14: 4 | EE14: 4 | EF14: 5 | EG14: 4 | EH14: 5 | EI14: 5 | EJ14: 4 | EK14: 4 | EL14: 4 | EM14: 5 | EN14: 4 | EO14: 4 | EP14: 5 | EQ14: 5 | ER14: 4 | ES14: 4 | ET14: 3 | EU14: 5 | EV14: 4 | EW14: 4 | EX14: 5 | EY14: 3 | EZ14: 5 | FA14: 1 | FB14: 5 | FC14: 5 | FD14: 5 | FE14: 4 | FF14: 4 | FG14: 5 | FH14: 5 | FI14: 5 | FJ14: 5 | FK14: 3 | FL14: 5 | FM14: 4 | FN14: 4 | FO14: 3 | FP14: 5 | FQ14: 4 | FR14: 4 | FS14: 4 | FT14: 5 | FU14: 5 | FV14: 5 | FW14: 4 | FX14: 3 | FY14: 5 | FZ14: 4 | GA14: 4 | GB14: 5 | GC14: 4 | GD14: 4 | GE14: 4 | GF14: 4 | GG14: 4 | GH14: 4 | GI14: 5 | GJ14: 4 | GK14: 5 | GL14: 4 | GM14: 4 | GN14: 5 | GO14: 4 | GP14: 4 | GQ14: 5 | GR14: 5 | GS14: 4 | GT14: 4 | GU14: 5 | GV14: 4 | GW14: 5 | GX14: 4 | GY14: 5 | GZ14: 5 | HA14: 5 | HB14: 4 | HC14: 4 | HD14: 4 | HE14: 5 | HF14: 5 | HG14: 4 | HH14: 5 | HI14: 2 | HJ14: 4 | HK14: 5 | HL14: 5 | HM14: 4 | HN14: 5 | HO14: 5 | HP14: 5 | HQ14: 5 | HR14: 2 | HS14: 4 | HT14: 4 | HU14: 1 | HV14: 4 | HW14: 5 | HX14: 4 | HY14: 5 | HZ14: 5 | IA14: 5 | IB14: 5 | IC14: 5 | ID14: 5 | IE14: 4 | IF14: 5 | IG14: 5 | IH14: 4 | II14: 5 | IJ14: 3 | IK14: 4 | IL14: 4 | IM14: 5 | IN14: 5 | IO14: 5 | IP14: 5 | IQ14: 5 | IR14: 0 | IS14: 5 | IT14: 3 | IU14: 5 | IV14: 5 | IW14: 5 | IX14: 5 | IY14: 4 | IZ14: 5 | JA14: 4 | JB14: 5 | JC14: 5 | JD14: 4 | JE14: 4 | JF14: 5 | JG14: 5 | JH14: 4 | JI14: 5 | JJ14: 5 | JK14: 5 | JL14: 5 | JM14: 5 | JN14: 3 | JO14: 4 | JP14: 4 | JQ14: 4 | JR14: 4 | JS14: 4 | JT14: 5 | JU14: 4 | JV14: 4 | JW14: 4 | JX14: 4 | JY14: 5 | JZ14: 2 | KA14: 5 | KB14: 5 | KC14: 4 | KD14: 4 | KE14: 5 | KF14: 5 | KG14: 5 | KH14: 5 | KI14: 4 | KJ14: 5 | KK14: 4 | KL14: 5 | KM14: 5 | KN14: 4 | KO14: 5 | KP14: 5 | KQ14: 4 | KR14: 5 | KS14: 4 | KT14: 2 | KU14: 5 | KV14: 4 | KW14: 4 | KX14: 4 | KY14: 5 | KZ14: 5 | LA14: 4 | LB14: 4 | LC14: 5 | LD14: 4 | LE14: 5 | LF14: 5 | LG14: 4 | LH14: 5 | LI14: 4 | LJ14: 0 | LK14: 4 | LL14: 5 | LM14: 5 | LN14: 1 | LO14: 4 | LP14: 5 | LQ14: 4 | LR14: 4 | LS14: 4 | LT14: 5 | LU14: 2 | LV14: 5 | LW14: 5 | LX14: 4 | LY14: 4 | LZ14: 4 | MA14: 5 | MB14: 5 | MC14: 3 | MD14: 5 | ME14: 5 | MF14: 4 | MG14: 5 | MH14: 4 | MI14: 5 | MJ14: 5 | MK14: 5 | ML14: 4 | MM14: 4 | MN14: 4 | MO14: 5 | MP14: 5 | MQ14: 5 | MR14: 5 | MS14: 4 | MT14: 3 | MU14: 4 | MV14: 5 | MW14: 4 | MX14: 4 | MY14: 5 | MZ14: 4 | NA14: 5 | NB14: 5 | NC14: 5 | ND14: 5 | NE14: 5 | NF14: 5 | NG14: 5 | NH14: 5 | NI14: 5 | NJ14: 3 | NK14: 4 | NL14: 5 | NM14: 5 | NN14: 4 | NO14: 4 | NP14: 4 | NQ14: 4 | NR14: 3 | NS14: 5 | NT14: 4 | NU14: 5 | NV14: 5 | NW14: 5 | NX14: 5 | NY14: 4 | NZ14: 5 | OA14: 5 | OB14: 5 | OC14: 5 | OD14: 5 | OE14: 4 | OF14: 5 | OG14: 4 | OH14: 5 | OI14: 4 | OJ14: 3 | OK14: 5 | OL14: 5 | OM14: 5 | ON14: 3 | OO14: 5 | OP14: 4 | OQ14: 4 | OR14: 4 | OS14: 5 | OT14: 5 | OU14: 4 | OV14: 5 | OW14: 4 | OX14: 5 | OY14: 5 | OZ14: 4 | PA14: 5 | PB14: 5 | PC14: 3 | PD14: 5 | PE14: 5 | PF14: 5 | PG14: 3 | PH14: 4 | PI14: 5 | PJ14: 5 | PK14: 4 | PL14: 5 | PM14: 4 | PN14: 5 | PO14: 5 | PP14: 4 | PQ14: 5 | PR14: 5 | PS14: 4 | PT14: 5 | PU14: 4 | PV14: 4 | PW14: 3 | PX14: 4 | PY14: 5 | PZ14: 4 | QA14: 4 | QB14: 4 | QC14: 3 | QD14: 4 | QE14: 5 | QF14: 4 | QG14: 4 | QH14: 5 | QI14: 4 | QJ14: 5 | QK14: 5 | QL14: 4 | QM14: 4 | QN14: 4 | QO14: 2 | QP14: 3 | QQ14: 4 | QR14: 5 | QS14: 5 | QT14: 5 | QU14: 5 | QV14: 5 | QW14: 5 | QX14: 5 | QY14: 5 | QZ14: 5 | RA14: 3 | RB14: 4 | RC14: 4 | RD14: 5 | RE14: 0 | RF14: 5 | RG14: 5 | RH14: 4 | RI14: 5 | RJ14: 4 | RK14: 5 | RL14: 4 | RM14: 5 | RN14: 5 | RO14: 5 | RP14: 4 | RQ14: 5 | RR14: 3 | RS14: 4 | RT14: 4 | RU14: 5 | RV14: 5 | RW14: 4 | RX14: 4 | RY14: 5 | RZ14: 5 | SA14: 5 | SB14: 4 | SC14: 5 | SD14: 5 | SE14: 5 | SF14: 5 | SG14: 5 | SH14: 4 | SI14: 4 | SJ14: 5 | SK14: 4 | SL14: 4 | SM14: 4 | SN14: 4 | SO14: 3 | SP14: 5 | SQ14: 4 | SR14: 4 | SS14: 5 | ST14: 4 | SU14: 4 | SV14: 5 | SW14: 5 | SX14: 5 | SY14: 5 | SZ14: 4 | TA14: 3 | TB14: 5 | TC14: 4 | TD14: 4 | TE14: 4 | TF14: 4 | TG14: 4 | TH14: 5 | TI14: 5 | TJ14: 5 | TK14: 4 | TL14: 4 | TM14: 5 | TN14: 4 | TO14: 5 | TP14: 4 | TQ14: 5 | TR14: 4 | TS14: 5 | TT14: 5 | TU14: 5 | TV14: 5 | TW14: 4 | TX14: 4 | TY14: 3 | TZ14: 4 | UA14: 4 | UB14: 4 | UC14: 2 | UD14: 4 | UE14: 3 | UF14: 3 | UG14: 5 | UH14: 5 | UI14: 5 | UJ14: 5 | UK14: 4 | UL14: 4 | UM14: 5 | UN14: 3 | UO14: 5 | UP14: 5 | UQ14: 5 | UR14: 4 | US14: 4 | UT14: 4 | UU14: 4 | UV14: 5 | UW14: 4 | UX14: 5 | UY14: 5 | UZ14: 5 | VA14: 5 | VB14: 4 | VC14: 4 | VD14: 5 | VE14: 5 | VF14: 5 | VG14: 4 | VH14: 4 | VI14: 1 | VJ14: 1 | VK14: 5 | VL14: 1 | VM14: 5 | VN14: 5 | VO14: 4 | VP14: 5 | VQ14: 4 | VR14: 3 | VS14: 3 | VT14: 5 | VU14: 5 | VV14: 4 | VW14: 5 | VX14: 5 | VY14: 4 | VZ14: 4 | WA14: 4 | WB14: 5 | WC14: 4 | WD14: 4 | WE14: 3 | WF14: 5 | WG14: 4 | WH14: 4 | WI14: 4 | WJ14: 4 | WK14: 5 | WL14: 4 | WM14: 4 | WN14: 4 | WO14: 5 | WP14: 4 | WQ14: 5 | WR14: 4 | WS14: 4 | WT14: 4 | WU14: 4 | WV14: 4 | WW14: 5 | WX14: 5 | WY14: 5 | WZ14: 4 | XA14: 5 | XB14: 5 | XC14: 4 | XD14: 4 | XE14: 4 | XF14: 4 | XG14: 5 | XH14: 5 | XI14: 4 | XJ14: 5 | XK14: 4 | XL14: 5 | XM14: 4 | XN14: 5 | XO14: 4 | XP14: 4 | XQ14: 5 | XR14: 4 | XS14: 5 | XT14: 5 | XU14: 4 | XV14: 2 | XW14: 4 | XX14: 5 | XY14: 5 | XZ14: 4 | YA14: 5 | YB14: 5 | YC14: 4 | YD14: 3 | YE14: 5 | YF14: 5 | YG14: 5 | YH14: 5 | YI14: 5 | YJ14: 5 | YK14: 5 | YL14: 4 | YM14: 5 | YN14: 5 | YO14: =AVERAGE(Tabela636[[#This Row],[1]:[832]]) -> 4.3494705 | YP14: =SKEW(Tabela636[[#This Row],[1]:[832]]) -> -1.9938367 | YQ14: =STDEV(Tabela636[[#This Row],[1]:[832]]) -> 0.81674921 | YR14: 0.86873413
