Workbook
Name Print_Titles: 'Parte BB_Casado'!$2:$2
Name Print_Titles: 'Parte BB_Feminino'!$2:$2
Name Print_Titles: 'Parte BB_Global'!$2:$2
Name Print_Titles: 'Parte BB_Licenciado'!$2:$2
Name Print_Titles: 'Parte BB_Mais 12a Svç'!$2:$2
Name Print_Titles: 'Parte BB_Mais 39a'!$2:$2
Name Print_Titles: 'Parte BB_Masculino'!$2:$2
Name Print_Titles: 'Parte BB_Menos 12a Svç'!$2:$2
Name Print_Titles: 'Parte BB_Menos 39a'!$2:$2
Name Print_Titles: 'Parte BB_Não Casado'!$2:$2
Name Print_Titles: 'Parte BB_Não Licenciado'!$2:$2
Name Print_Titles: 'Parte BB_Não Vítima'!$2:$2
Name Print_Titles: 'Parte BB_Resumo Coef'!$2:$2
Name Print_Titles: 'Parte BB_Vítima'!$2:$2

Sheet Parte B
A2: Total | B2: =AVERAGEIF(B6:B970,">0") -> 4.3757576 | C2: =AVERAGEIF(C6:C970,">0") -> 4.6332931 | D2: =AVERAGEIF(D6:D970,">0") -> 4.3429952 | E2: =AVERAGEIF(E6:E970,">0") -> 4.5963636 | F2: =AVERAGEIF(F6:F970,">0") -> 4.2657767 | G2: =AVERAGEIF(G6:G970,">0") -> 4.4782082 | H2: =AVERAGEIF(H6:H970,">0") -> 4.1642157 | I2: =AVERAGEIF(I6:I970,">0") -> 4.5121065 | ... L2: =AVERAGEIF(L6:L970,">0") -> 4.6650602
B4: 1.Autonomia | C4: 2.Aprendizagem/Formação | D4: 3.Condições físicas de trabalho | E4: 4.Equilíbrio vida profissional / pessoal | F4: 5.Independência | G4: 6.Possibilidade de progressão na carreira | H4: 7.Recompensas intrínsecas | I4: 8.Relações interpessoais/ambiente social | J4: 9.Remuneração | K4: 10.Saúde | L4: 11.Segurança
A5: Coluna1 | B5: Coluna2 | C5: Coluna3 | D5: Coluna4 | E5: Coluna5 | F5: Coluna6 | G5: Coluna7 | H5: Coluna8 | I5: Coluna9 | J5: Coluna10 | K5: Coluna11 | L5: Coluna12
A6: Inquérito 001 | B6: 3 | C6: 4 | D6: 4 | E6: 4 | F6: 3 | G6: 4 | H6: 1 | I6: 2 | J6: 1 | K6: 4 | L6: 1
A7: Inquérito 002 | B7: 4 | C7: 5 | D7: 4 | E7: 5 | F7: 5 | G7: 4 | H7: 4 | I7: 4 | J7: 4 | K7: 4 | L7: 4
A8: Inquérito 003 | B8: 4 | C8: 5 | D8: 5 | E8: 5 | F8: 4 | G8: 5 | H8: 4 | I8: 4 | J8: 5 | K8: 5 | L8: 5
A9: Inquérito 004 | B9: 4 | C9: 4 | D9: 5 | E9: 5 | F9: 4 | G9: 4 | H9: 4 | I9: 4 | J9: 4 | K9: 5 | L9: 5
A10: Inquérito 005 | B10: 4 | C10: 2 | D10: 5 | E10: 5 | F10: 5 | G10: 3 | H10: 3 | I10: 5 | J10: 5 | K10: 5 | L10: 4
A11: Inquérito 006 | B11: 4 | C11: 4 | D11: 5 | E11: 5 | F11: 5 | G11: 4 | H11: 3 | I11: 4 | J11: 4 | K11: 5 | L11: 5
A12: Inquérito 007 | B12: 5 | C12: 5 | D12: 5 | E12: 5 | F12: 4 | G12: 5 | H12: 5 | I12: 4 | J12: 5 | K12: 5 | L12: 5
A13: Inquérito 008 | B13: 4 | C13: 5 | D13: 5 | E13: 5 | F13: 4 | G13: 5 | H13: 5 | I13: 5 | J13: 5 | K13: 5 | L13: 5
A14: Inquérito 009 | B14: 4 | C14: 4 | D14: 4 | E14: 4 | F14: 4 | G14: 5 | H14: 4 | I14: 4 | J14: 4 | K14: 5 | L14: 5
A15: Inquérito 010 | B15: 5 | C15: 4 | D15: 4 | E15: 5 | F15: 5 | G15: 5 | H15: 5 | I15: 5 | J15: 5 | K15: 5 | L15: 4
A16: Inquérito 011 | B16: 5 | C16: 5 | D16: 5 | E16: 5 | F16: 5 | G16: 5 | H16: 5 | I16: 4 | J16: 5 | K16: 5 | L16: 5
A17: Inquérito 012 | B17: 5 | C17: 4 | D17: 4 | E17: 5 | F17: 5 | G17: 5 | H17: 3 | I17: 4 | J17: 4 | K17: 5 | L17: 5
... A837: Inquérito 832 | B837: 5 | C837: 5 | D837: 5 | E837: 5 | F837: 5 | G837: 5 | H837: 4 | I837: 5 | J837: 4 | K837: 5 | L837: 5

Sheet Parte B (2)
A2: Total | F2: =AVERAGEIF(F6:F970,">0") -> 4.3757576 | G2: =AVERAGEIF(G6:G970,">0") -> 4.6332931 | H2: =AVERAGEIF(H6:H970,">0") -> 4.3429952 | I2: =AVERAGEIF(I6:I970,">0") -> 4.5963636 | J2: =AVERAGEIF(J6:J970,">0") -> 4.2657767 | K2: =AVERAGEIF(K6:K970,">0") -> 4.4782082 | L2: =AVERAGEIF(L6:L970,">0") -> 4.1642157 | M2: =AVERAGEIF(M6:M970,">0") -> 4.5121065 | ... P2: =AVERAGEIF(P6:P970,">0") -> 4.6650602
F4: 1.Autonomia | G4: 2.Aprendizagem/Formação | H4: 3.Condições físicas de trabalho | I4: 4.Equilíbrio vida profissional / pessoal | J4: 5.Independência | K4: 6.Possibilidade de progressão na carreira | L4: 7.Recompensas intrínsecas | M4: 8.Relações interpessoais/ambiente social | N4: 9.Remuneração | O4: 10.Saúde | P4: 11.Segurança
A5: Coluna1 | B5: Coluna13 | C5: Coluna14 | D5: Coluna15 | E5: Coluna16 | F5: Coluna2 | G5: Coluna3 | H5: Coluna4 | I5: Coluna5 | J5: Coluna6 | K5: Coluna7 | L5: Coluna8 | M5: Coluna9 | N5: Coluna10 | O5: Coluna11 | P5: Coluna12
A6: Inquérito 001 | F6: 3 | G6: 4 | H6: 4 | I6: 4 | J6: 3 | K6: 4 | L6: 1 | M6: 2 | N6: 1 | O6: 4 | P6: 1
A7: Inquérito 002 | F7: 4 | G7: 5 | H7: 4 | I7: 5 | J7: 5 | K7: 4 | L7: 4 | M7: 4 | N7: 4 | O7: 4 | P7: 4
A8: Inquérito 003 | F8: 4 | G8: 5 | H8: 5 | I8: 5 | J8: 4 | K8: 5 | L8: 4 | M8: 4 | N8: 5 | O8: 5 | P8: 5
A9: Inquérito 004 | F9: 4 | G9: 4 | H9: 5 | I9: 5 | J9: 4 | K9: 4 | L9: 4 | M9: 4 | N9: 4 | O9: 5 | P9: 5
A10: Inquérito 005 | F10: 4 | G10: 2 | H10: 5 | I10: 5 | J10: 5 | K10: 3 | L10: 3 | M10: 5 | N10: 5 | O10: 5 | P10: 4
A11: Inquérito 006 | F11: 4 | G11: 4 | H11: 5 | I11: 5 | J11: 5 | K11: 4 | L11: 3 | M11: 4 | N11: 4 | O11: 5 | P11: 5
A12: Inquérito 007 | F12: 5 | G12: 5 | H12: 5 | I12: 5 | J12: 4 | K12: 5 | L12: 5 | M12: 4 | N12: 5 | O12: 5 | P12: 5
A13: Inquérito 008 | F13: 4 | G13: 5 | H13: 5 | I13: 5 | J13: 4 | K13: 5 | L13: 5 | M13: 5 | N13: 5 | O13: 5 | P13: 5
A14: Inquérito 009 | F14: 4 | G14: 4 | H14: 4 | I14: 4 | J14: 4 | K14: 5 | L14: 4 | M14: 4 | N14: 4 | O14: 5 | P14: 5
A15: Inquérito 010 | F15: 5 | G15: 4 | H15: 4 | I15: 5 | J15: 5 | K15: 5 | L15: 5 | M15: 5 | N15: 5 | O15: 5 | P15: 4
A16: Inquérito 011 | F16: 5 | G16: 5 | H16: 5 | I16: 5 | J16: 5 | K16: 5 | L16: 5 | M16: 4 | N16: 5 | O16: 5 | P16: 5
A17: Inquérito 012 | F17: 5 | G17: 4 | H17: 4 | I17: 5 | J17: 5 | K17: 5 | L17: 3 | M17: 4 | N17: 4 | O17: 5 | P17: 5
... A837: Inquérito 832 | F837: 5 | G837: 5 | H837: 5 | I837: 5 | J837: 5 | K837: 5 | L837: 4 | M837: 5 | N837: 4 | O837: 5 | P837: 5

Sheet Parte B_Global
A1: PARTE B | I1: .
C3: Dimensões da qualidade do trabalho | D3: Nada Importante | E3: Pouco Importante | F3: Mais ou Menos Importante | G3: Importante | H3: Muito Importante
B4: 1 | C4: Autonomia | D4: =COUNTIF('Parte B'!$B$6:$B$970,1) -> 10 | E4: =COUNTIF('Parte B'!$B$6:$B$970,2) -> 3 | F4: =COUNTIF('Parte B'!$B$6:$B$970,3) -> 41 | G4: =COUNTIF('Parte B'!$B$6:$B$970,4) -> 384 | H4: =COUNTIF('Parte B'!$B$6:$B$970,5) -> 387
B5: 2 | C5: Aprendizagem/Formação | D5: =COUNTIF('Parte B'!$C$6:$C$970,1) -> 6 | E5: =COUNTIF('Parte B'!$C$6:$C$970,2) -> 11 | F5: =COUNTIF('Parte B'!$C$6:$C$970,3) -> 22 | G5: =COUNTIF('Parte B'!$C$6:$C$970,4) -> 203 | H5: =COUNTIF('Parte B'!$C$6:$C$970,5) -> 587
B6: 3 | C6: Condições físicas de trabalho | D6: =COUNTIF('Parte B'!$D$6:$D$970,1) -> 9 | E6: =COUNTIF('Parte B'!$D$6:$D$970,2) -> 12 | F6: =COUNTIF('Parte B'!$D$6:$D$970,3) -> 64 | G6: =COUNTIF('Parte B'!$D$6:$D$970,4) -> 344 | H6: =COUNTIF('Parte B'!$D$6:$D$970,5) -> 399
B7: 4 | C7: Equilíbrio vida profissional / pessoal | D7: =COUNTIF('Parte B'!$E$6:$E$970,1) -> 4 | E7: =COUNTIF('Parte B'!$E$6:$E$970,2) -> 6 | F7: =COUNTIF('Parte B'!$E$6:$E$970,3) -> 40 | G7: =COUNTIF('Parte B'!$E$6:$E$970,4) -> 219 | H7: =COUNTIF('Parte B'!$E$6:$E$970,5) -> 556
B8: 5 | C8: Independência | D8: =COUNTIF('Parte B'!$F$6:$F$970,1) -> 5 | E8: =COUNTIF('Parte B'!$F$6:$F$970,2) -> 10 | F8: =COUNTIF('Parte B'!$F$6:$F$970,3) -> 83 | G8: =COUNTIF('Parte B'!$F$6:$F$970,4) -> 389 | H8: =COUNTIF('Parte B'!$F$6:$F$970,5) -> 337
B9: 6 | C9: Possibilidade de progressão na carreira | D9: =COUNTIF('Parte B'!$G$6:$G$970,1) -> 18 | E9: =COUNTIF('Parte B'!$G$6:$G$970,2) -> 9 | F9: =COUNTIF('Parte B'!$G$6:$G$970,3) -> 42 | G9: =COUNTIF('Parte B'!$G$6:$G$970,4) -> 248 | H9: =COUNTIF('Parte B'!$G$6:$G$970,5) -> 509
B10: 7 | C10: Recompensas intrínsecas | D10: =COUNTIF('Parte B'!$H$6:$H$970,1) -> 21 | E10: =COUNTIF('Parte B'!$H$6:$H$970,2) -> 17 | F10: =COUNTIF('Parte B'!$H$6:$H$970,3) -> 103 | G10: =COUNTIF('Parte B'!$H$6:$H$970,4) -> 341 | H10: =COUNTIF('Parte B'!$H$6:$H$970,5) -> 334
B11: 8 | C11: Relações interpessoais/ambiente social | D11: =COUNTIF('Parte B'!$I$6:$I$970,1) -> 5 | E11: =COUNTIF('Parte B'!$I$6:$I$970,2) -> 9 | F11: =COUNTIF('Parte B'!$I$6:$I$970,3) -> 43 | G11: =COUNTIF('Parte B'!$I$6:$I$970,4) -> 270 | H11: =COUNTIF('Parte B'!$I$6:$I$970,5) -> 499
B12: 9 | C12: Remuneração | D12: =COUNTIF('Parte B'!$J$6:$J$970,1) -> 13 | E12: =COUNTIF('Parte B'!$J$6:$J$970,2) -> 10 | F12: =COUNTIF('Parte B'!$J$6:$J$970,3) -> 33 | G12: =COUNTIF('Parte B'!$J$6:$J$970,4) -> 276 | H12: =COUNTIF('Parte B'!$J$6:$J$970,5) -> 491
B13: 10 | C13: Saúde | D13: =COUNTIF('Parte B'!$K$6:$K$970,1) -> 6 | E13: =COUNTIF('Parte B'!$K$6:$K$970,2) -> 4 | F13: =COUNTIF('Parte B'!$K$6:$K$970,3) -> 21 | G13: =COUNTIF('Parte B'!$K$6:$K$970,4) -> 138 | H13: =COUNTIF('Parte B'!$K$6:$K$970,5) -> 661
B14: 11 | C14: Segurança | D14: =COUNTIF('Parte B'!$L$6:$L$970,1) -> 8 | E14: =COUNTIF('Parte B'!$L$6:$L$970,2) -> 3 | F14: =COUNTIF('Parte B'!$L$6:$L$970,3) -> 25 | G14: =COUNTIF('Parte B'!$L$6:$L$970,4) -> 187 | H14: =COUNTIF('Parte B'!$L$6:$L$970,5) -> 607

Sheet Parte BB_Resumo Coef
B1: AMOSTRA GLOBAL
A2: Coluna1 | B2: PERGUNTA | C2: MÉDIA | D2: COEFICIENTE DE ASSIMETRIA (SKEWNESS) | E2: DESVIO PADRÃO | F2: FIABILIDADE (Alpha Cronbach)
A3: 19 | B3: Género Masculino | C3: ='Parte BB_Masculino'!FV22 -> 4.354232 | D3: ='Parte BB_Masculino'!FW23 -> -1.6683238 | E3: ='Parte BB_Masculino'!FX24 -> 0.83876004 | F3: ='Parte BB_Masculino'!FY25 -> 0.86023734
A4: 20 | B4: Género Feminino | C4: ='Parte BB_Feminino'!YO23 -> 4.4680237 | D4: ='Parte BB_Feminino'!YP24 -> -2.4904352 | E4: ='Parte BB_Feminino'!YQ25 -> 0.84266521 | F4: ='Parte BB_Feminino'!YR26 -> 0.89978927
A5: 21 | B5: Casado | C5: ='Parte BB_Casado'!RY16 -> 4.4645845 | D5: ='Parte BB_Casado'!RZ17 -> -2.3609627 | E5: ='Parte BB_Casado'!SA18 -> 0.83236004 | F5: ='Parte BB_Casado'!SB19 -> 0.87153635
A6: 22 | B6: Não Casado | C6: ='Parte BB_Não Casado'!ND17 -> 4.4098402 | D6: ='Parte BB_Não Casado'!NE18 -> -2.2498915 | E6: ='Parte BB_Não Casado'!NF19 -> 0.86663129 | F6: ='Parte BB_Não Casado'!NG20 -> 0.91131012
A7: 23 | B7: Mais de 39 anos de idade | C7: ='Parte BB_Mais 39a'!NZ16 -> 4.4090909 | D7: ='Parte BB_Mais 39a'!OA17 -> -2.2223802 | E7: ='Parte BB_Mais 39a'!OB18 -> 0.8957969 | F7: ='Parte BB_Mais 39a'!OC19 -> 0.89841564
A8: 24 | B8: Menos de 39 anos de idade | C8: ='Parte BB_Menos 39a'!PX16 -> 4.498749 | D8: ='Parte BB_Menos 39a'!PY17 -> -2.1805814 | E8: ='Parte BB_Menos 39a'!PZ18 -> 0.74130236 | F8: ='Parte BB_Menos 39a'!QA19 -> 0.88800861
A9: 25 | B9: Mais de 12 anos de serviço | C9: ='Parte BB_Menos 12a Svç'!PE16 -> 4.4813604 | D9: ='Parte BB_Mais 12a Svç'!LH17 -> -2.3096994 | E9: ='Parte BB_Mais 12a Svç'!LI18 -> 0.82980317 | F9: ='Parte BB_Mais 12a Svç'!LJ19 -> 0.83793988
A10: 26 | B10: Menos de 12 anos de serviço | C10: ='Parte BB_Menos 12a Svç'!PE16 -> 4.4813604 | D10: ='Parte BB_Menos 12a Svç'!PF17 -> -2.1067585 | E10: ='Parte BB_Menos 12a Svç'!PG18 -> 0.75658993 | F10: ='Parte BB_Menos 12a Svç'!PH19 -> 0.90881871
A11: 27 | B11: Licenciado ou grau académico superior | C11: ='Parte BB_Licenciado'!UH18 -> 4.4880992 | D11: ='Parte BB_Licenciado'!UI19 -> -2.2953976 | E11: ='Parte BB_Licenciado'!UJ20 -> 0.78332379 | F11: ='Parte BB_Licenciado'!UK21 -> 0.9086001
A12: 28 | B12: Não Licenciado | C12: ='Parte BB_Não Licenciado'!NM17 -> 4.4121375 | D12: ='Parte BB_Não Licenciado'!NN18 -> -2.2808138 | E12: ='Parte BB_Não Licenciado'!NO19 -> 0.88627813 | F12: ='Parte BB_Não Licenciado'!NP20 -> 0.86967067

Sheet Parte BB_Global
C1: AMOSTRA GLOBAL | D1: Inq | E1: Inq | F1: Inq | G1: Inq | H1: Inq | I1: Inq | J1: Inq | K1: Inq | L1: Inq | M1: Inq | N1: Inq | O1: Inq | P1: Inq | Q1: Inq | R1: Inq | S1: Inq | T1: Inq | U1: Inq | V1: Inq | W1: Inq | X1: Inq | Y1: Inq | Z1: Inq | AA1: Inq | AB1: Inq | AC1: Inq | AD1: Inq | AE1: Inq | AF1: Inq | AG1: Inq | AH1: Inq | AI1: Inq | AJ1: Inq | AK1: Inq | AL1: Inq | AM1: Inq | AN1: Inq | AO1: Inq | AP1: Inq | AQ1: Inq | AR1: Inq | AS1: Inq | AT1: Inq | AU1: Inq | AV1: Inq | AW1: Inq | AX1: Inq | AY1: Inq | AZ1: Inq | BA1: Inq | BB1: Inq | BC1: Inq | BD1: Inq | BE1: Inq | BF1: Inq | BG1: Inq | BH1: Inq | BI1: Inq | BJ1: Inq | BK1: Inq | BL1: Inq | BM1: Inq | BN1: Inq | BO1: Inq | BP1: Inq | BQ1: Inq | BR1: Inq | BS1: Inq | BT1: Inq | BU1: Inq | BV1: Inq | BW1: Inq | BX1: Inq | BY1: Inq | BZ1: Inq | CA1: Inq | CB1: Inq | CC1: Inq | CD1: Inq | CE1: Inq | CF1: Inq | CG1: Inq | CH1: Inq | CI1: Inq | CJ1: Inq | CK1: Inq | CL1: Inq | CM1: Inq | CN1: Inq | CO1: Inq | CP1: Inq | CQ1: Inq | CR1: Inq | CS1: Inq | CT1: Inq | CU1: Inq | CV1: Inq | CW1: Inq | CX1: Inq | CY1: Inq | CZ1: Inq | DA1: Inq | DB1: Inq | DC1: Inq | DD1: Inq | DE1: Inq | DF1: Inq | DG1: Inq | DH1: Inq | DI1: Inq | DJ1: Inq | DK1: Inq | DL1: Inq | DM1: Inq | DN1: Inq | DO1: Inq | DP1: Inq | DQ1: Inq | DR1: Inq | DS1: Inq | DT1: Inq | DU1: Inq | DV1: Inq | DW1: Inq | DX1: Inq | DY1: Inq | DZ1: Inq | EA1: Inq | EB1: Inq | EC1: Inq | ED1: Inq | EE1: Inq | EF1: Inq | EG1: Inq | EH1: Inq | EI1: Inq | EJ1: Inq | EK1: Inq | EL1: Inq | EM1: Inq | EN1: Inq | EO1: Inq | EP1: Inq | EQ1: Inq | ER1: Inq | ES1: Inq | ET1: Inq | EU1: Inq | EV1: Inq | EW1: Inq | EX1: Inq | EY1: Inq | EZ1: Inq | FA1: Inq | FB1: Inq | FC1: Inq | FD1: Inq | FE1: Inq | FF1: Inq | FG1: Inq | FH1: Inq | FI1: Inq | FJ1: Inq | FK1: Inq | FL1: Inq | FM1: Inq | FN1: Inq | FO1: Inq | FP1: Inq | FQ1: Inq | FR1: Inq | FS1: Inq | FT1: Inq | FU1: Inq | FV1: Inq | FW1: Inq | FX1: Inq | FY1: Inq | FZ1: Inq | GA1: Inq | GB1: Inq | GC1: Inq | GD1: Inq | GE1: Inq | GF1: Inq | GG1: Inq | GH1: Inq | GI1: Inq | GJ1: Inq | GK1: Inq | GL1: Inq | GM1: Inq | GN1: Inq | GO1: Inq | GP1: Inq | GQ1: Inq | GR1: Inq | GS1: Inq | GT1: Inq | GU1: Inq | GV1: Inq | GW1: Inq | GX1: Inq | GY1: Inq | GZ1: Inq | HA1: Inq | HB1: Inq | HC1: Inq | HD1: Inq | HE1: Inq | HF1: Inq | HG1: Inq | HH1: Inq | HI1: Inq | HJ1: Inq | HK1: Inq | HL1: Inq | HM1: Inq | HN1: Inq | HO1: Inq | HP1: Inq | HQ1: Inq | HR1: Inq | HS1: Inq | HT1: Inq | HU1: Inq | HV1: Inq | HW1: Inq | HX1: Inq | HY1: Inq | HZ1: Inq | IA1: Inq | IB1: Inq | IC1: Inq | ID1: Inq | IE1: Inq | IF1: Inq | IG1: Inq | IH1: Inq | II1: Inq | IJ1: Inq | IK1: Inq | IL1: Inq | IM1: Inq | IN1: Inq | IO1: Inq | IP1: Inq | IQ1: Inq | IR1: Inq | IS1: Inq | IT1: Inq | IU1: Inq | IV1: Inq | IW1: Inq | IX1: Inq | IY1: Inq | IZ1: Inq | JA1: Inq | JB1: Inq | JC1: Inq | JD1: Inq | JE1: Inq | JF1: Inq | JG1: Inq | JH1: Inq | JI1: Inq | JJ1: Inq | JK1: Inq | JL1: Inq | JM1: Inq | JN1: Inq | JO1: Inq | JP1: Inq | JQ1: Inq | JR1: Inq | JS1: Inq | JT1: Inq | JU1: Inq | JV1: Inq | JW1: Inq | JX1: Inq | JY1: Inq | JZ1: Inq | KA1: Inq | KB1: Inq | KC1: Inq | KD1: Inq | KE1: Inq | KF1: Inq | KG1: Inq | KH1: Inq | KI1: Inq | KJ1: Inq | KK1: Inq | KL1: Inq | KM1: Inq | KN1: Inq | KO1: Inq | KP1: Inq | KQ1: Inq | KR1: Inq | KS1: Inq | KT1: Inq | KU1: Inq | KV1: Inq | KW1: Inq | KX1: Inq | KY1: Inq | KZ1: Inq | LA1: Inq | LB1: Inq | LC1: Inq | LD1: Inq | LE1: Inq | LF1: Inq | LG1: Inq | LH1: Inq | LI1: Inq | LJ1: Inq | LK1: Inq | LL1: Inq | LM1: Inq | LN1: Inq | LO1: Inq | LP1: Inq | LQ1: Inq | LR1: Inq | LS1: Inq | LT1: Inq | LU1: Inq | LV1: Inq | LW1: Inq | LX1: Inq | LY1: Inq | LZ1: Inq | MA1: Inq | MB1: Inq | MC1: Inq | MD1: Inq | ME1: Inq | MF1: Inq | MG1: Inq | MH1: Inq | MI1: Inq | MJ1: Inq | MK1: Inq | ML1: Inq | MM1: Inq | MN1: Inq | MO1: Inq | MP1: Inq | MQ1: Inq | MR1: Inq | MS1: Inq | MT1: Inq | MU1: Inq | MV1: Inq | MW1: Inq | MX1: Inq | MY1: Inq | MZ1: Inq | NA1: Inq | NB1: Inq | NC1: Inq | ND1: Inq | NE1: Inq | NF1: Inq | NG1: Inq | NH1: Inq | NI1: Inq | NJ1: Inq | NK1: Inq | NL1: Inq | NM1: Inq | NN1: Inq | NO1: Inq | NP1: Inq | NQ1: Inq | NR1: Inq | NS1: Inq | NT1: Inq | NU1: Inq | NV1: Inq | NW1: Inq | NX1: Inq | NY1: Inq | NZ1: Inq | OA1: Inq | OB1: Inq | OC1: Inq | OD1: Inq | OE1: Inq | OF1: Inq | OG1: Inq | OH1: Inq | OI1: Inq | OJ1: Inq | OK1: Inq | OL1: Inq | OM1: Inq | ON1: Inq | OO1: Inq | OP1: Inq | OQ1: Inq | OR1: Inq | OS1: Inq | OT1: Inq | OU1: Inq | OV1: Inq | OW1: Inq | OX1: Inq | OY1: Inq | OZ1: Inq | PA1: Inq | PB1: Inq | PC1: Inq | PD1: Inq | PE1: Inq | PF1: Inq | PG1: Inq | PH1: Inq | PI1: Inq | PJ1: Inq | PK1: Inq | PL1: Inq | PM1: Inq | PN1: Inq | PO1: Inq | PP1: Inq | PQ1: Inq | PR1: Inq | PS1: Inq | PT1: Inq | PU1: Inq | PV1: Inq | PW1: Inq | PX1: Inq | PY1: Inq | PZ1: Inq | QA1: Inq | QB1: Inq | QC1: Inq | QD1: Inq | QE1: Inq | QF1: Inq | QG1: Inq | QH1: Inq | QI1: Inq | QJ1: Inq | QK1: Inq | QL1: Inq | QM1: Inq | QN1: Inq | QO1: Inq | QP1: Inq | QQ1: Inq | QR1: Inq | QS1: Inq | QT1: Inq | QU1: Inq | QV1: Inq | QW1: Inq | QX1: Inq | QY1: Inq | QZ1: Inq | RA1: Inq | RB1: Inq | RC1: Inq | RD1: Inq | RE1: Inq | RF1: Inq | RG1: Inq | RH1: Inq | RI1: Inq | RJ1: Inq | RK1: Inq | RL1: Inq | RM1: Inq | RN1: Inq | RO1: Inq | RP1: Inq | RQ1: Inq | RR1: Inq | RS1: Inq | RT1: Inq | RU1: Inq | RV1: Inq | RW1: Inq | RX1: Inq | RY1: Inq | RZ1: Inq | SA1: Inq | SB1: Inq | SC1: Inq | SD1: Inq | SE1: Inq | SF1: Inq | SG1: Inq | SH1: Inq | SI1: Inq | SJ1: Inq | SK1: Inq | SL1: Inq | SM1: Inq | SN1: Inq | SO1: Inq | SP1: Inq | SQ1: Inq | SR1: Inq | SS1: Inq | ST1: Inq | SU1: Inq | SV1: Inq | SW1: Inq | SX1: Inq | SY1: Inq | SZ1: Inq | TA1: Inq | TB1: Inq | TC1: Inq | TD1: Inq | TE1: Inq | TF1: Inq | TG1: Inq | TH1: Inq | TI1: Inq | TJ1: Inq | TK1: Inq | TL1: Inq | TM1: Inq | TN1: Inq | TO1: Inq | TP1: Inq | TQ1: Inq | TR1: Inq | TS1: Inq | TT1: Inq | TU1: Inq | TV1: Inq | TW1: Inq | TX1: Inq | TY1: Inq | TZ1: Inq | UA1: Inq | UB1: Inq | UC1: Inq | UD1: Inq | UE1: Inq | UF1: Inq | UG1: Inq | UH1: Inq | UI1: Inq | UJ1: Inq | UK1: Inq | UL1: Inq | UM1: Inq | UN1: Inq | UO1: Inq | UP1: Inq | UQ1: Inq | UR1: Inq | US1: Inq | UT1: Inq | UU1: Inq | UV1: Inq | UW1: Inq | UX1: Inq | UY1: Inq | UZ1: Inq | VA1: Inq | VB1: Inq | VC1: Inq | VD1: Inq | VE1: Inq | VF1: Inq | VG1: Inq | VH1: Inq | VI1: Inq | VJ1: Inq | VK1: Inq | VL1: Inq | VM1: Inq | VN1: Inq | VO1: Inq | VP1: Inq | VQ1: Inq | VR1: Inq | VS1: Inq | VT1: Inq | VU1: Inq | VV1: Inq | VW1: Inq | VX1: Inq | VY1: Inq | VZ1: Inq | WA1: Inq | WB1: Inq | WC1: Inq | WD1: Inq | WE1: Inq | WF1: Inq | WG1: Inq | WH1: Inq | WI1: Inq | WJ1: Inq | WK1: Inq | WL1: Inq | WM1: Inq | WN1: Inq | WO1: Inq | WP1: Inq | WQ1: Inq | WR1: Inq | WS1: Inq | WT1: Inq | WU1: Inq | WV1: Inq | WW1: Inq | WX1: Inq | WY1: Inq | WZ1: Inq | XA1: Inq | XB1: Inq | XC1: Inq | XD1: Inq | XE1: Inq | XF1: Inq | XG1: Inq | XH1: Inq | XI1: Inq | XJ1: Inq | XK1: Inq | XL1: Inq | XM1: Inq | XN1: Inq | XO1: Inq | XP1: Inq | XQ1: Inq | XR1: Inq | XS1: Inq | XT1: Inq | XU1: Inq | XV1: Inq | XW1: Inq | XX1: Inq | XY1: Inq | XZ1: Inq | YA1: Inq | YB1: Inq | YC1: Inq | YD1: Inq | YE1: Inq | YF1: Inq | YG1: Inq | YH1: Inq | YI1: Inq | YJ1: Inq | YK1: Inq | YL1: Inq | YM1: Inq | YN1: Inq | YO1: Inq | YP1: Inq | YQ1: Inq | YR1: Inq | YS1: Inq | YT1: Inq | YU1: Inq | YV1: Inq | YW1: Inq | YX1: Inq | YY1: Inq | YZ1: Inq | ZA1: Inq | ZB1: Inq | ZC1: Inq | ZD1: Inq | ZE1: Inq | ZF1: Inq | ZG1: Inq | ZH1: Inq | ZI1: Inq | ZJ1: Inq | ZK1: Inq | ZL1: Inq | ZM1: Inq | ZN1: Inq | ZO1: Inq | ZP1: Inq | ZQ1: Inq | ZR1: Inq | ZS1: Inq | ZT1: Inq | ZU1: Inq | ZV1: Inq | ZW1: Inq | ZX1: Inq | ZY1: Inq | ZZ1: Inq | AAA1: Inq | AAB1: Inq | AAC1: Inq | AAD1: Inq | AAE1: Inq | AAF1: Inq | AAG1: Inq | AAH1: Inq | AAI1: Inq | AAJ1: Inq | AAK1: Inq | AAL1: Inq | AAM1: Inq | AAN1: Inq | AAO1: Inq | AAP1: Inq | AAQ1: Inq | AAR1: Inq | AAS1: Inq | AAT1: Inq | AAU1: Inq | AAV1: Inq | AAW1: Inq | AAX1: Inq | AAY1: Inq | AAZ1: Inq | ABA1: Inq | ABB1: Inq | ABC1: Inq | ABD1: Inq | ABE1: Inq | ABF1: Inq | ABG1: Inq | ABH1: Inq | ABI1: Inq | ABJ1: Inq | ABK1: Inq | ABL1: Inq | ABM1: Inq | ABN1: Inq | ABO1: Inq | ABP1: Inq | ABQ1: Inq | ABR1: Inq | ABS1: Inq | ABT1: Inq | ABU1: Inq | ABV1: Inq | ABW1: Inq | ABX1: Inq | ABY1: Inq | ABZ1: Inq | ACA1: Inq | ACB1: Inq | ACC1: Inq | ACD1: Inq | ACE1: Inq | ACF1: Inq | ACG1: Inq | ACH1: Inq | ACI1: Inq | ACJ1: Inq | ACK1: Inq | ACL1: Inq | ACM1: Inq | ACN1: Inq | ACO1: Inq | ACP1: Inq | ACQ1: Inq | ACR1: Inq | ACS1: Inq | ACT1: Inq | ACU1: Inq | ACV1: Inq | ACW1: Inq | ACX1: Inq | ACY1: Inq | ACZ1: Inq | ADA1: Inq | ADB1: Inq | ADC1: Inq | ADD1: Inq | ADE1: Inq | ADF1: Inq | ADG1: Inq | ADH1: Inq | ADI1: Inq | ADJ1: Inq | ADK1: Inq | ADL1: Inq | ADM1: Inq | ADN1: Inq | ADO1: Inq | ADP1: Inq | ADQ1: Inq | ADR1: Inq | ADS1: Inq | ADT1: Inq | ADU1: Inq | ADV1: Inq | ADW1: Inq | ADX1: Inq | ADY1: Inq | ADZ1: Inq | AEA1: Inq | AEB1: Inq | AEC1: Inq | AED1: Inq | AEE1: Inq | AEF1: Inq | AEG1: Inq | AEH1: Inq | AEI1: Inq | AEJ1: Inq | AEK1: Inq | AEL1: Inq | AEM1: Inq | AEN1: Inq | AEO1: Inq | AEP1: Inq | AEQ1: Inq | AER1: Inq | AES1: Inq | AET1: Inq | AEU1: Inq | AEV1: Inq | AEW1: Inq | AEX1: Inq | AEY1: Inq | AEZ1: Inq | AFA1: Inq | AFB1: Inq | AFC1: Inq
A2: Coluna1 | B2: Nº Perg | C2: DIMENSÕES | D2: 1 | E2: 2 | F2: 3 | G2: 4 | H2: 5 | I2: 6 | J2: 7 | K2: 8 | L2: 9 | M2: 10 | N2: 11 | O2: 12 | P2: 13 | Q2: 14 | R2: 15 | S2: 16 | T2: 17 | U2: 18 | V2: 19 | W2: 20 | X2: 21 | Y2: 22 | Z2: 23 | AA2: 24 | AB2: 25 | AC2: 26 | AD2: 27 | AE2: 28 | AF2: 29 | AG2: 30 | AH2: 31 | AI2: 32 | AJ2: 33 | AK2: 34 | AL2: 35 | AM2: 36 | AN2: 37 | AO2: 38 | AP2: 39 | AQ2: 40 | AR2: 41 | AS2: 42 | AT2: 43 | AU2: 44 | AV2: 45 | AW2: 46 | AX2: 47 | AY2: 48 | AZ2: 49 | BA2: 50 | BB2: 51 | BC2: 52 | BD2: 53 | BE2: 54 | BF2: 55 | BG2: 56 | BH2: 57 | BI2: 58 | BJ2: 59 | BK2: 60 | BL2: 61 | BM2: 62 | BN2: 63 | BO2: 64 | BP2: 65 | BQ2: 66 | BR2: 67 | BS2: 68 | BT2: 69 | BU2: 70 | BV2: 71 | BW2: 72 | BX2: 73 | BY2: 74 | BZ2: 75 | CA2: 76 | CB2: 77 | CC2: 78 | CD2: 79 | CE2: 80 | CF2: 81 | CG2: 82 | CH2: 83 | CI2: 84 | CJ2: 85 | CK2: 86 | CL2: 87 | CM2: 88 | CN2: 89 | CO2: 90 | CP2: 91 | CQ2: 92 | CR2: 93 | CS2: 94 | CT2: 95 | CU2: 96 | CV2: 97 | CW2: 98 | CX2: 99 | CY2: 100 | CZ2: 101 | DA2: 102 | DB2: 103 | DC2: 104 | DD2: 105 | DE2: 106 | DF2: 107 | DG2: 108 | DH2: 109 | DI2: 110 | DJ2: 111 | DK2: 112 | DL2: 113 | DM2: 114 | DN2: 115 | DO2: 116 | DP2: 117 | DQ2: 118 | DR2: 119 | DS2: 120 | DT2: 121 | DU2: 122 | DV2: 123 | DW2: 124 | DX2: 125 | DY2: 126 | DZ2: 127 | EA2: 128 | EB2: 129 | EC2: 130 | ED2: 131 | EE2: 132 | EF2: 133 | EG2: 134 | EH2: 135 | EI2: 136 | EJ2: 137 | EK2: 138 | EL2: 139 | EM2: 140 | EN2: 141 | EO2: 142 | EP2: 143 | EQ2: 144 | ER2: 145 | ES2: 146 | ET2: 147 | EU2: 148 | EV2: 149 | EW2: 150 | EX2: 151 | EY2: 152 | EZ2: 153 | FA2: 154 | FB2: 155 | FC2: 156 | FD2: 157 | FE2: 158 | FF2: 159 | FG2: 160 | FH2: 161 | FI2: 162 | FJ2: 163 | FK2: 164 | FL2: 165 | FM2: 166 | FN2: 167 | FO2: 168 | FP2: 169 | FQ2: 170 | FR2: 171 | FS2: 172 | FT2: 173 | FU2: 174 | FV2: 175 | FW2: 176 | FX2: 177 | FY2: 178 | FZ2: 179 | GA2: 180 | GB2: 181 | GC2: 182 | GD2: 183 | GE2: 184 | GF2: 185 | GG2: 186 | GH2: 187 | GI2: 188 | GJ2: 189 | GK2: 190 | GL2: 191 | GM2: 192 | GN2: 193 | GO2: 194 | GP2: 195 | GQ2: 196 | GR2: 197 | GS2: 198 | GT2: 199 | GU2: 200 | GV2: 201 | GW2: 202 | GX2: 203 | GY2: 204 | GZ2: 205 | HA2: 206 | HB2: 207 | HC2: 208 | HD2: 209 | HE2: 210 | HF2: 211 | HG2: 212 | HH2: 213 | HI2: 214 | HJ2: 215 | HK2: 216 | HL2: 217 | HM2: 218 | HN2: 219 | HO2: 220 | HP2: 221 | HQ2: 222 | HR2: 223 | HS2: 224 | HT2: 225 | HU2: 226 | HV2: 227 | HW2: 228 | HX2: 229 | HY2: 230 | HZ2: 231 | IA2: 232 | IB2: 233 | IC2: 234 | ID2: 235 | IE2: 236 | IF2: 237 | IG2: 238 | IH2: 239 | II2: 240 | IJ2: 241 | IK2: 242 | IL2: 243 | IM2: 244 | IN2: 245 | IO2: 246 | IP2: 247 | IQ2: 248 | IR2: 249 | IS2: 250 | IT2: 251 | IU2: 252 | IV2: 253 | IW2: 254 | IX2: 255 | IY2: 256 | IZ2: 257 | JA2: 258 | JB2: 259 | JC2: 260 | JD2: 261 | JE2: 262 | JF2: 263 | JG2: 264 | JH2: 265 | JI2: 266 | JJ2: 267 | JK2: 268 | JL2: 269 | JM2: 270 | JN2: 271 | JO2: 272 | JP2: 273 | JQ2: 274 | JR2: 275 | JS2: 276 | JT2: 277 | JU2: 278 | JV2: 279 | JW2: 280 | JX2: 281 | JY2: 282 | JZ2: 283 | KA2: 284 | KB2: 285 | KC2: 286 | KD2: 287 | KE2: 288 | KF2: 289 | KG2: 290 | KH2: 291 | KI2: 292 | KJ2: 293 | KK2: 294 | KL2: 295 | KM2: 296 | KN2: 297 | KO2: 298 | KP2: 299 | KQ2: 300 | KR2: 301 | KS2: 302 | KT2: 303 | KU2: 304 | KV2: 305 | KW2: 306 | KX2: 307 | KY2: 308 | KZ2: 309 | LA2: 310 | LB2: 311 | LC2: 312 | LD2: 313 | LE2: 314 | LF2: 315 | LG2: 316 | LH2: 317 | LI2: 318 | LJ2: 319 | LK2: 320 | LL2: 321 | LM2: 322 | LN2: 323 | LO2: 324 | LP2: 325 | LQ2: 326 | LR2: 327 | LS2: 328 | LT2: 329 | LU2: 330 | LV2: 331 | LW2: 332 | LX2: 333 | LY2: 334 | LZ2: 335 | MA2: 336 | MB2: 337 | MC2: 338 | MD2: 339 | ME2: 340 | MF2: 341 | MG2: 342 | MH2: 343 | MI2: 344 | MJ2: 345 | MK2: 346 | ML2: 347 | MM2: 348 | MN2: 349 | MO2: 350 | MP2: 351 | MQ2: 352 | MR2: 353 | MS2: 354 | MT2: 355 | MU2: 356 | MV2: 357 | MW2: 358 | MX2: 359 | MY2: 360 | MZ2: 361 | NA2: 362 | NB2: 363 | NC2: 364 | ND2: 365 | NE2: 366 | NF2: 367 | NG2: 368 | NH2: 369 | NI2: 370 | NJ2: 371 | NK2: 372 | NL2: 373 | NM2: 374 | NN2: 375 | NO2: 376 | NP2: 377 | NQ2: 378 | NR2: 379 | NS2: 380 | NT2: 381 | NU2: 382 | NV2: 383 | NW2: 384 | NX2: 385 | NY2: 386 | NZ2: 387 | OA2: 388 | OB2: 389 | OC2: 390 | OD2: 391 | OE2: 392 | OF2: 393 | OG2: 394 | OH2: 395 | OI2: 396 | OJ2: 397 | OK2: 398 | OL2: 399 | OM2: 400 | ON2: 401 | OO2: 402 | OP2: 403 | OQ2: 404 | OR2: 405 | OS2: 406 | OT2: 407 | OU2: 408 | OV2: 409 | OW2: 410 | OX2: 411 | OY2: 412 | OZ2: 413 | PA2: 414 | PB2: 415 | PC2: 416 | PD2: 417 | PE2: 418 | PF2: 419 | PG2: 420 | PH2: 421 | PI2: 422 | PJ2: 423 | PK2: 424 | PL2: 425 | PM2: 426 | PN2: 427 | PO2: 428 | PP2: 429 | PQ2: 430 | PR2: 431 | PS2: 432 | PT2: 433 | PU2: 434 | PV2: 435 | PW2: 436 | PX2: 437 | PY2: 438 | PZ2: 439 | QA2: 440 | QB2: 441 | QC2: 442 | QD2: 443 | QE2: 444 | QF2: 445 | QG2: 446 | QH2: 447 | QI2: 448 | QJ2: 449 | QK2: 450 | QL2: 451 | QM2: 452 | QN2: 453 | QO2: 454 | QP2: 455 | QQ2: 456 | QR2: 457 | QS2: 458 | QT2: 459 | QU2: 460 | QV2: 461 | QW2: 462 | QX2: 463 | QY2: 464 | QZ2: 465 | RA2: 466 | RB2: 467 | RC2: 468 | RD2: 469 | RE2: 470 | RF2: 471 | RG2: 472 | RH2: 473 | RI2: 474 | RJ2: 475 | RK2: 476 | RL2: 477 | RM2: 478 | RN2: 479 | RO2: 480 | RP2: 481 | RQ2: 482 | RR2: 483 | RS2: 484 | RT2: 485 | RU2: 486 | RV2: 487 | RW2: 488 | RX2: 489 | RY2: 490 | RZ2: 491 | SA2: 492 | SB2: 493 | SC2: 494 | SD2: 495 | SE2: 496 | SF2: 497 | SG2: 498 | SH2: 499 | SI2: 500 | SJ2: 501 | SK2: 502 | SL2: 503 | SM2: 504 | SN2: 505 | SO2: 506 | SP2: 507 | SQ2: 508 | SR2: 509 | SS2: 510 | ST2: 511 | SU2: 512 | SV2: 513 | SW2: 514 | SX2: 515 | SY2: 516 | SZ2: 517 | TA2: 518 | TB2: 519 | TC2: 520 | TD2: 521 | TE2: 522 | TF2: 523 | TG2: 524 | TH2: 525 | TI2: 526 | TJ2: 527 | TK2: 528 | TL2: 529 | TM2: 530 | TN2: 531 | TO2: 532 | TP2: 533 | TQ2: 534 | TR2: 535 | TS2: 536 | TT2: 537 | TU2: 538 | TV2: 539 | TW2: 540 | TX2: 541 | TY2: 542 | TZ2: 543 | UA2: 544 | UB2: 545 | UC2: 546 | UD2: 547 | UE2: 548 | UF2: 549 | UG2: 550 | UH2: 551 | UI2: 552 | UJ2: 553 | UK2: 554 | UL2: 555 | UM2: 556 | UN2: 557 | UO2: 558 | UP2: 559 | UQ2: 560 | UR2: 561 | US2: 562 | UT2: 563 | UU2: 564 | UV2: 565 | UW2: 566 | UX2: 567 | UY2: 568 | UZ2: 569 | VA2: 570 | VB2: 571 | VC2: 572 | VD2: 573 | VE2: 574 | VF2: 575 | VG2: 576 | VH2: 577 | VI2: 578 | VJ2: 579 | VK2: 580 | VL2: 581 | VM2: 582 | VN2: 583 | VO2: 584 | VP2: 585 | VQ2: 586 | VR2: 587 | VS2: 588 | VT2: 589 | VU2: 590 | VV2: 591 | VW2: 592 | VX2: 593 | VY2: 594 | VZ2: 595 | WA2: 596 | WB2: 597 | WC2: 598 | WD2: 599 | WE2: 600 | WF2: 601 | WG2: 602 | WH2: 603 | WI2: 604 | WJ2: 605 | WK2: 606 | WL2: 607 | WM2: 608 | WN2: 609 | WO2: 610 | WP2: 611 | WQ2: 612 | WR2: 613 | WS2: 614 | WT2: 615 | WU2: 616 | WV2: 617 | WW2: 618 | WX2: 619 | WY2: 620 | WZ2: 621 | XA2: 622 | XB2: 623 | XC2: 624 | XD2: 625 | XE2: 626 | XF2: 627 | XG2: 628 | XH2: 629 | XI2: 630 | XJ2: 631 | XK2: 632 | XL2: 633 | XM2: 634 | XN2: 635 | XO2: 636 | XP2: 637 | XQ2: 638 | XR2: 639 | XS2: 640 | XT2: 641 | XU2: 642 | XV2: 643 | XW2: 644 | XX2: 645 | XY2: 646 | XZ2: 647 | YA2: 648 | YB2: 649 | YC2: 650 | YD2: 651 | YE2: 652 | YF2: 653 | YG2: 654 | YH2: 655 | YI2: 656 | YJ2: 657 | YK2: 658 | YL2: 659 | YM2: 660 | YN2: 661 | YO2: 662 | YP2: 663 | YQ2: 664 | YR2: 665 | YS2: 666 | YT2: 667 | YU2: 668 | YV2: 669 | YW2: 670 | YX2: 671 | YY2: 672 | YZ2: 673 | ZA2: 674 | ZB2: 675 | ZC2: 676 | ZD2: 677 | ZE2: 678 | ZF2: 679 | ZG2: 680 | ZH2: 681 | ZI2: 682 | ZJ2: 683 | ZK2: 684 | ZL2: 685 | ZM2: 686 | ZN2: 687 | ZO2: 688 | ZP2: 689 | ZQ2: 690 | ZR2: 691 | ZS2: 692 | ZT2: 693 | ZU2: 694 | ZV2: 695 | ZW2: 696 | ZX2: 697 | ZY2: 698 | ZZ2: 699 | AAA2: 700 | AAB2: 701 | AAC2: 702 | AAD2: 703 | AAE2: 704 | AAF2: 705 | AAG2: 706 | AAH2: 707 | AAI2: 708 | AAJ2: 709 | AAK2: 710 | AAL2: 711 | AAM2: 712 | AAN2: 713 | AAO2: 714 | AAP2: 715 | AAQ2: 716 | AAR2: 717 | AAS2: 718 | AAT2: 719 | AAU2: 720 | AAV2: 721 | AAW2: 722 | AAX2: 723 | AAY2: 724 | AAZ2: 725 | ABA2: 726 | ABB2: 727 | ABC2: 728 | ABD2: 729 | ABE2: 730 | ABF2: 731 | ABG2: 732 | ABH2: 733 | ABI2: 734 | ABJ2: 735 | ABK2: 736 | ABL2: 737 | ABM2: 738 | ABN2: 739 | ABO2: 740 | ABP2: 741 | ABQ2: 742 | ABR2: 743 | ABS2: 744 | ABT2: 745 | ABU2: 746 | ABV2: 747 | ABW2: 748 | ABX2: 749 | ABY2: 750 | ABZ2: 751 | ACA2: 752 | ACB2: 753 | ACC2: 754 | ACD2: 755 | ACE2: 756 | ACF2: 757 | ACG2: 758 | ACH2: 759 | ACI2: 760 | ACJ2: 761 | ACK2: 762 | ACL2: 763 | ACM2: 764 | ACN2: 765 | ACO2: 766 | ACP2: 767 | ACQ2: 768 | ACR2: 769 | ACS2: 770 | ACT2: 771 | ACU2: 772 | ACV2: 773 | ACW2: 774 | ACX2: 775 | ACY2: 776 | ACZ2: 777 | ADA2: 778 | ADB2: 779 | ADC2: 780 | ADD2: 781 | ADE2: 782 | ADF2: 783 | ADG2: 784 | ADH2: 785 | ADI2: 786 | ADJ2: 787 | ADK2: 788 | ADL2: 789 | ADM2: 790 | ADN2: 791 | ADO2: 792 | ADP2: 793 | ADQ2: 794 | ADR2: 795 | ADS2: 796 | ADT2: 797 | ADU2: 798 | ADV2: 799 | ADW2: 800 | ADX2: 801 | ADY2: 802 | ADZ2: 803 | AEA2: 804 | AEB2: 805 | AEC2: 806 | AED2: 807 | AEE2: 808 | AEF2: 809 | AEG2: 810 | AEH2: 811 | AEI2: 812 | AEJ2: 813 | AEK2: 814 | AEL2: 815 | AEM2: 816 | AEN2: 817 | AEO2: 818 | AEP2: 819 | AEQ2: 820 | AER2: 821 | AES2: 822 | AET2: 823 | AEU2: 824 | AEV2: 825 | AEW2: 826 | AEX2: 827 | AEY2: 828 | AEZ2: 829 | AFA2: 830 | AFB2: 831 | AFC2: 832 | AFD2: MÉDIA | AFE2: COEFICIENTE DE ASSIMETRIA (SKEWNESS) | AFF2: DESVIO PADRÃO | AFG2: FIABILIDADE (Alpha Cronbach)
A20: 18
A21: 19 | B21: 1 | C21: Autonomia | D21: 3 | E21: 4 | F21: 4 | G21: 4 | H21: 4 | I21: 4 | J21: 5 | K21: 4 | L21: 4 | M21: 5 | N21: 5 | O21: 5 | P21: 4 | Q21: 5 | R21: 4 | S21: 4 | T21: 4 | U21: 4 | V21: 5 | W21: 4 | X21: 4 | Y21: 4 | Z21: 4 | AA21: 5 | AB21: 5 | AC21: 4 | AD21: 5 | AE21: 5 | AF21: 0 | AG21: 4 | AH21: 4 | AI21: 4 | AJ21: 5 | AK21: 5 | AL21: 4 | AM21: 4 | AN21: 5 | AO21: 5 | AP21: 4 | AQ21: 4 | AR21: 4 | AS21: 4 | AT21: 5 | AU21: 4 | AV21: 4 | AW21: 5 | AX21: 5 | AY21: 4 | AZ21: 4 | BA21: 4 | BB21: 5 | BC21: 3 | BD21: 5 | BE21: 5 | BF21: 3 | BG21: 3 | BH21: 5 | BI21: 5 | BJ21: 5 | BK21: 4 | BL21: 4 | BM21: 4 | BN21: 5 | BO21: 4 | BP21: 3 | BQ21: 4 | BR21: 5 | BS21: 5 | BT21: 4 | BU21: 4 | BV21: 5 | BW21: 5 | BX21: 5 | BY21: 4 | BZ21: 4 | CA21: 4 | CB21: 4 | CC21: 4 | CD21: 5 | CE21: 5 | CF21: 5 | CG21: 5 | CH21: 5 | CI21: 3 | CJ21: 5 | CK21: 4 | CL21: 5 | CM21: 4 | CN21: 5 | CO21: 5 | CP21: 4 | CQ21: 4 | CR21: 4 | CS21: 5 | CT21: 4 | CU21: 4 | CV21: 4 | CW21: 4 | CX21: 4 | CY21: 5 | CZ21: 4 | DA21: 4 | DB21: 4 | DC21: 4 | DD21: 5 | DE21: 4 | DF21: 4 | DG21: 5 | DH21: 5 | DI21: 4 | DJ21: 4 | DK21: 4 | DL21: 4 | DM21: 4 | DN21: 3 | DO21: 4 | DP21: 4 | DQ21: 4 | DR21: 5 | DS21: 5 | DT21: 5 | DU21: 4 | DV21: 4 | DW21: 4 | DX21: 4 | DY21: 4 | DZ21: 4 | EA21: 4 | EB21: 4 | EC21: 4 | ED21: 5 | EE21: 4 | EF21: 5 | EG21: 5 | EH21: 5 | EI21: 4 | EJ21: 4 | EK21: 4 | EL21: 4 | EM21: 4 | EN21: 5 | EO21: 5 | EP21: 4 | EQ21: 5 | ER21: 5 | ES21: 4 | ET21: 4 | EU21: 4 | EV21: 5 | EW21: 5 | EX21: 4 | EY21: 5 | EZ21: 4 | FA21: 5 | FB21: 4 | FC21: 4 | FD21: 0 | FE21: 5 | FF21: 5 | FG21: 4 | FH21: 5 | FI21: 4 | FJ21: 5 | FK21: 5 | FL21: 4 | FM21: 5 | FN21: 4 | FO21: 5 | FP21: 5 | FQ21: 5 | FR21: 5 | FS21: 5 | FT21: 4 | FU21: 5 | FV21: 5 | FW21: 5 | FX21: 5 | FY21: 4 | FZ21: 4 | GA21: 4 | GB21: 4 | GC21: 5 | GD21: 5 | GE21: 5 | GF21: 4 | GG21: 3 | GH21: 4 | GI21: 5 | GJ21: 4 | GK21: 5 | GL21: 4 | GM21: 5 | GN21: 5 | GO21: 5 | GP21: 4 | GQ21: 5 | GR21: 4 | GS21: 3 | GT21: 4 | GU21: 5 | GV21: 4 | GW21: 4 | GX21: 4 | GY21: 3 | GZ21: 4 | HA21: 5 | HB21: 3 | HC21: 5 | HD21: 1 | HE21: 4 | HF21: 5 | HG21: 4 | HH21: 5 | HI21: 4 | HJ21: 5 | HK21: 4 | HL21: 5 | HM21: 5 | HN21: 2 | HO21: 5 | HP21: 4 | HQ21: 4 | HR21: 4 | HS21: 4 | HT21: 5 | HU21: 5 | HV21: 5 | HW21: 4 | HX21: 4 | HY21: 4 | HZ21: 5 | IA21: 5 | IB21: 4 | IC21: 3 | ID21: 4 | IE21: 4 | IF21: 3 | IG21: 4 | IH21: 4 | II21: 5 | IJ21: 4 | IK21: 4 | IL21: 3 | IM21: 3 | IN21: 4 | IO21: 5 | IP21: 5 | IQ21: 5 | IR21: 4 | IS21: 4 | IT21: 5 | IU21: 5 | IV21: 4 | IW21: 4 | IX21: 5 | IY21: 5 | IZ21: 5 | JA21: 5 | JB21: 5 | JC21: 5 | JD21: 5 | JE21: 4 | JF21: 5 | JG21: 5 | JH21: 4 | JI21: 4 | JJ21: 4 | JK21: 4 | JL21: 5 | JM21: 3 | JN21: 4 | JO21: 5 | JP21: 5 | JQ21: 5 | JR21: 4 | JS21: 5 | JT21: 4 | JU21: 5 | JV21: 5 | JW21: 4 | JX21: 3 | JY21: 5 | JZ21: 4 | KA21: 4 | KB21: 4 | KC21: 5 | KD21: 5 | KE21: 4 | KF21: 5 | KG21: 3 | KH21: 5 | KI21: 5 | KJ21: 5 | KK21: 3 | KL21: 4 | KM21: 4 | KN21: 4 | KO21: 4 | KP21: 4 | KQ21: 5 | KR21: 4 | KS21: 4 | KT21: 3 | KU21: 4 | KV21: 5 | KW21: 5 | KX21: 4 | KY21: 5 | KZ21: 4 | LA21: 5 | LB21: 5 | LC21: 4 | LD21: 4 | LE21: 4 | LF21: 4 | LG21: 5 | LH21: 5 | LI21: 4 | LJ21: 5 | LK21: 5 | LL21: 0 | LM21: 4 | LN21: 4 | LO21: 5 | LP21: 5 | LQ21: 5 | LR21: 5 | LS21: 4 | LT21: 4 | LU21: 2 | LV21: 5 | LW21: 3 | LX21: 5 | LY21: 5 | LZ21: 5 | MA21: 4 | MB21: 4 | MC21: 4 | MD21: 4 | ME21: 4 | MF21: 5 | MG21: 3 | MH21: 4 | MI21: 5 | MJ21: 5 | MK21: 5 | ML21: 5 | MM21: 4 | MN21: 4 | MO21: 5 | MP21: 4 | MQ21: 4 | MR21: 4 | MS21: 4 | MT21: 4 | MU21: 5 | MV21: 5 | MW21: 5 | MX21: 5 | MY21: 3 | MZ21: 4 | NA21: 4 | NB21: 5 | NC21: 5 | ND21: 4 | NE21: 5 | NF21: 4 | NG21: 5 | NH21: 4 | NI21: 4 | NJ21: 4 | NK21: 5 | NL21: 5 | NM21: 5 | NN21: 4 | NO21: 5 | NP21: 5 | NQ21: 5 | NR21: 5 | NS21: 3 | NT21: 5 | NU21: 4 | NV21: 4 | NW21: 5 | NX21: 5 | NY21: 5 | NZ21: 5 | OA21: 5 | OB21: 4 | OC21: 4 | OD21: 3 | OE21: 5 | OF21: 4 | OG21: 4 | OH21: 5 | OI21: 4 | OJ21: 4 | OK21: 5 | OL21: 5 | OM21: 3 | ON21: 3 | OO21: 4 | OP21: 3 | OQ21: 4 | OR21: 5 | OS21: 4 | OT21: 5 | OU21: 5 | OV21: 5 | OW21: 3 | OX21: 5 | OY21: 4 | OZ21: 5 | PA21: 4 | PB21: 4 | PC21: 5 | PD21: 4 | PE21: 3 | PF21: 5 | PG21: 0 | PH21: 4 | PI21: 5 | PJ21: 5 | PK21: 5 | PL21: 1 | PM21: 4 | PN21: 4 | PO21: 4 | PP21: 5 | PQ21: 4 | PR21: 4 | PS21: 5 | PT21: 5 | PU21: 1 | PV21: 5 | PW21: 5 | PX21: 5 | PY21: 5 | PZ21: 4 | QA21: 5 | QB21: 5 | QC21: 4 | QD21: 5 | QE21: 4 | QF21: 5 | QG21: 4 | QH21: 5 | QI21: 4 | QJ21: 5 | QK21: 4 | QL21: 4 | QM21: 5 | QN21: 5 | QO21: 5 | QP21: 5 | QQ21: 5 | QR21: 5 | QS21: 4 | QT21: 4 | QU21: 5 | QV21: 5 | QW21: 5 | QX21: 5 | QY21: 5 | QZ21: 4 | RA21: 4 | RB21: 4 | RC21: 4 | RD21: 5 | RE21: 4 | RF21: 4 | RG21: 3 | RH21: 5 | RI21: 4 | RJ21: 5 | RK21: 4 | RL21: 4 | RM21: 4 | RN21: 4 | RO21: 4 | RP21: 5 | RQ21: 4 | RR21: 5 | RS21: 5 | RT21: 4 | RU21: 5 | RV21: 5 | RW21: 4 | RX21: 4 | RY21: 4 | RZ21: 4 | SA21: 4 | SB21: 5 | SC21: 4 | SD21: 4 | SE21: 4 | SF21: 5 | SG21: 4 | SH21: 5 | SI21: 5 | SJ21: 5 | SK21: 4 | SL21: 4 | SM21: 4 | SN21: 4 | SO21: 5 | SP21: 5 | SQ21: 4 | SR21: 4 | SS21: 4 | ST21: 3 | SU21: 5 | SV21: 4 | SW21: 5 | SX21: 5 | SY21: 4 | SZ21: 5 | TA21: 5 | TB21: 5 | TC21: 5 | TD21: 0 | TE21: 5 | TF21: 4 | TG21: 4 | TH21: 3 | TI21: 4 | TJ21: 5 | TK21: 4 | TL21: 4 | TM21: 5 | TN21: 5 | TO21: 5 | TP21: 4 | TQ21: 5 | TR21: 4 | TS21: 4 | TT21: 5 | TU21: 4 | TV21: 5 | TW21: 5 | TX21: 4 | TY21: 4 | TZ21: 5 | UA21: 4 | UB21: 5 | UC21: 5 | UD21: 5 | UE21: 5 | UF21: 5 | UG21: 5 | UH21: 5 | UI21: 5 | UJ21: 4 | UK21: 4 | UL21: 5 | UM21: 4 | UN21: 4 | UO21: 4 | UP21: 4 | UQ21: 0 | UR21: 4 | US21: 5 | UT21: 4 | UU21: 5 | UV21: 5 | UW21: 5 | UX21: 4 | UY21: 1 | UZ21: 5 | VA21: 5 | VB21: 4 | VC21: 5 | VD21: 5 | VE21: 4 | VF21: 5 | VG21: 5 | VH21: 4 | VI21: 5 | VJ21: 5 | VK21: 4 | VL21: 4 | VM21: 4 | VN21: 4 | VO21: 5 | VP21: 5 | VQ21: 5 | VR21: 5 | VS21: 5 | VT21: 4 | VU21: 5 | VV21: 5 | VW21: 4 | VX21: 4 | VY21: 5 | VZ21: 4 | WA21: 4 | WB21: 4 | WC21: 5 | WD21: 5 | WE21: 5 | WF21: 5 | WG21: 4 | WH21: 5 | WI21: 5 | WJ21: 5 | WK21: 5 | WL21: 4 | WM21: 5 | WN21: 5 | WO21: 5 | WP21: 5 | WQ21: 4 | WR21: 5 | WS21: 4 | WT21: 4 | WU21: 4 | WV21: 5 | WW21: 5 | WX21: 4 | WY21: 5 | WZ21: 4 | XA21: 1 | XB21: 5 | XC21: 5 | XD21: 5 | XE21: 5 | XF21: 5 | XG21: 5 | XH21: 4 | XI21: 5 | XJ21: 5 | XK21: 4 | XL21: 4 | XM21: 5 | XN21: 5 | XO21: 4 | XP21: 4 | XQ21: 5 | XR21: 5 | XS21: 5 | XT21: 5 | XU21: 5 | XV21: 4 | XW21: 5 | XX21: 5 | XY21: 4 | XZ21: 4 | YA21: 5 | YB21: 4 | YC21: 4 | YD21: 4 | YE21: 4 | YF21: 5 | YG21: 5 | YH21: 4 | YI21: 4 | YJ21: 5 | YK21: 5 | YL21: 5 | YM21: 4 | YN21: 4 | YO21: 4 | YP21: 5 | YQ21: 4 | YR21: 5 | YS21: 1 | YT21: 5 | YU21: 5 | YV21: 3 | YW21: 4 | YX21: 5 | YY21: 5 | YZ21: 3 | ZA21: 5 | ZB21: 5 | ZC21: 5 | ZD21: 5 | ZE21: 5 | ZF21: 5 | ZG21: 4 | ZH21: 4 | ZI21: 4 | ZJ21: 4 | ZK21: 5 | ZL21: 5 | ZM21: 5 | ZN21: 4 | ZO21: 5 | ZP21: 5 | ZQ21: 5 | ZR21: 5 | ZS21: 5 | ZT21: 4 | ZU21: 3 | ZV21: 4 | ZW21: 4 | ZX21: 4 | ZY21: 4 | ZZ21: 2 | AAA21: 5 | AAB21: 4 | AAC21: 3 | AAD21: 4 | AAE21: 5 | AAF21: 5 | AAG21: 5 | AAH21: 4 | AAI21: 4 | AAJ21: 5 | AAK21: 5 | AAL21: 4 | AAM21: 4 | AAN21: 5 | AAO21: 4 | AAP21: 4 | AAQ21: 5 | AAR21: 5 | AAS21: 5 | AAT21: 4 | AAU21: 5 | AAV21: 5 | AAW21: 5 | AAX21: 3 | AAY21: 4 | AAZ21: 5 | ABA21: 5 | ABB21: 4 | ABC21: 3 | ABD21: 4 | ABE21: 4 | ABF21: 5 | ABG21: 0 | ABH21: 4 | ABI21: 4 | ABJ21: 4 | ABK21: 1 | ABL21: 1 | ABM21: 5 | ABN21: 1 | ABO21: 5 | ABP21: 5 | ABQ21: 4 | ABR21: 5 | ABS21: 4 | ABT21: 4 | ABU21: 4 | ABV21: 5 | ABW21: 5 | ABX21: 4 | ABY21: 5 | ABZ21: 5 | ACA21: 4 | ACB21: 4 | ACC21: 4 | ACD21: 4 | ACE21: 5 | ACF21: 5 | ACG21: 5 | ACH21: 5 | ACI21: 4 | ACJ21: 4 | ACK21: 5 | ACL21: 5 | ACM21: 4 | ACN21: 3 | ACO21: 4 | ACP21: 4 | ACQ21: 4 | ACR21: 5 | ACS21: 4 | ACT21: 4 | ACU21: 5 | ACV21: 5 | ACW21: 4 | ACX21: 4 | ACY21: 4 | ACZ21: 4 | ADA21: 4 | ADB21: 5 | ADC21: 1 | ADD21: 5 | ADE21: 4 | ADF21: 5 | ADG21: 5 | ADH21: 4 | ADI21: 5 | ADJ21: 4 | ADK21: 5 | ADL21: 5 | ADM21: 5 | ADN21: 4 | ADO21: 4 | ADP21: 4 | ADQ21: 4 | ADR21: 4 | ADS21: 4 | ADT21: 5 | ADU21: 4 | ADV21: 5 | ADW21: 4 | ADX21: 5 | ADY21: 4 | ADZ21: 4 | AEA21: 5 | AEB21: 4 | AEC21: 4 | AED21: 5 | AEE21: 5 | AEF21: 4 | AEG21: 4 | AEH21: 3 | AEI21: 5 | AEJ21: 4 | AEK21: 5 | AEL21: 5 | AEM21: 5 | AEN21: 4 | AEO21: 4 | AEP21: 5 | AEQ21: 5 | AER21: 4 | AES21: 4 | AET21: 4 | AEU21: 4 | AEV21: 4 | AEW21: 5 | AEX21: 5 | AEY21: 4 | AEZ21: 5 | AFA21: 5 | AFB21: 4 | AFC21: 5 | AFD21: =AVERAGE(Tabela63[[#This Row],[1]:[832]]) -> 4.3389423 | AFE21: =SKEW(Tabela63[[#This Row],[1]:[832]]) -> -2.2261643 | AFF21: =STDEV(Tabela63[[#This Row],[1]:[832]]) -> 0.81089028 | AFG21: 0.87228015
A22: 20 | B22: 2 | C22: Aprendizagem/Formação | D22: 4 | E22: 5 | F22: 5 | G22: 4 | H22: 2 | I22: 4 | J22: 5 | K22: 5 | L22: 4 | M22: 4 | N22: 5 | O22: 4 | P22: 4 | Q22: 5 | R22: 4 | S22: 5 | T22: 5 | U22: 5 | V22: 5 | W22: 5 | X22: 4 | Y22: 5 | Z22: 5 | AA22: 5 | AB22: 5 | AC22: 5 | AD22: 5 | AE22: 5 | AF22: 0 | AG22: 5 | AH22: 5 | AI22: 5 | AJ22: 5 | AK22: 4 | AL22: 4 | AM22: 5 | AN22: 5 | AO22: 5 | AP22: 5 | AQ22: 4 | AR22: 5 | AS22: 5 | AT22: 5 | AU22: 4 | AV22: 5 | AW22: 5 | AX22: 5 | AY22: 5 | AZ22: 4 | BA22: 4 | BB22: 4 | BC22: 4 | BD22: 4 | BE22: 5 | BF22: 1 | BG22: 4 | BH22: 4 | BI22: 3 | BJ22: 4 | BK22: 4 | BL22: 5 | BM22: 5 | BN22: 5 | BO22: 4 | BP22: 5 | BQ22: 4 | BR22: 5 | BS22: 3 | BT22: 5 | BU22: 4 | BV22: 5 | BW22: 5 | BX22: 5 | BY22: 5 | BZ22: 5 | CA22: 5 | CB22: 3 | CC22: 5 | CD22: 4 | CE22: 5 | CF22: 5 | CG22: 5 | CH22: 5 | CI22: 3 | CJ22: 5 | CK22: 4 | CL22: 5 | CM22: 5 | CN22: 5 | CO22: 4 | CP22: 5 | CQ22: 5 | CR22: 5 | CS22: 5 | CT22: 4 | CU22: 4 | CV22: 4 | CW22: 5 | CX22: 5 | CY22: 4 | CZ22: 4 | DA22: 5 | DB22: 4 | DC22: 4 | DD22: 5 | DE22: 5 | DF22: 5 | DG22: 5 | DH22: 5 | DI22: 5 | DJ22: 5 | DK22: 5 | DL22: 5 | DM22: 4 | DN22: 4 | DO22: 5 | DP22: 4 | DQ22: 5 | DR22: 4 | DS22: 5 | DT22: 5 | DU22: 5 | DV22: 5 | DW22: 5 | DX22: 4 | DY22: 4 | DZ22: 5 | EA22: 5 | EB22: 5 | EC22: 4 | ED22: 4 | EE22: 4 | EF22: 5 | EG22: 5 | EH22: 4 | EI22: 4 | EJ22: 4 | EK22: 5 | EL22: 4 | EM22: 5 | EN22: 5 | EO22: 4 | EP22: 5 | EQ22: 5 | ER22: 5 | ES22: 4 | ET22: 5 | EU22: 5 | EV22: 4 | EW22: 5 | EX22: 4 | EY22: 5 | EZ22: 5 | FA22: 5 | FB22: 5 | FC22: 5 | FD22: 5 | FE22: 4 | FF22: 5 | FG22: 3 | FH22: 5 | FI22: 4 | FJ22: 5 | FK22: 5 | FL22: 5 | FM22: 4 | FN22: 5 | FO22: 5 | FP22: 5 | FQ22: 5 | FR22: 5 | FS22: 5 | FT22: 4 | FU22: 5 | FV22: 5 | FW22: 5 | FX22: 4 | FY22: 5 | FZ22: 5 | GA22: 4 | GB22: 5 | GC22: 5 | GD22: 5 | GE22: 5 | GF22: 5 | GG22: 5 | GH22: 5 | GI22: 5 | GJ22: 5 | GK22: 5 | GL22: 5 | GM22: 5 | GN22: 5 | GO22: 4 | GP22: 4 | GQ22: 5 | GR22: 5 | GS22: 5 | GT22: 5 | GU22: 5 | GV22: 5 | GW22: 4 | GX22: 5 | GY22: 5 | GZ22: 4 | HA22: 5 | HB22: 4 | HC22: 5 | HD22: 1 | HE22: 4 | HF22: 5 | HG22: 5 | HH22: 5 | HI22: 4 | HJ22: 5 | HK22: 5 | HL22: 5 | HM22: 5 | HN22: 4 | HO22: 5 | HP22: 4 | HQ22: 5 | HR22: 5 | HS22: 4 | HT22: 4 | HU22: 5 | HV22: 5 | HW22: 5 | HX22: 4 | HY22: 5 | HZ22: 5 | IA22: 5 | IB22: 4 | IC22: 4 | ID22: 5 | IE22: 5 | IF22: 5 | IG22: 5 | IH22: 4 | II22: 3 | IJ22: 4 | IK22: 4 | IL22: 3 | IM22: 2 | IN22: 4 | IO22: 4 | IP22: 5 | IQ22: 5 | IR22: 4 | IS22: 4 | IT22: 5 | IU22: 5 | IV22: 4 | IW22: 4 | IX22: 5 | IY22: 5 | IZ22: 5 | JA22: 4 | JB22: 5 | JC22: 5 | JD22: 5 | JE22: 5 | JF22: 5 | JG22: 4 | JH22: 5 | JI22: 5 | JJ22: 4 | JK22: 4 | JL22: 5 | JM22: 4 | JN22: 5 | JO22: 5 | JP22: 5 | JQ22: 5 | JR22: 5 | JS22: 5 | JT22: 5 | JU22: 4 | JV22: 5 | JW22: 5 | JX22: 5 | JY22: 5 | JZ22: 4 | KA22: 5 | KB22: 5 | KC22: 5 | KD22: 5 | KE22: 5 | KF22: 5 | KG22: 3 | KH22: 5 | KI22: 5 | KJ22: 5 | KK22: 4 | KL22: 5 | KM22: 5 | KN22: 5 | KO22: 4 | KP22: 5 | KQ22: 5 | KR22: 5 | KS22: 4 | KT22: 5 | KU22: 5 | KV22: 5 | KW22: 5 | KX22: 5 | KY22: 5 | KZ22: 5 | LA22: 5 | LB22: 5 | LC22: 5 | LD22: 4 | LE22: 4 | LF22: 4 | LG22: 4 | LH22: 5 | LI22: 5 | LJ22: 5 | LK22: 4 | LL22: 3 | LM22: 5 | LN22: 5 | LO22: 5 | LP22: 5 | LQ22: 5 | LR22: 5 | LS22: 5 | LT22: 5 | LU22: 2 | LV22: 5 | LW22: 2 | LX22: 5 | LY22: 5 | LZ22: 5 | MA22: 5 | MB22: 5 | MC22: 5 | MD22: 5 | ME22: 5 | MF22: 5 | MG22: 2 | MH22: 5 | MI22: 5 | MJ22: 5 | MK22: 5 | ML22: 5 | MM22: 5 | MN22: 4 | MO22: 5 | MP22: 3 | MQ22: 5 | MR22: 4 | MS22: 5 | MT22: 4 | MU22: 5 | MV22: 5 | MW22: 5 | MX22: 5 | MY22: 5 | MZ22: 5 | NA22: 5 | NB22: 5 | NC22: 5 | ND22: 4 | NE22: 3 | NF22: 4 | NG22: 5 | NH22: 4 | NI22: 5 | NJ22: 4 | NK22: 4 | NL22: 5 | NM22: 5 | NN22: 5 | NO22: 5 | NP22: 5 | NQ22: 5 | NR22: 5 | NS22: 3 | NT22: 5 | NU22: 5 | NV22: 5 | NW22: 5 | NX22: 5 | NY22: 5 | NZ22: 5 | OA22: 5 | OB22: 5 | OC22: 5 | OD22: 3 | OE22: 5 | OF22: 5 | OG22: 5 | OH22: 4 | OI22: 5 | OJ22: 5 | OK22: 5 | OL22: 5 | OM22: 5 | ON22: 3 | OO22: 5 | OP22: 5 | OQ22: 5 | OR22: 5 | OS22: 4 | OT22: 5 | OU22: 5 | OV22: 4 | OW22: 5 | OX22: 5 | OY22: 5 | OZ22: 5 | PA22: 4 | PB22: 5 | PC22: 5 | PD22: 4 | PE22: 4 | PF22: 4 | PG22: 0 | PH22: 5 | PI22: 5 | PJ22: 5 | PK22: 5 | PL22: 1 | PM22: 5 | PN22: 5 | PO22: 4 | PP22: 5 | PQ22: 4 | PR22: 4 | PS22: 5 | PT22: 5 | PU22: 5 | PV22: 5 | PW22: 5 | PX22: 5 | PY22: 5 | PZ22: 5 | QA22: 5 | QB22: 4 | QC22: 4 | QD22: 5 | QE22: 5 | QF22: 5 | QG22: 4 | QH22: 5 | QI22: 5 | QJ22: 5 | QK22: 4 | QL22: 5 | QM22: 5 | QN22: 5 | QO22: 5 | QP22: 5 | QQ22: 4 | QR22: 4 | QS22: 5 | QT22: 5 | QU22: 5 | QV22: 5 | QW22: 5 | QX22: 5 | QY22: 5 | QZ22: 5 | RA22: 5 | RB22: 5 | RC22: 5 | RD22: 5 | RE22: 4 | RF22: 4 | RG22: 3 | RH22: 5 | RI22: 5 | RJ22: 5 | RK22: 5 | RL22: 5 | RM22: 5 | RN22: 5 | RO22: 2 | RP22: 5 | RQ22: 5 | RR22: 5 | RS22: 5 | RT22: 4 | RU22: 5 | RV22: 5 | RW22: 5 | RX22: 5 | RY22: 4 | RZ22: 5 | SA22: 4 | SB22: 5 | SC22: 5 | SD22: 4 | SE22: 4 | SF22: 5 | SG22: 4 | SH22: 4 | SI22: 5 | SJ22: 5 | SK22: 5 | SL22: 4 | SM22: 5 | SN22: 5 | SO22: 5 | SP22: 5 | SQ22: 5 | SR22: 5 | SS22: 5 | ST22: 4 | SU22: 5 | SV22: 5 | SW22: 5 | SX22: 5 | SY22: 5 | SZ22: 5 | TA22: 5 | TB22: 5 | TC22: 5 | TD22: 4 | TE22: 5 | TF22: 4 | TG22: 5 | TH22: 4 | TI22: 5 | TJ22: 5 | TK22: 2 | TL22: 4 | TM22: 5 | TN22: 5 | TO22: 5 | TP22: 4 | TQ22: 5 | TR22: 5 | TS22: 5 | TT22: 5 | TU22: 5 | TV22: 5 | TW22: 5 | TX22: 5 | TY22: 3 | TZ22: 5 | UA22: 4 | UB22: 5 | UC22: 5 | UD22: 5 | UE22: 5 | UF22: 5 | UG22: 5 | UH22: 5 | UI22: 5 | UJ22: 5 | UK22: 5 | UL22: 5 | UM22: 5 | UN22: 4 | UO22: 5 | UP22: 5 | UQ22: 3 | UR22: 4 | US22: 5 | UT22: 5 | UU22: 5 | UV22: 5 | UW22: 5 | UX22: 4 | UY22: 2 | UZ22: 5 | VA22: 5 | VB22: 5 | VC22: 5 | VD22: 5 | VE22: 5 | VF22: 5 | VG22: 5 | VH22: 4 | VI22: 5 | VJ22: 5 | VK22: 4 | VL22: 4 | VM22: 4 | VN22: 5 | VO22: 5 | VP22: 5 | VQ22: 5 | VR22: 5 | VS22: 5 | VT22: 5 | VU22: 5 | VV22: 5 | VW22: 5 | VX22: 5 | VY22: 4 | VZ22: 4 | WA22: 5 | WB22: 5 | WC22: 5 | WD22: 5 | WE22: 5 | WF22: 5 | WG22: 4 | WH22: 5 | WI22: 5 | WJ22: 5 | WK22: 5 | WL22: 5 | WM22: 5 | WN22: 5 | WO22: 5 | WP22: 5 | WQ22: 4 | WR22: 5 | WS22: 4 | WT22: 5 | WU22: 5 | WV22: 5 | WW22: 5 | WX22: 4 | WY22: 5 | WZ22: 5 | XA22: 5 | XB22: 5 | XC22: 5 | XD22: 5 | XE22: 5 | XF22: 5 | XG22: 5 | XH22: 5 | XI22: 5 | XJ22: 5 | XK22: 5 | XL22: 5 | XM22: 5 | XN22: 4 | XO22: 4 | XP22: 5 | XQ22: 5 | XR22: 5 | XS22: 5 | XT22: 5 | XU22: 5 | XV22: 4 | XW22: 5 | XX22: 5 | XY22: 3 | XZ22: 4 | YA22: 5 | YB22: 4 | YC22: 5 | YD22: 5 | YE22: 5 | YF22: 5 | YG22: 5 | YH22: 5 | YI22: 5 | YJ22: 4 | YK22: 5 | YL22: 5 | YM22: 4 | YN22: 5 | YO22: 5 | YP22: 4 | YQ22: 5 | YR22: 5 | YS22: 4 | YT22: 5 | YU22: 5 | YV22: 4 | YW22: 4 | YX22: 5 | YY22: 5 | YZ22: 4 | ZA22: 5 | ZB22: 5 | ZC22: 4 | ZD22: 5 | ZE22: 4 | ZF22: 5 | ZG22: 5 | ZH22: 4 | ZI22: 4 | ZJ22: 5 | ZK22: 5 | ZL22: 5 | ZM22: 5 | ZN22: 5 | ZO22: 5 | ZP22: 5 | ZQ22: 5 | ZR22: 5 | ZS22: 5 | ZT22: 4 | ZU22: 5 | ZV22: 4 | ZW22: 5 | ZX22: 4 | ZY22: 3 | ZZ22: 2 | AAA22: 5 | AAB22: 4 | AAC22: 4 | AAD22: 4 | AAE22: 4 | AAF22: 5 | AAG22: 5 | AAH22: 5 | AAI22: 4 | AAJ22: 5 | AAK22: 5 | AAL22: 5 | AAM22: 5 | AAN22: 5 | AAO22: 5 | AAP22: 3 | AAQ22: 5 | AAR22: 5 | AAS22: 5 | AAT22: 5 | AAU22: 5 | AAV22: 5 | AAW22: 5 | AAX22: 5 | AAY22: 5 | AAZ22: 4 | ABA22: 5 | ABB22: 5 | ABC22: 4 | ABD22: 4 | ABE22: 4 | ABF22: 5 | ABG22: 5 | ABH22: 4 | ABI22: 4 | ABJ22: 5 | ABK22: 1 | ABL22: 1 | ABM22: 5 | ABN22: 2 | ABO22: 5 | ABP22: 5 | ABQ22: 2 | ABR22: 5 | ABS22: 5 | ABT22: 5 | ABU22: 4 | ABV22: 5 | ABW22: 5 | ABX22: 5 | ABY22: 4 | ABZ22: 4 | ACA22: 5 | ACB22: 4 | ACC22: 4 | ACD22: 4 | ACE22: 5 | ACF22: 4 | ACG22: 5 | ACH22: 0 | ACI22: 5 | ACJ22: 5 | ACK22: 5 | ACL22: 5 | ACM22: 5 | ACN22: 3 | ACO22: 4 | ACP22: 5 | ACQ22: 5 | ACR22: 5 | ACS22: 5 | ACT22: 5 | ACU22: 5 | ACV22: 5 | ACW22: 5 | ACX22: 5 | ACY22: 5 | ACZ22: 4 | ADA22: 5 | ADB22: 5 | ADC22: 1 | ADD22: 4 | ADE22: 5 | ADF22: 5 | ADG22: 5 | ADH22: 4 | ADI22: 4 | ADJ22: 5 | ADK22: 5 | ADL22: 4 | ADM22: 5 | ADN22: 4 | ADO22: 5 | ADP22: 5 | ADQ22: 4 | ADR22: 5 | ADS22: 5 | ADT22: 5 | ADU22: 4 | ADV22: 4 | ADW22: 5 | ADX22: 5 | ADY22: 5 | ADZ22: 5 | AEA22: 5 | AEB22: 5 | AEC22: 5 | AED22: 5 | AEE22: 5 | AEF22: 5 | AEG22: 4 | AEH22: 3 | AEI22: 4 | AEJ22: 4 | AEK22: 5 | AEL22: 5 | AEM22: 5 | AEN22: 4 | AEO22: 5 | AEP22: 5 | AEQ22: 5 | AER22: 4 | AES22: 5 | AET22: 5 | AEU22: 4 | AEV22: 5 | AEW22: 5 | AEX22: 5 | AEY22: 5 | AEZ22: 5 | AFA22: 5 | AFB22: 5 | AFC22: 5 | AFD22: =AVERAGE(Tabela63[[#This Row],[1]:[832]]) -> 4.6165865 | AFE22: =SKEW(Tabela63[[#This Row],[1]:[832]]) -> -2.7785388 | AFF22: =STDEV(Tabela63[[#This Row],[1]:[832]]) -> 0.72657241 | AFG22: 0.86368493
A23: 21 | B23: 3 | C23: Condições físicas de trabalho | D23: 4 | E23: 4 | F23: 5 | G23: 5 | H23: 5 | I23: 5 | J23: 5 | K23: 5 | L23: 4 | M23: 4 | N23: 5 | O23: 4 | P23: 4 | Q23: 4 | R23: 4 | S23: 4 | T23: 5 | U23: 5 | V23: 5 | W23: 4 | X23: 5 | Y23: 3 | Z23: 5 | AA23: 5 | AB23: 5 | AC23: 5 | AD23: 4 | AE23: 5 | AF23: 0 | AG23: 4 | AH23: 4 | AI23: 4 | AJ23: 5 | AK23: 5 | AL23: 5 | AM23: 4 | AN23: 5 | AO23: 5 | AP23: 3 | AQ23: 3 | AR23: 4 | AS23: 5 | AT23: 5 | AU23: 4 | AV23: 5 | AW23: 4 | AX23: 4 | AY23: 3 | AZ23: 4 | BA23: 4 | BB23: 5 | BC23: 4 | BD23: 5 | BE23: 4 | BF23: 1 | BG23: 3 | BH23: 3 | BI23: 4 | BJ23: 4 | BK23: 4 | BL23: 3 | BM23: 4 | BN23: 4 | BO23: 4 | BP23: 4 | BQ23: 4 | BR23: 5 | BS23: 3 | BT23: 4 | BU23: 5 | BV23: 5 | BW23: 4 | BX23: 5 | BY23: 5 | BZ23: 3 | CA23: 4 | CB23: 4 | CC23: 5 | CD23: 4 | CE23: 5 | CF23: 4 | CG23: 4 | CH23: 4 | CI23: 4 | CJ23: 5 | CK23: 4 | CL23: 5 | CM23: 3 | CN23: 5 | CO23: 3 | CP23: 5 | CQ23: 4 | CR23: 4 | CS23: 4 | CT23: 4 | CU23: 4 | CV23: 3 | CW23: 5 | CX23: 5 | CY23: 4 | CZ23: 4 | DA23: 5 | DB23: 4 | DC23: 5 | DD23: 5 | DE23: 5 | DF23: 5 | DG23: 5 | DH23: 1 | DI23: 4 | DJ23: 5 | DK23: 4 | DL23: 4 | DM23: 4 | DN23: 5 | DO23: 5 | DP23: 5 | DQ23: 4 | DR23: 4 | DS23: 4 | DT23: 5 | DU23: 5 | DV23: 5 | DW23: 5 | DX23: 4 | DY23: 5 | DZ23: 5 | EA23: 3 | EB23: 5 | EC23: 4 | ED23: 4 | EE23: 4 | EF23: 4 | EG23: 5 | EH23: 5 | EI23: 4 | EJ23: 5 | EK23: 4 | EL23: 4 | EM23: 5 | EN23: 5 | EO23: 4 | EP23: 5 | EQ23: 5 | ER23: 5 | ES23: 5 | ET23: 4 | EU23: 4 | EV23: 3 | EW23: 5 | EX23: 4 | EY23: 4 | EZ23: 5 | FA23: 5 | FB23: 5 | FC23: 5 | FD23: 5 | FE23: 4 | FF23: 5 | FG23: 4 | FH23: 4 | FI23: 5 | FJ23: 5 | FK23: 5 | FL23: 5 | FM23: 4 | FN23: 3 | FO23: 4 | FP23: 5 | FQ23: 5 | FR23: 5 | FS23: 5 | FT23: 5 | FU23: 5 | FV23: 5 | FW23: 4 | FX23: 5 | FY23: 5 | FZ23: 4 | GA23: 4 | GB23: 4 | GC23: 5 | GD23: 4 | GE23: 4 | GF23: 4 | GG23: 5 | GH23: 4 | GI23: 5 | GJ23: 5 | GK23: 4 | GL23: 4 | GM23: 4 | GN23: 5 | GO23: 4 | GP23: 4 | GQ23: 5 | GR23: 5 | GS23: 4 | GT23: 4 | GU23: 3 | GV23: 5 | GW23: 4 | GX23: 4 | GY23: 5 | GZ23: 3 | HA23: 5 | HB23: 3 | HC23: 4 | HD23: 1 | HE23: 5 | HF23: 5 | HG23: 5 | HH23: 4 | HI23: 4 | HJ23: 5 | HK23: 5 | HL23: 5 | HM23: 5 | HN23: 3 | HO23: 5 | HP23: 3 | HQ23: 4 | HR23: 4 | HS23: 4 | HT23: 3 | HU23: 5 | HV23: 4 | HW23: 3 | HX23: 4 | HY23: 4 | HZ23: 5 | IA23: 5 | IB23: 5 | IC23: 4 | ID23: 3 | IE23: 5 | IF23: 4 | IG23: 4 | IH23: 5 | II23: 4 | IJ23: 4 | IK23: 5 | IL23: 4 | IM23: 2 | IN23: 4 | IO23: 4 | IP23: 4 | IQ23: 5 | IR23: 4 | IS23: 4 | IT23: 5 | IU23: 5 | IV23: 5 | IW23: 4 | IX23: 4 | IY23: 5 | IZ23: 5 | JA23: 4 | JB23: 5 | JC23: 4 | JD23: 5 | JE23: 4 | JF23: 4 | JG23: 4 | JH23: 5 | JI23: 5 | JJ23: 4 | JK23: 4 | JL23: 5 | JM23: 3 | JN23: 4 | JO23: 5 | JP23: 4 | JQ23: 5 | JR23: 5 | JS23: 5 | JT23: 5 | JU23: 4 | JV23: 4 | JW23: 4 | JX23: 5 | JY23: 5 | JZ23: 4 | KA23: 5 | KB23: 2 | KC23: 4 | KD23: 5 | KE23: 5 | KF23: 4 | KG23: 5 | KH23: 5 | KI23: 5 | KJ23: 5 | KK23: 2 | KL23: 4 | KM23: 4 | KN23: 1 | KO23: 4 | KP23: 5 | KQ23: 4 | KR23: 4 | KS23: 4 | KT23: 3 | KU23: 5 | KV23: 4 | KW23: 5 | KX23: 5 | KY23: 5 | KZ23: 5 | LA23: 5 | LB23: 5 | LC23: 5 | LD23: 4 | LE23: 4 | LF23: 5 | LG23: 5 | LH23: 5 | LI23: 4 | LJ23: 5 | LK23: 5 | LL23: 3 | LM23: 4 | LN23: 4 | LO23: 5 | LP23: 5 | LQ23: 5 | LR23: 5 | LS23: 5 | LT23: 5 | LU23: 0 | LV23: 5 | LW23: 3 | LX23: 5 | LY23: 5 | LZ23: 5 | MA23: 5 | MB23: 5 | MC23: 4 | MD23: 5 | ME23: 5 | MF23: 4 | MG23: 4 | MH23: 5 | MI23: 5 | MJ23: 4 | MK23: 4 | ML23: 5 | MM23: 5 | MN23: 4 | MO23: 5 | MP23: 5 | MQ23: 5 | MR23: 5 | MS23: 5 | MT23: 3 | MU23: 4 | MV23: 4 | MW23: 5 | MX23: 5 | MY23: 4 | MZ23: 4 | NA23: 4 | NB23: 2 | NC23: 5 | ND23: 5 | NE23: 4 | NF23: 4 | NG23: 4 | NH23: 4 | NI23: 5 | NJ23: 2 | NK23: 5 | NL23: 5 | NM23: 5 | NN23: 4 | NO23: 4 | NP23: 5 | NQ23: 5 | NR23: 5 | NS23: 4 | NT23: 5 | NU23: 5 | NV23: 5 | NW23: 5 | NX23: 4 | NY23: 5 | NZ23: 4 | OA23: 4 | OB23: 5 | OC23: 5 | OD23: 3 | OE23: 4 | OF23: 5 | OG23: 5 | OH23: 5 | OI23: 5 | OJ23: 4 | OK23: 5 | OL23: 5 | OM23: 4 | ON23: 2 | OO23: 5 | OP23: 4 | OQ23: 4 | OR23: 4 | OS23: 3 | OT23: 5 | OU23: 5 | OV23: 4 | OW23: 4 | OX23: 5 | OY23: 4 | OZ23: 5 | PA23: 5 | PB23: 4 | PC23: 5 | PD23: 4 | PE23: 4 | PF23: 5 | PG23: 0 | PH23: 4 | PI23: 5 | PJ23: 5 | PK23: 5 | PL23: 1 | PM23: 4 | PN23: 5 | PO23: 4 | PP23: 4 | PQ23: 4 | PR23: 4 | PS23: 5 | PT23: 2 | PU23: 2 | PV23: 5 | PW23: 5 | PX23: 5 | PY23: 4 | PZ23: 4 | QA23: 4 | QB23: 4 | QC23: 5 | QD23: 5 | QE23: 5 | QF23: 5 | QG23: 3 | QH23: 5 | QI23: 5 | QJ23: 4 | QK23: 4 | QL23: 5 | QM23: 5 | QN23: 4 | QO23: 5 | QP23: 5 | QQ23: 4 | QR23: 5 | QS23: 4 | QT23: 4 | QU23: 4 | QV23: 4 | QW23: 5 | QX23: 5 | QY23: 5 | QZ23: 5 | RA23: 4 | RB23: 3 | RC23: 4 | RD23: 5 | RE23: 4 | RF23: 4 | RG23: 4 | RH23: 5 | RI23: 4 | RJ23: 5 | RK23: 5 | RL23: 5 | RM23: 5 | RN23: 5 | RO23: 2 | RP23: 5 | RQ23: 5 | RR23: 5 | RS23: 5 | RT23: 3 | RU23: 4 | RV23: 5 | RW23: 5 | RX23: 4 | RY23: 4 | RZ23: 4 | SA23: 4 | SB23: 3 | SC23: 4 | SD23: 5 | SE23: 3 | SF23: 4 | SG23: 4 | SH23: 5 | SI23: 5 | SJ23: 5 | SK23: 5 | SL23: 4 | SM23: 5 | SN23: 4 | SO23: 5 | SP23: 5 | SQ23: 5 | SR23: 5 | SS23: 5 | ST23: 4 | SU23: 5 | SV23: 4 | SW23: 4 | SX23: 5 | SY23: 4 | SZ23: 3 | TA23: 5 | TB23: 5 | TC23: 5 | TD23: 3 | TE23: 5 | TF23: 5 | TG23: 4 | TH23: 4 | TI23: 4 | TJ23: 5 | TK23: 3 | TL23: 4 | TM23: 5 | TN23: 5 | TO23: 4 | TP23: 5 | TQ23: 4 | TR23: 5 | TS23: 5 | TT23: 4 | TU23: 5 | TV23: 5 | TW23: 3 | TX23: 5 | TY23: 5 | TZ23: 5 | UA23: 3 | UB23: 4 | UC23: 5 | UD23: 5 | UE23: 4 | UF23: 5 | UG23: 4 | UH23: 5 | UI23: 5 | UJ23: 4 | UK23: 5 | UL23: 5 | UM23: 4 | UN23: 5 | UO23: 4 | UP23: 4 | UQ23: 3 | UR23: 4 | US23: 5 | UT23: 4 | UU23: 5 | UV23: 4 | UW23: 4 | UX23: 4 | UY23: 3 | UZ23: 4 | VA23: 5 | VB23: 4 | VC23: 4 | VD23: 5 | VE23: 4 | VF23: 5 | VG23: 5 | VH23: 3 | VI23: 4 | VJ23: 4 | VK23: 4 | VL23: 2 | VM23: 3 | VN23: 4 | VO23: 5 | VP23: 4 | VQ23: 5 | VR23: 5 | VS23: 5 | VT23: 5 | VU23: 5 | VV23: 5 | VW23: 5 | VX23: 5 | VY23: 3 | VZ23: 4 | WA23: 4 | WB23: 4 | WC23: 5 | WD23: 0 | WE23: 5 | WF23: 5 | WG23: 4 | WH23: 5 | WI23: 4 | WJ23: 5 | WK23: 4 | WL23: 5 | WM23: 5 | WN23: 5 | WO23: 4 | WP23: 5 | WQ23: 3 | WR23: 4 | WS23: 4 | WT23: 5 | WU23: 5 | WV23: 4 | WW23: 5 | WX23: 4 | WY23: 4 | WZ23: 5 | XA23: 5 | XB23: 5 | XC23: 5 | XD23: 4 | XE23: 4 | XF23: 5 | XG23: 5 | XH23: 5 | XI23: 5 | XJ23: 4 | XK23: 5 | XL23: 5 | XM23: 4 | XN23: 4 | XO23: 5 | XP23: 5 | XQ23: 4 | XR23: 4 | XS23: 4 | XT23: 4 | XU23: 4 | XV23: 3 | XW23: 5 | XX23: 4 | XY23: 4 | XZ23: 4 | YA23: 5 | YB23: 4 | YC23: 4 | YD23: 5 | YE23: 5 | YF23: 5 | YG23: 5 | YH23: 4 | YI23: 3 | YJ23: 5 | YK23: 5 | YL23: 5 | YM23: 5 | YN23: 4 | YO23: 4 | YP23: 4 | YQ23: 5 | YR23: 5 | YS23: 3 | YT23: 4 | YU23: 5 | YV23: 5 | YW23: 4 | YX23: 4 | YY23: 4 | YZ23: 3 | ZA23: 3 | ZB23: 5 | ZC23: 3 | ZD23: 5 | ZE23: 5 | ZF23: 4 | ZG23: 4 | ZH23: 4 | ZI23: 4 | ZJ23: 5 | ZK23: 4 | ZL23: 5 | ZM23: 4 | ZN23: 5 | ZO23: 4 | ZP23: 5 | ZQ23: 5 | ZR23: 5 | ZS23: 5 | ZT23: 4 | ZU23: 4 | ZV23: 3 | ZW23: 4 | ZX23: 4 | ZY23: 4 | ZZ23: 2 | AAA23: 4 | AAB23: 3 | AAC23: 3 | AAD23: 5 | AAE23: 5 | AAF23: 3 | AAG23: 3 | AAH23: 4 | AAI23: 5 | AAJ23: 5 | AAK23: 5 | AAL23: 5 | AAM23: 4 | AAN23: 4 | AAO23: 5 | AAP23: 3 | AAQ23: 5 | AAR23: 5 | AAS23: 5 | AAT23: 4 | AAU23: 4 | AAV23: 4 | AAW23: 4 | AAX23: 5 | AAY23: 4 | AAZ23: 5 | ABA23: 5 | ABB23: 5 | ABC23: 5 | ABD23: 4 | ABE23: 4 | ABF23: 5 | ABG23: 5 | ABH23: 5 | ABI23: 4 | ABJ23: 4 | ABK23: 1 | ABL23: 1 | ABM23: 5 | ABN23: 1 | ABO23: 5 | ABP23: 5 | ABQ23: 3 | ABR23: 4 | ABS23: 5 | ABT23: 4 | ABU23: 3 | ABV23: 3 | ABW23: 5 | ABX23: 5 | ABY23: 4 | ABZ23: 5 | ACA23: 5 | ACB23: 4 | ACC23: 4 | ACD23: 4 | ACE23: 5 | ACF23: 4 | ACG23: 4 | ACH23: 3 | ACI23: 5 | ACJ23: 5 | ACK23: 4 | ACL23: 4 | ACM23: 4 | ACN23: 3 | ACO23: 4 | ACP23: 4 | ACQ23: 4 | ACR23: 4 | ACS23: 5 | ACT23: 4 | ACU23: 4 | ACV23: 4 | ACW23: 5 | ACX23: 4 | ACY23: 5 | ACZ23: 4 | ADA23: 4 | ADB23: 4 | ADC23: 1 | ADD23: 4 | ADE23: 4 | ADF23: 4 | ADG23: 5 | ADH23: 4 | ADI23: 5 | ADJ23: 5 | ADK23: 4 | ADL23: 5 | ADM23: 5 | ADN23: 4 | ADO23: 4 | ADP23: 4 | ADQ23: 4 | ADR23: 5 | ADS23: 5 | ADT23: 4 | ADU23: 5 | ADV23: 4 | ADW23: 4 | ADX23: 5 | ADY23: 4 | ADZ23: 5 | AEA23: 4 | AEB23: 4 | AEC23: 5 | AED23: 4 | AEE23: 5 | AEF23: 5 | AEG23: 4 | AEH23: 2 | AEI23: 4 | AEJ23: 4 | AEK23: 5 | AEL23: 5 | AEM23: 5 | AEN23: 4 | AEO23: 5 | AEP23: 5 | AEQ23: 4 | AER23: 3 | AES23: 5 | AET23: 5 | AEU23: 5 | AEV23: 4 | AEW23: 5 | AEX23: 5 | AEY23: 5 | AEZ23: 5 | AFA23: 4 | AFB23: 5 | AFC23: 5 | AFD23: =AVERAGE(Tabela63[[#This Row],[1]:[832]]) -> 4.3221154 | AFE23: =SKEW(Tabela63[[#This Row],[1]:[832]]) -> -1.7816038 | AFF23: =STDEV(Tabela63[[#This Row],[1]:[832]]) -> 0.82796568 | AFG23: 0.86418341
