Workbook
Name Print_Area: 'Parte A_Global_Percentagem'!$A$1:$P$29
Name Print_Area: 'Parte A_Global_Resumo_A'!$A$1:$T$31
Name Print_Area: 'Parte A_Global_Resumo_B'!$A$1:$T$31

Sheet Parte A_Global_Resumo_A
A1: PARTE A
E3: Global | G3: Masculino | I3: Feminino | K3: Casado | M3: Não casado | O3: Mais 39 anos | Q3: Menos 39 anos | S3: Mais 12a Svç | U3: Menos 12a Svç | W3: Licenciado | Y3: Não Licenciado | AA3: Vítima | AC3: Não Vítima
E4: Nº | F4: % | G4: Nº | H4: % | I4: Nº | J4: % | K4: Nº | L4: % | M4: Nº | N4: % | O4: Nº | P4: % | Q4: Nº | R4: % | S4: Nº | T4: % | U4: Nº | V4: % | W4: Nº | X4: % | Y4: Nº | Z4: % | AA4: Nº | AB4: % | AC4: Nº | AD4: %
B5: 1. Género
C6: Masculino | E6: ='Parte A_Global_Percentagem'!$E4 -> 174 | F6: =SUM(SUM(E6*100)/SUM(E$6:E$7)) -> 20.913462 | G6: ='Parte A_Mascul'!$E4 -> 174 | H6: =SUM(SUM(G6*100)/SUM(G$6:G$7)) -> 100 | I6: ='Parte A_Femin'!$E4 -> 0 | J6: =SUM(SUM(I6*100)/SUM(I$6:I$7)) -> 0 | K6: ='Parte A_Casado'!$E4 -> 100 | L6: =SUM(SUM(K6*100)/SUM(K$6:K$7)) -> 20.576132 | M6: ='Parte A_Não Casado'!$E4 -> 74 | N6: =SUM(SUM(M6*100)/SUM(M$6:M$7)) -> 21.387283 | O6: ='Parte A_Idade Mais 39a'!$E4 -> 71 | P6: =SUM(SUM(O6*100)/SUM(O$6:O$7)) -> 18.537859 | Q6: ='Parte A_Idade Menos 39a'!$E4 -> 95 | R6: =SUM(SUM(Q6*100)/SUM(Q$6:Q$7)) -> 22.041763 | S6: ='Parte A_Anos Serviço Mais 12a'!$E4 -> 57 | T6: =SUM(SUM(S6*100)/SUM(S$6:S$7)) -> 19.93007 | U6: ='Parte A_Anos Serviço Menos 12a'!$E4 -> 100 | V6: =SUM(SUM(U6*100)/SUM(U$6:U$7)) -> 22.727273 | W6: ='Parte A_Licenciado'!$E4 -> 117 | X6: =SUM(SUM(W6*100)/SUM(W$6:W$7)) -> 21.992481 | Y6: ='Parte A_Não Licenciado'!$E4 -> 100 | Z6: =SUM(SUM(Y6*100)/SUM(Y$6:Y$7)) -> 22.727273 | AA6: ='Parte A_Vítima'!$E4 -> 45 | AB6: =SUM(SUM(AA6*100)/SUM(AA$6:AA$7)) -> 22.959184 | AC6: ='Parte A_Não Vítima'!$E4 -> 129 | AD6: =SUM(SUM(AC6*100)/SUM(AC$6:AC$7)) -> 20.283019
C7: Feminino | E7: ='Parte A_Global_Percentagem'!$E5 -> 658 | F7: =SUM(SUM(E7*100)/SUM(E$6:E$7)) -> 79.086538 | G7: ='Parte A_Mascul'!$E5 -> 0 | H7: =SUM(SUM(G7*100)/SUM(G$6:G$7)) -> 0 | I7: ='Parte A_Femin'!$E5 -> 658 | J7: =SUM(SUM(I7*100)/SUM(I$6:I$7)) -> 100 | K7: ='Parte A_Casado'!$E5 -> 386 | L7: =SUM(SUM(K7*100)/SUM(K$6:K$7)) -> 79.423868 | M7: ='Parte A_Não Casado'!$E5 -> 272 | N7: =SUM(SUM(M7*100)/SUM(M$6:M$7)) -> 78.612717 | O7: ='Parte A_Idade Mais 39a'!$E5 -> 312 | P7: =SUM(SUM(O7*100)/SUM(O$6:O$7)) -> 81.462141 | Q7: ='Parte A_Idade Menos 39a'!$E5 -> 336 | R7: =SUM(SUM(Q7*100)/SUM(Q$6:Q$7)) -> 77.958237 | S7: ='Parte A_Anos Serviço Mais 12a'!$E5 -> 229 | T7: =SUM(SUM(S7*100)/SUM(S$6:S$7)) -> 80.06993 | U7: ='Parte A_Anos Serviço Menos 12a'!$E5 -> 340 | V7: =SUM(SUM(U7*100)/SUM(U$6:U$7)) -> 77.272727 | W7: ='Parte A_Licenciado'!$E5 -> 415 | X7: =SUM(SUM(W7*100)/SUM(W$6:W$7)) -> 78.007519 | Y7: ='Parte A_Não Licenciado'!$E5 -> 340 | Z7: =SUM(SUM(Y7*100)/SUM(Y$6:Y$7)) -> 77.272727 | AA7: ='Parte A_Vítima'!$E5 -> 151 | AB7: =SUM(SUM(AA7*100)/SUM(AA$6:AA$7)) -> 77.040816 | AC7: ='Parte A_Não Vítima'!$E5 -> 507 | AD7: =SUM(SUM(AC7*100)/SUM(AC$6:AC$7)) -> 79.716981
B8: 2. Nacionalidade
C9: Portuguesa | E9: ='Parte A_Global_Percentagem'!$E7 -> 800 | F9: =SUM(SUM(E9*100)/SUM(E$9:E$11)) -> 98.039216 | G9: ='Parte A_Mascul'!$E7 -> 169 | H9: =SUM(SUM(G9*100)/SUM(G$9:G$11)) -> 98.255814 | I9: ='Parte A_Femin'!$E7 -> 631 | J9: =SUM(SUM(I9*100)/SUM(I$9:I$11)) -> 97.981366 | K9: ='Parte A_Casado'!$E7 -> 469 | L9: =SUM(SUM(K9*100)/SUM(K$9:K$11)) -> 97.505198 | M9: ='Parte A_Não Casado'!$E7 -> 331 | N9: =SUM(SUM(M9*100)/SUM(M$9:M$11)) -> 98.80597 | O9: ='Parte A_Idade Mais 39a'!$E7 -> 368 | P9: =SUM(SUM(O9*100)/SUM(O$9:O$11)) -> 96.842105 | Q9: ='Parte A_Idade Menos 39a'!$E7 -> 416 | R9: =SUM(SUM(Q9*100)/SUM(Q$9:Q$11)) -> 97.652582 | S9: ='Parte A_Anos Serviço Mais 12a'!$E7 -> 281 | T9: =SUM(SUM(S9*100)/SUM(S$9:S$11)) -> 99.64539 | U9: ='Parte A_Anos Serviço Menos 12a'!$E7 -> 420 | V9: =SUM(SUM(U9*100)/SUM(U$9:U$11)) -> 96.997691 | W9: ='Parte A_Licenciado'!$E7 -> 518 | X9: =SUM(SUM(W9*100)/SUM(W$9:W$11)) -> 99.043977 | Y9: ='Parte A_Não Licenciado'!$E7 -> 420 | Z9: =SUM(SUM(Y9*100)/SUM(Y$9:Y$11)) -> 96.997691 | AA9: ='Parte A_Vítima'!$E7 -> 186 | AB9: =SUM(SUM(AA9*100)/SUM(AA$9:AA$11)) -> 97.894737 | AC9: ='Parte A_Não Vítima'!$E7 -> 614 | AD9: =SUM(SUM(AC9*100)/SUM(AC$9:AC$11)) -> 98.083067
C10: Europeia | E10: ='Parte A_Global_Percentagem'!$E8 -> 8 | F10: =SUM(SUM(E10*100)/SUM(E$9:E$11)) -> 0.98039216 | G10: ='Parte A_Mascul'!$E8 -> 2 | H10: =SUM(SUM(G10*100)/SUM(G$9:G$11)) -> 1.1627907 | I10: ='Parte A_Femin'!$E8 -> 6 | J10: =SUM(SUM(I10*100)/SUM(I$9:I$11)) -> 0.93167702 | K10: ='Parte A_Casado'!$E8 -> 7 | L10: =SUM(SUM(K10*100)/SUM(K$9:K$11)) -> 1.4553015 | M10: ='Parte A_Não Casado'!$E8 -> 1 | N10: =SUM(SUM(M10*100)/SUM(M$9:M$11)) -> 0.29850746 | O10: ='Parte A_Idade Mais 39a'!$E8 -> 3 | P10: =SUM(SUM(O10*100)/SUM(O$9:O$11)) -> 0.78947368 | Q10: ='Parte A_Idade Menos 39a'!$E8 -> 5 | R10: =SUM(SUM(Q10*100)/SUM(Q$9:Q$11)) -> 1.1737089 | S10: ='Parte A_Anos Serviço Mais 12a'!$E8 -> 1 | T10: =SUM(SUM(S10*100)/SUM(S$9:S$11)) -> 0.35460993 | U10: ='Parte A_Anos Serviço Menos 12a'!$E8 -> 7 | V10: =SUM(SUM(U10*100)/SUM(U$9:U$11)) -> 1.6166282 | W10: ='Parte A_Licenciado'!$E8 -> 4 | X10: =SUM(SUM(W10*100)/SUM(W$9:W$11)) -> 0.76481836 | Y10: ='Parte A_Não Licenciado'!$E8 -> 7 | Z10: =SUM(SUM(Y10*100)/SUM(Y$9:Y$11)) -> 1.6166282 | AA10: ='Parte A_Vítima'!$E8 -> 0 | AB10: =SUM(SUM(AA10*100)/SUM(AA$9:AA$11)) -> 0 | AC10: ='Parte A_Não Vítima'!$E8 -> 8 | AD10: =SUM(SUM(AC10*100)/SUM(AC$9:AC$11)) -> 1.2779553
C11: Não Europeia | E11: ='Parte A_Global_Percentagem'!$E9 -> 8 | F11: =SUM(SUM(E11*100)/SUM(E$9:E$11)) -> 0.98039216 | G11: ='Parte A_Mascul'!$E9 -> 1 | H11: =SUM(SUM(G11*100)/SUM(G$9:G$11)) -> 0.58139535 | I11: ='Parte A_Femin'!$E9 -> 7 | J11: =SUM(SUM(I11*100)/SUM(I$9:I$11)) -> 1.0869565 | K11: ='Parte A_Casado'!$E9 -> 5 | L11: =SUM(SUM(K11*100)/SUM(K$9:K$11)) -> 1.039501 | M11: ='Parte A_Não Casado'!$E9 -> 3 | N11: =SUM(SUM(M11*100)/SUM(M$9:M$11)) -> 0.89552239 | O11: ='Parte A_Idade Mais 39a'!$E9 -> 9 | P11: =SUM(SUM(O11*100)/SUM(O$9:O$11)) -> 2.3684211 | Q11: ='Parte A_Idade Menos 39a'!$E9 -> 5 | R11: =SUM(SUM(Q11*100)/SUM(Q$9:Q$11)) -> 1.1737089 | S11: ='Parte A_Anos Serviço Mais 12a'!$E9 -> 0 | T11: =SUM(SUM(S11*100)/SUM(S$9:S$11)) -> 0 | U11: ='Parte A_Anos Serviço Menos 12a'!$E9 -> 6 | V11: =SUM(SUM(U11*100)/SUM(U$9:U$11)) -> 1.3856813 | W11: ='Parte A_Licenciado'!$E9 -> 1 | X11: =SUM(SUM(W11*100)/SUM(W$9:W$11)) -> 0.19120459 | Y11: ='Parte A_Não Licenciado'!$E9 -> 6 | Z11: =SUM(SUM(Y11*100)/SUM(Y$9:Y$11)) -> 1.3856813 | AA11: ='Parte A_Vítima'!$E9 -> 4 | AB11: =SUM(SUM(AA11*100)/SUM(AA$9:AA$11)) -> 2.1052632 | AC11: ='Parte A_Não Vítima'!$E9 -> 4 | AD11: =SUM(SUM(AC11*100)/SUM(AC$9:AC$11)) -> 0.63897764
B12: 3. Idade | E12: ='Parte A_Global_Percentagem'!$E10 -> 38.926199 | G12: ='Parte A_Mascul'!$E10 -> 38.775758 | I12: ='Parte A_Femin'!$E10 -> 38.964506 | K12: ='Parte A_Casado'!$E10 -> 40.605042 | M12: ='Parte A_Não Casado'!$E10 -> 36.554896 | O12: ='Parte A_Idade Mais 39a'!$E10 -> 47.603133 | Q12: ='Parte A_Idade Menos 39a'!$E10 -> 31.199536 | S12: ='Parte A_Anos Serviço Mais 12a'!$E10 -> 45.673759 | U12: ='Parte A_Anos Serviço Menos 12a'!$E10 -> 33.560185 | W12: ='Parte A_Licenciado'!$E10 -> 37.918251 | Y12: ='Parte A_Não Licenciado'!$E10 -> 33.560185 | AA12: ='Parte A_Vítima'!$E10 -> 38.659686 | AC12: ='Parte A_Não Vítima'!$E10 -> 38.99679
B13: 4. Estado Civil
C14: Solteiro | E14: ='Parte A_Global_Percentagem'!$E12 -> 262 | F14: =SUM(SUM(E14*100)/SUM(E$14:E$17)) -> 31.680774 | G14: ='Parte A_Mascul'!$E12 -> 60 | H14: =SUM(SUM(G14*100)/SUM(G$14:G$17)) -> 34.682081 | I14: ='Parte A_Femin'!$E12 -> 202 | J14: =SUM(SUM(I14*100)/SUM(I$14:I$17)) -> 30.88685 | K14: ='Parte A_Casado'!$E12 -> 0 | L14: =SUM(SUM(K14*100)/SUM(K$14:K$17)) -> 0 | M14: ='Parte A_Não Casado'!$E12 -> 262 | N14: =SUM(SUM(M14*100)/SUM(M$14:M$17)) -> 76.608187 | O14: ='Parte A_Idade Mais 39a'!$E12 -> 57 | P14: =SUM(SUM(O14*100)/SUM(O$14:O$17)) -> 14.96063 | Q14: ='Parte A_Idade Menos 39a'!$E12 -> 199 | R14: =SUM(SUM(Q14*100)/SUM(Q$14:Q$17)) -> 46.27907 | S14: ='Parte A_Anos Serviço Mais 12a'!$E12 -> 52 | T14: =SUM(SUM(S14*100)/SUM(S$14:S$17)) -> 18.245614 | U14: ='Parte A_Anos Serviço Menos 12a'!$E12 -> 189 | V14: =SUM(SUM(U14*100)/SUM(U$14:U$17)) -> 43.348624 | W14: ='Parte A_Licenciado'!$E12 -> 189 | X14: =SUM(SUM(W14*100)/SUM(W$14:W$17)) -> 35.59322 | Y14: ='Parte A_Não Licenciado'!$E12 -> 189 | Z14: =SUM(SUM(Y14*100)/SUM(Y$14:Y$17)) -> 43.348624 | AA14: ='Parte A_Vítima'!$E12 -> 63 | AB14: =SUM(SUM(AA14*100)/SUM(AA$14:AA$17)) -> 32.307692 | AC14: ='Parte A_Não Vítima'!$E12 -> 199 | AD14: =SUM(SUM(AC14*100)/SUM(AC$14:AC$17)) -> 31.437599
C15: Casado | E15: ='Parte A_Global_Percentagem'!$E13 -> 485 | F15: =SUM(SUM(E15*100)/SUM(E$14:E$17)) -> 58.645707 | G15: ='Parte A_Mascul'!$E13 -> 100 | H15: =SUM(SUM(G15*100)/SUM(G$14:G$17)) -> 57.803468 | I15: ='Parte A_Femin'!$E13 -> 385 | J15: =SUM(SUM(I15*100)/SUM(I$14:I$17)) -> 58.868502 | K15: ='Parte A_Casado'!$E13 -> 486 | L15: =SUM(SUM(K15*100)/SUM(K$14:K$17)) -> 100 | M15: ='Parte A_Não Casado'!$E13 -> 0 | N15: =SUM(SUM(M15*100)/SUM(M$14:M$17)) -> 0 | O15: ='Parte A_Idade Mais 39a'!$E13 -> 263 | P15: =SUM(SUM(O15*100)/SUM(O$14:O$17)) -> 69.028871 | Q15: ='Parte A_Idade Menos 39a'!$E13 -> 214 | R15: =SUM(SUM(Q15*100)/SUM(Q$14:Q$17)) -> 49.767442 | S15: ='Parte A_Anos Serviço Mais 12a'!$E13 -> 194 | T15: =SUM(SUM(S15*100)/SUM(S$14:S$17)) -> 68.070175 | U15: ='Parte A_Anos Serviço Menos 12a'!$E13 -> 222 | V15: =SUM(SUM(U15*100)/SUM(U$14:U$17)) -> 50.917431 | W15: ='Parte A_Licenciado'!$E13 -> 302 | X15: =SUM(SUM(W15*100)/SUM(W$14:W$17)) -> 56.873823 | Y15: ='Parte A_Não Licenciado'!$E13 -> 222 | Z15: =SUM(SUM(Y15*100)/SUM(Y$14:Y$17)) -> 50.917431 | AA15: ='Parte A_Vítima'!$E13 -> 115 | AB15: =SUM(SUM(AA15*100)/SUM(AA$14:AA$17)) -> 58.974359 | AC15: ='Parte A_Não Vítima'!$E13 -> 371 | AD15: =SUM(SUM(AC15*100)/SUM(AC$14:AC$17)) -> 58.609795
C16: Divorciado | E16: ='Parte A_Global_Percentagem'!$E14 -> 71 | F16: =SUM(SUM(E16*100)/SUM(E$14:E$17)) -> 8.5852479 | G16: ='Parte A_Mascul'!$E14 -> 12 | H16: =SUM(SUM(G16*100)/SUM(G$14:G$17)) -> 6.9364162 | I16: ='Parte A_Femin'!$E14 -> 59 | J16: =SUM(SUM(I16*100)/SUM(I$14:I$17)) -> 9.0214067 | K16: ='Parte A_Casado'!$E14 -> 0 | L16: =SUM(SUM(K16*100)/SUM(K$14:K$17)) -> 0 | M16: ='Parte A_Não Casado'!$E14 -> 71 | N16: =SUM(SUM(M16*100)/SUM(M$14:M$17)) -> 20.760234 | O16: ='Parte A_Idade Mais 39a'!$E14 -> 52 | P16: =SUM(SUM(O16*100)/SUM(O$14:O$17)) -> 13.648294 | Q16: ='Parte A_Idade Menos 39a'!$E14 -> 17 | R16: =SUM(SUM(Q16*100)/SUM(Q$14:Q$17)) -> 3.9534884 | S16: ='Parte A_Anos Serviço Mais 12a'!$E14 -> 34 | T16: =SUM(SUM(S16*100)/SUM(S$14:S$17)) -> 11.929825 | U16: ='Parte A_Anos Serviço Menos 12a'!$E14 -> 23 | V16: =SUM(SUM(U16*100)/SUM(U$14:U$17)) -> 5.2752294 | W16: ='Parte A_Licenciado'!$E14 -> 35 | X16: =SUM(SUM(W16*100)/SUM(W$14:W$17)) -> 6.5913371 | Y16: ='Parte A_Não Licenciado'!$E14 -> 23 | Z16: =SUM(SUM(Y16*100)/SUM(Y$14:Y$17)) -> 5.2752294 | AA16: ='Parte A_Vítima'!$E14 -> 16 | AB16: =SUM(SUM(AA16*100)/SUM(AA$14:AA$17)) -> 8.2051282 | AC16: ='Parte A_Não Vítima'!$E14 -> 55 | AD16: =SUM(SUM(AC16*100)/SUM(AC$14:AC$17)) -> 8.6887836
C17: Viúvo | E17: ='Parte A_Global_Percentagem'!$E15 -> 9 | F17: =SUM(SUM(E17*100)/SUM(E$14:E$17)) -> 1.0882709 | G17: ='Parte A_Mascul'!$E15 -> 1 | H17: =SUM(SUM(G17*100)/SUM(G$14:G$17)) -> 0.57803468 | I17: ='Parte A_Femin'!$E15 -> 8 | J17: =SUM(SUM(I17*100)/SUM(I$14:I$17)) -> 1.2232416 | K17: ='Parte A_Casado'!$E15 -> 0 | L17: =SUM(SUM(K17*100)/SUM(K$14:K$17)) -> 0 | M17: ='Parte A_Não Casado'!$E15 -> 9 | N17: =SUM(SUM(M17*100)/SUM(M$14:M$17)) -> 2.6315789 | O17: ='Parte A_Idade Mais 39a'!$E15 -> 9 | P17: =SUM(SUM(O17*100)/SUM(O$14:O$17)) -> 2.3622047 | Q17: ='Parte A_Idade Menos 39a'!$E15 -> 0 | R17: =SUM(SUM(Q17*100)/SUM(Q$14:Q$17)) -> 0 | S17: ='Parte A_Anos Serviço Mais 12a'!$E15 -> 5 | T17: =SUM(SUM(S17*100)/SUM(S$14:S$17)) -> 1.754386 | U17: ='Parte A_Anos Serviço Menos 12a'!$E15 -> 2 | V17: =SUM(SUM(U17*100)/SUM(U$14:U$17)) -> 0.4587156 | W17: ='Parte A_Licenciado'!$E15 -> 5 | X17: =SUM(SUM(W17*100)/SUM(W$14:W$17)) -> 0.94161959 | Y17: ='Parte A_Não Licenciado'!$E15 -> 2 | Z17: =SUM(SUM(Y17*100)/SUM(Y$14:Y$17)) -> 0.4587156 | AA17: ='Parte A_Vítima'!$E15 -> 1 | AB17: =SUM(SUM(AA17*100)/SUM(AA$14:AA$17)) -> 0.51282051 | AC17: ='Parte A_Não Vítima'!$E15 -> 8 | AD17: =SUM(SUM(AC17*100)/SUM(AC$14:AC$17)) -> 1.2638231
B18: 5. Habilitações Académicas
C19: < que o 12º ano | E19: ='Parte A_Global_Percentagem'!$E17 -> 157 | F19: =SUM(SUM(E19*100)/SUM(E$19:E$25)) -> 19.169719 | G19: ='Parte A_Mascul'!$E17 -> 31 | H19: =SUM(SUM(G19*100)/SUM(G$19:G$25)) -> 18.128655 | I19: ='Parte A_Femin'!$E17 -> 126 | J19: =SUM(SUM(I19*100)/SUM(I$19:I$25)) -> 19.444444 | K19: ='Parte A_Casado'!$E17 -> 90 | L19: =SUM(SUM(K19*100)/SUM(K$19:K$25)) -> 18.867925 | M19: ='Parte A_Não Casado'!$E17 -> 67 | N19: =SUM(SUM(M19*100)/SUM(M$19:M$25)) -> 19.590643 | O19: ='Parte A_Idade Mais 39a'!$E17 -> 105 | P19: =SUM(SUM(O19*100)/SUM(O$19:O$25)) -> 27.925532 | Q19: ='Parte A_Idade Menos 39a'!$E17 -> 45 | R19: =SUM(SUM(Q19*100)/SUM(Q$19:Q$25)) -> 10.56338 | S19: ='Parte A_Anos Serviço Mais 12a'!$E17 -> 46 | T19: =SUM(SUM(S19*100)/SUM(S$19:S$25)) -> 16.487455 | U19: ='Parte A_Anos Serviço Menos 12a'!$E17 -> 71 | V19: =SUM(SUM(U19*100)/SUM(U$19:U$25)) -> 16.284404 | W19: ='Parte A_Licenciado'!$E17 -> 0 | X19: =SUM(SUM(W19*100)/SUM(W$19:W$25)) -> 0 | Y19: ='Parte A_Não Licenciado'!$E17 -> 71 | Z19: =SUM(SUM(Y19*100)/SUM(Y$19:Y$25)) -> 16.284404 | AA19: ='Parte A_Vítima'!$E17 -> 33 | AB19: =SUM(SUM(AA19*100)/SUM(AA$19:AA$25)) -> 17.277487 | AC19: ='Parte A_Não Vítima'!$E17 -> 124 | AD19: =SUM(SUM(AC19*100)/SUM(AC$19:AC$25)) -> 19.745223
C20: 12º ano | E20: ='Parte A_Global_Percentagem'!$E18 -> 130 | F20: =SUM(SUM(E20*100)/SUM(E$19:E$25)) -> 15.873016 | G20: ='Parte A_Mascul'!$E18 -> 23 | H20: =SUM(SUM(G20*100)/SUM(G$19:G$25)) -> 13.450292 | I20: ='Parte A_Femin'!$E18 -> 107 | J20: =SUM(SUM(I20*100)/SUM(I$19:I$25)) -> 16.512346 | K20: ='Parte A_Casado'!$E18 -> 85 | L20: =SUM(SUM(K20*100)/SUM(K$19:K$25)) -> 17.819706 | M20: ='Parte A_Não Casado'!$E18 -> 45 | N20: =SUM(SUM(M20*100)/SUM(M$19:M$25)) -> 13.157895 | O20: ='Parte A_Idade Mais 39a'!$E18 -> 45 | P20: =SUM(SUM(O20*100)/SUM(O$19:O$25)) -> 11.968085 | Q20: ='Parte A_Idade Menos 39a'!$E18 -> 81 | R20: =SUM(SUM(Q20*100)/SUM(Q$19:Q$25)) -> 19.014085 | S20: ='Parte A_Anos Serviço Mais 12a'!$E18 -> 26 | T20: =SUM(SUM(S20*100)/SUM(S$19:S$25)) -> 9.3189964 | U20: ='Parte A_Anos Serviço Menos 12a'!$E18 -> 82 | V20: =SUM(SUM(U20*100)/SUM(U$19:U$25)) -> 18.807339 | W20: ='Parte A_Licenciado'!$E18 -> 0 | X20: =SUM(SUM(W20*100)/SUM(W$19:W$25)) -> 0 | Y20: ='Parte A_Não Licenciado'!$E18 -> 82 | Z20: =SUM(SUM(Y20*100)/SUM(Y$19:Y$25)) -> 18.807339 | AA20: ='Parte A_Vítima'!$E18 -> 27 | AB20: =SUM(SUM(AA20*100)/SUM(AA$19:AA$25)) -> 14.136126 | AC20: ='Parte A_Não Vítima'!$E18 -> 103 | AD20: =SUM(SUM(AC20*100)/SUM(AC$19:AC$25)) -> 16.401274
C21: Licenciatura | E21: ='Parte A_Global_Percentagem'!$E19 -> 382 | F21: =SUM(SUM(E21*100)/SUM(E$19:E$25)) -> 46.642247 | G21: ='Parte A_Mascul'!$E19 -> 82 | H21: =SUM(SUM(G21*100)/SUM(G$19:G$25)) -> 47.953216 | I21: ='Parte A_Femin'!$E19 -> 300 | J21: =SUM(SUM(I21*100)/SUM(I$19:I$25)) -> 46.296296 | K21: ='Parte A_Casado'!$E19 -> 219 | L21: =SUM(SUM(K21*100)/SUM(K$19:K$25)) -> 45.91195 | M21: ='Parte A_Não Casado'!$E19 -> 163 | N21: =SUM(SUM(M21*100)/SUM(M$19:M$25)) -> 47.660819 | O21: ='Parte A_Idade Mais 39a'!$E19 -> 172 | P21: =SUM(SUM(O21*100)/SUM(O$19:O$25)) -> 45.744681 | Q21: ='Parte A_Idade Menos 39a'!$E19 -> 209 | R21: =SUM(SUM(Q21*100)/SUM(Q$19:Q$25)) -> 49.061033 | S21: ='Parte A_Anos Serviço Mais 12a'!$E19 -> 153 | T21: =SUM(SUM(S21*100)/SUM(S$19:S$25)) -> 54.83871 | U21: ='Parte A_Anos Serviço Menos 12a'!$E19 -> 197 | V21: =SUM(SUM(U21*100)/SUM(U$19:U$25)) -> 45.183486 | W21: ='Parte A_Licenciado'!$E19 -> 383 | X21: =SUM(SUM(W21*100)/SUM(W$19:W$25)) -> 71.722846 | Y21: ='Parte A_Não Licenciado'!$E19 -> 197 | Z21: =SUM(SUM(Y21*100)/SUM(Y$19:Y$25)) -> 45.183486 | AA21: ='Parte A_Vítima'!$E19 -> 86 | AB21: =SUM(SUM(AA21*100)/SUM(AA$19:AA$25)) -> 45.026178 | AC21: ='Parte A_Não Vítima'!$E19 -> 296 | AD21: =SUM(SUM(AC21*100)/SUM(AC$19:AC$25)) -> 47.133758
C22: Pós-graduação | E22: ='Parte A_Global_Percentagem'!$E20 -> 102 | F22: =SUM(SUM(E22*100)/SUM(E$19:E$25)) -> 12.454212 | G22: ='Parte A_Mascul'!$E20 -> 25 | H22: =SUM(SUM(G22*100)/SUM(G$19:G$25)) -> 14.619883 | I22: ='Parte A_Femin'!$E20 -> 77 | J22: =SUM(SUM(I22*100)/SUM(I$19:I$25)) -> 11.882716 | K22: ='Parte A_Casado'!$E20 -> 58 | L22: =SUM(SUM(K22*100)/SUM(K$19:K$25)) -> 12.159329 | M22: ='Parte A_Não Casado'!$E20 -> 44 | N22: =SUM(SUM(M22*100)/SUM(M$19:M$25)) -> 12.865497 | O22: ='Parte A_Idade Mais 39a'!$E20 -> 35 | P22: =SUM(SUM(O22*100)/SUM(O$19:O$25)) -> 9.3085106 | Q22: ='Parte A_Idade Menos 39a'!$E20 -> 65 | R22: =SUM(SUM(Q22*100)/SUM(Q$19:Q$25)) -> 15.258216 | S22: ='Parte A_Anos Serviço Mais 12a'!$E20 -> 36 | T22: =SUM(SUM(S22*100)/SUM(S$19:S$25)) -> 12.903226 | U22: ='Parte A_Anos Serviço Menos 12a'!$E20 -> 59 | V22: =SUM(SUM(U22*100)/SUM(U$19:U$25)) -> 13.53211 | W22: ='Parte A_Licenciado'!$E20 -> 103 | X22: =SUM(SUM(W22*100)/SUM(W$19:W$25)) -> 19.28839 | Y22: ='Parte A_Não Licenciado'!$E20 -> 59 | Z22: =SUM(SUM(Y22*100)/SUM(Y$19:Y$25)) -> 13.53211 | AA22: ='Parte A_Vítima'!$E20 -> 36 | AB22: =SUM(SUM(AA22*100)/SUM(AA$19:AA$25)) -> 18.848168 | AC22: ='Parte A_Não Vítima'!$E20 -> 66 | AD22: =SUM(SUM(AC22*100)/SUM(AC$19:AC$25)) -> 10.509554
C23: Mestrado | E23: ='Parte A_Global_Percentagem'!$E21 -> 45 | F23: =SUM(SUM(E23*100)/SUM(E$19:E$25)) -> 5.4945055 | G23: ='Parte A_Mascul'!$E21 -> 9 | H23: =SUM(SUM(G23*100)/SUM(G$19:G$25)) -> 5.2631579 | I23: ='Parte A_Femin'!$E21 -> 36 | J23: =SUM(SUM(I23*100)/SUM(I$19:I$25)) -> 5.5555556 | K23: ='Parte A_Casado'!$E21 -> 22 | L23: =SUM(SUM(K23*100)/SUM(K$19:K$25)) -> 4.6121593 | M23: ='Parte A_Não Casado'!$E21 -> 23 | N23: =SUM(SUM(M23*100)/SUM(M$19:M$25)) -> 6.7251462 | O23: ='Parte A_Idade Mais 39a'!$E21 -> 18 | P23: =SUM(SUM(O23*100)/SUM(O$19:O$25)) -> 4.787234 | Q23: ='Parte A_Idade Menos 39a'!$E21 -> 24 | R23: =SUM(SUM(Q23*100)/SUM(Q$19:Q$25)) -> 5.6338028 | S23: ='Parte A_Anos Serviço Mais 12a'!$E21 -> 17 | T23: =SUM(SUM(S23*100)/SUM(S$19:S$25)) -> 6.09319 | U23: ='Parte A_Anos Serviço Menos 12a'!$E21 -> 26 | V23: =SUM(SUM(U23*100)/SUM(U$19:U$25)) -> 5.9633028 | W23: ='Parte A_Licenciado'!$E21 -> 45 | X23: =SUM(SUM(W23*100)/SUM(W$19:W$25)) -> 8.4269663 | Y23: ='Parte A_Não Licenciado'!$E21 -> 26 | Z23: =SUM(SUM(Y23*100)/SUM(Y$19:Y$25)) -> 5.9633028 | AA23: ='Parte A_Vítima'!$E21 -> 9 | AB23: =SUM(SUM(AA23*100)/SUM(AA$19:AA$25)) -> 4.7120419 | AC23: ='Parte A_Não Vítima'!$E21 -> 36 | AD23: =SUM(SUM(AC23*100)/SUM(AC$19:AC$25)) -> 5.7324841
C24: Doutoramento | E24: ='Parte A_Global_Percentagem'!$E22 -> 3 | F24: =SUM(SUM(E24*100)/SUM(E$19:E$25)) -> 0.36630037 | G24: ='Parte A_Mascul'!$E22 -> 1 | H24: =SUM(SUM(G24*100)/SUM(G$19:G$25)) -> 0.58479532 | I24: ='Parte A_Femin'!$E22 -> 2 | J24: =SUM(SUM(I24*100)/SUM(I$19:I$25)) -> 0.30864198 | K24: ='Parte A_Casado'!$E22 -> 3 | L24: =SUM(SUM(K24*100)/SUM(K$19:K$25)) -> 0.62893082 | M24: ='Parte A_Não Casado'!$E22 -> 0 | N24: =SUM(SUM(M24*100)/SUM(M$19:M$25)) -> 0 | O24: ='Parte A_Idade Mais 39a'!$E22 -> 1 | P24: =SUM(SUM(O24*100)/SUM(O$19:O$25)) -> 0.26595745 | Q24: ='Parte A_Idade Menos 39a'!$E22 -> 2 | R24: =SUM(SUM(Q24*100)/SUM(Q$19:Q$25)) -> 0.46948357 | S24: ='Parte A_Anos Serviço Mais 12a'!$E22 -> 1 | T24: =SUM(SUM(S24*100)/SUM(S$19:S$25)) -> 0.35842294 | U24: ='Parte A_Anos Serviço Menos 12a'!$E22 -> 1 | V24: =SUM(SUM(U24*100)/SUM(U$19:U$25)) -> 0.2293578 | W24: ='Parte A_Licenciado'!$E22 -> 3 | X24: =SUM(SUM(W24*100)/SUM(W$19:W$25)) -> 0.56179775 | Y24: ='Parte A_Não Licenciado'!$E22 -> 1 | Z24: =SUM(SUM(Y24*100)/SUM(Y$19:Y$25)) -> 0.2293578 | AA24: ='Parte A_Vítima'!$E22 -> 0 | AB24: =SUM(SUM(AA24*100)/SUM(AA$19:AA$25)) -> 0 | AC24: ='Parte A_Não Vítima'!$E22 -> 3 | AD24: =SUM(SUM(AC24*100)/SUM(AC$19:AC$25)) -> 0.47770701
C25: Outro | E25: ='Parte A_Global_Percentagem'!$E23 -> 0 | F25: =SUM(SUM(E25*100)/SUM(E$19:E$25)) -> 0 | G25: ='Parte A_Mascul'!$E23 -> 0 | H25: =SUM(SUM(G25*100)/SUM(G$19:G$25)) -> 0 | I25: ='Parte A_Femin'!$E23 -> 0 | J25: =SUM(SUM(I25*100)/SUM(I$19:I$25)) -> 0 | K25: ='Parte A_Casado'!$E23 -> 0 | L25: =SUM(SUM(K25*100)/SUM(K$19:K$25)) -> 0 | M25: ='Parte A_Não Casado'!$E23 -> 0 | N25: =SUM(SUM(M25*100)/SUM(M$19:M$25)) -> 0 | O25: ='Parte A_Idade Mais 39a'!$E23 -> 0 | P25: =SUM(SUM(O25*100)/SUM(O$19:O$25)) -> 0 | Q25: ='Parte A_Idade Menos 39a'!$E23 -> 0 | R25: =SUM(SUM(Q25*100)/SUM(Q$19:Q$25)) -> 0 | S25: ='Parte A_Anos Serviço Mais 12a'!$E23 -> 0 | T25: =SUM(SUM(S25*100)/SUM(S$19:S$25)) -> 0 | U25: ='Parte A_Anos Serviço Menos 12a'!$E23 -> 0 | V25: =SUM(SUM(U25*100)/SUM(U$19:U$25)) -> 0 | W25: ='Parte A_Licenciado'!$E23 -> 0 | X25: =SUM(SUM(W25*100)/SUM(W$19:W$25)) -> 0 | Y25: ='Parte A_Não Licenciado'!$E23 -> 0 | Z25: =SUM(SUM(Y25*100)/SUM(Y$19:Y$25)) -> 0 | AA25: ='Parte A_Vítima'!$E23 -> 0 | AB25: =SUM(SUM(AA25*100)/SUM(AA$19:AA$25)) -> 0 | AC25: ='Parte A_Não Vítima'!$E23 -> 0 | AD25: =SUM(SUM(AC25*100)/SUM(AC$19:AC$25)) -> 0
B26: 6. Profissão
C27: Enfermeiro | E27: ='Parte A_Global_Percentagem'!$K4 -> 335 | F27: =SUM(SUM(E27*100)/SUM(E$27:E$40)) -> 40.07177 | G27: ='Parte A_Mascul'!$J4 -> 58 | H27: =SUM(SUM(G27*100)/SUM(G$27:G$40)) -> 32.768362 | I27: ='Parte A_Femin'!$J4 -> 277 | J27: =SUM(SUM(I27*100)/SUM(I$27:I$40)) -> 41.906203 | K27: ='Parte A_Casado'!$J4 -> 192 | L27: =SUM(SUM(K27*100)/SUM(K$27:K$40)) -> 38.866397 | M27: ='Parte A_Não Casado'!$J4 -> 143 | N27: =SUM(SUM(M27*100)/SUM(M$27:M$40)) -> 41.091954 | O27: ='Parte A_Idade Mais 39a'!$J4 -> 126 | P27: =SUM(SUM(O27*100)/SUM(O$27:O$40)) -> 32.727273 | Q27: ='Parte A_Idade Menos 39a'!$J4 -> 206 | R27: =SUM(SUM(Q27*100)/SUM(Q$27:Q$40)) -> 46.606335 | S27: ='Parte A_Anos Serviço Mais 12a'!$J4 -> 142 | T27: =SUM(SUM(S27*100)/SUM(S$27:S$40)) -> 49.65035 | U27: ='Parte A_Anos Serviço Menos 12a'!$J4 -> 174 | V27: =SUM(SUM(U27*100)/SUM(U$27:U$40)) -> 38.410596 | W27: ='Parte A_Licenciado'!$J4 -> 329 | X27: =SUM(SUM(W27*100)/SUM(W$27:W$40)) -> 60.036496 | Y27: ='Parte A_Não Licenciado'!$J4 -> 152 | Z27: =SUM(SUM(Y27*100)/SUM(Y$27:Y$40)) -> 52.233677 | AA27: ='Parte A_Vítima'!$J4 -> 95 | AB27: =SUM(SUM(AA27*100)/SUM(AA$27:AA$40)) -> 50 | AC27: ='Parte A_Não Vítima'!$J4 -> 240 | AD27: =SUM(SUM(AC27*100)/SUM(AC$27:AC$40)) -> 35.190616
C28: Assistente Op | E28: ='Parte A_Global_Percentagem'!$K5 -> 159 | F28: =SUM(SUM(E28*100)/SUM(E$27:E$40)) -> 19.019139 | G28: ='Parte A_Mascul'!$J5 -> 31 | H28: =SUM(SUM(G28*100)/SUM(G$27:G$40)) -> 17.514124 | I28: ='Parte A_Femin'!$J5 -> 136 | J28: =SUM(SUM(I28*100)/SUM(I$27:I$40)) -> 20.574887 | K28: ='Parte A_Casado'!$J5 -> 96 | L28: =SUM(SUM(K28*100)/SUM(K$27:K$40)) -> 19.433198 | M28: ='Parte A_Não Casado'!$J5 -> 63 | N28: =SUM(SUM(M28*100)/SUM(M$27:M$40)) -> 18.103448 | O28: ='Parte A_Idade Mais 39a'!$J5 -> 80 | P28: =SUM(SUM(O28*100)/SUM(O$27:O$40)) -> 20.779221 | Q28: ='Parte A_Idade Menos 39a'!$J5 -> 70 | R28: =SUM(SUM(Q28*100)/SUM(Q$27:Q$40)) -> 15.837104 | S28: ='Parte A_Anos Serviço Mais 12a'!$J5 -> 33 | T28: =SUM(SUM(S28*100)/SUM(S$27:S$40)) -> 11.538462 | U28: ='Parte A_Anos Serviço Menos 12a'!$J5 -> 88 | V28: =SUM(SUM(U28*100)/SUM(U$27:U$40)) -> 19.426049 | W28: ='Parte A_Licenciado'!$J5 -> 84 | X28: =SUM(SUM(W28*100)/SUM(W$27:W$40)) -> 15.328467 | Y28: ='Parte A_Não Licenciado'!$J5 -> 83 | Z28: =SUM(SUM(Y28*100)/SUM(Y$27:Y$40)) -> 28.522337 | AA28: ='Parte A_Vítima'!$J5 -> 35 | AB28: =SUM(SUM(AA28*100)/SUM(AA$27:AA$40)) -> 18.421053 | AC28: ='Parte A_Não Vítima'!$J5 -> 124 | AD28: =SUM(SUM(AC28*100)/SUM(AC$27:AC$40)) -> 18.181818
C29: Administrativo | E29: ='Parte A_Global_Percentagem'!$K6 -> 98 | F29: =SUM(SUM(E29*100)/SUM(E$27:E$40)) -> 11.722488 | G29: ='Parte A_Mascul'!$J6 -> 29 | H29: =SUM(SUM(G29*100)/SUM(G$27:G$40)) -> 16.384181 | I29: ='Parte A_Femin'!$J6 -> 84 | J29: =SUM(SUM(I29*100)/SUM(I$27:I$40)) -> 12.708018 | K29: ='Parte A_Casado'!$J6 -> 58 | L29: =SUM(SUM(K29*100)/SUM(K$27:K$40)) -> 11.740891 | M29: ='Parte A_Não Casado'!$J6 -> 40 | N29: =SUM(SUM(M29*100)/SUM(M$27:M$40)) -> 11.494253 | O29: ='Parte A_Idade Mais 39a'!$J6 -> 49 | P29: =SUM(SUM(O29*100)/SUM(O$27:O$40)) -> 12.727273 | Q29: ='Parte A_Idade Menos 39a'!$J6 -> 55 | R29: =SUM(SUM(Q29*100)/SUM(Q$27:Q$40)) -> 12.443439 | S29: ='Parte A_Anos Serviço Mais 12a'!$J6 -> 31 | T29: =SUM(SUM(S29*100)/SUM(S$27:S$40)) -> 10.839161 | U29: ='Parte A_Anos Serviço Menos 12a'!$J6 -> 58 | V29: =SUM(SUM(U29*100)/SUM(U$27:U$40)) -> 12.803532 | W29: ='Parte A_Licenciado'!$J6 -> 54 | X29: =SUM(SUM(W29*100)/SUM(W$27:W$40)) -> 9.8540146 | Y29: ='Parte A_Não Licenciado'!$J6 -> 18 | Z29: =SUM(SUM(Y29*100)/SUM(Y$27:Y$40)) -> 6.185567 | AA29: ='Parte A_Vítima'!$J6 -> 18 | AB29: =SUM(SUM(AA29*100)/SUM(AA$27:AA$40)) -> 9.4736842 | AC29: ='Parte A_Não Vítima'!$J6 -> 96 | AD29: =SUM(SUM(AC29*100)/SUM(AC$27:AC$40)) -> 14.076246
C30: Médico | E30: ='Parte A_Global_Percentagem'!$K7 -> 84 | F30: =SUM(SUM(E30*100)/SUM(E$27:E$40)) -> 10.047847 | G30: ='Parte A_Mascul'!$J7 -> 23 | H30: =SUM(SUM(G30*100)/SUM(G$27:G$40)) -> 12.99435 | I30: ='Parte A_Femin'!$J7 -> 53 | J30: =SUM(SUM(I30*100)/SUM(I$27:I$40)) -> 8.0181543 | K30: ='Parte A_Casado'!$J7 -> 48 | L30: =SUM(SUM(K30*100)/SUM(K$27:K$40)) -> 9.7165992 | M30: ='Parte A_Não Casado'!$J7 -> 36 | N30: =SUM(SUM(M30*100)/SUM(M$27:M$40)) -> 10.344828 | O30: ='Parte A_Idade Mais 39a'!$J7 -> 41 | P30: =SUM(SUM(O30*100)/SUM(O$27:O$40)) -> 10.649351 | Q30: ='Parte A_Idade Menos 39a'!$J7 -> 36 | R30: =SUM(SUM(Q30*100)/SUM(Q$27:Q$40)) -> 8.1447964 | S30: ='Parte A_Anos Serviço Mais 12a'!$J7 -> 28 | T30: =SUM(SUM(S30*100)/SUM(S$27:S$40)) -> 9.7902098 | U30: ='Parte A_Anos Serviço Menos 12a'!$J7 -> 46 | V30: =SUM(SUM(U30*100)/SUM(U$27:U$40)) -> 10.154525 | W30: ='Parte A_Licenciado'!$J7 -> 29 | X30: =SUM(SUM(W30*100)/SUM(W$27:W$40)) -> 5.2919708 | Y30: ='Parte A_Não Licenciado'!$J7 -> 16 | Z30: =SUM(SUM(Y30*100)/SUM(Y$27:Y$40)) -> 5.4982818 | AA30: ='Parte A_Vítima'!$J7 -> 17 | AB30: =SUM(SUM(AA30*100)/SUM(AA$27:AA$40)) -> 8.9473684 | AC30: ='Parte A_Não Vítima'!$J7 -> 81 | AD30: =SUM(SUM(AC30*100)/SUM(AC$27:AC$40)) -> 11.876833
C31: Outra | E31: ='Parte A_Global_Percentagem'!$K8 -> 65 | F31: =SUM(SUM(E31*100)/SUM(E$27:E$40)) -> 7.7751196 | G31: ='Parte A_Mascul'!$J8 -> 14 | H31: =SUM(SUM(G31*100)/SUM(G$27:G$40)) -> 7.9096045 | I31: ='Parte A_Femin'!$J8 -> 33 | J31: =SUM(SUM(I31*100)/SUM(I$27:I$40)) -> 4.9924357 | K31: ='Parte A_Casado'!$J8 -> 48 | L31: =SUM(SUM(K31*100)/SUM(K$27:K$40)) -> 9.7165992 | M31: ='Parte A_Não Casado'!$J8 -> 29 | N31: =SUM(SUM(M31*100)/SUM(M$27:M$40)) -> 8.3333333 | O31: ='Parte A_Idade Mais 39a'!$J8 -> 35 | P31: =SUM(SUM(O31*100)/SUM(O$27:O$40)) -> 9.0909091 | Q31: ='Parte A_Idade Menos 39a'!$J8 -> 34 | R31: =SUM(SUM(Q31*100)/SUM(Q$27:Q$40)) -> 7.6923077 | S31: ='Parte A_Anos Serviço Mais 12a'!$J8 -> 18 | T31: =SUM(SUM(S31*100)/SUM(S$27:S$40)) -> 6.2937063 | U31: ='Parte A_Anos Serviço Menos 12a'!$J8 -> 39 | V31: =SUM(SUM(U31*100)/SUM(U$27:U$40)) -> 8.6092715 | W31: ='Parte A_Licenciado'!$J8 -> 15 | X31: =SUM(SUM(W31*100)/SUM(W$27:W$40)) -> 2.7372263 | Y31: ='Parte A_Não Licenciado'!$J8 -> 10 | Z31: =SUM(SUM(Y31*100)/SUM(Y$27:Y$40)) -> 3.4364261 | AA31: ='Parte A_Vítima'!$J8 -> 10 | AB31: =SUM(SUM(AA31*100)/SUM(AA$27:AA$40)) -> 5.2631579 | AC31: ='Parte A_Não Vítima'!$J8 -> 66 | AD31: =SUM(SUM(AC31*100)/SUM(AC$27:AC$40)) -> 9.6774194
C32: Técnico Diagnóstico Terapêutica | E32: ='Parte A_Global_Percentagem'!$K9 -> 38 | F32: =SUM(SUM(E32*100)/SUM(E$27:E$40)) -> 4.5454545 | G32: ='Parte A_Mascul'!$J9 -> 9 | H32: =SUM(SUM(G32*100)/SUM(G$27:G$40)) -> 5.0847458 | I32: ='Parte A_Femin'!$J9 -> 30 | J32: =SUM(SUM(I32*100)/SUM(I$27:I$40)) -> 4.5385779 | K32: ='Parte A_Casado'!$J9 -> 25 | L32: =SUM(SUM(K32*100)/SUM(K$27:K$40)) -> 5.0607287 | M32: ='Parte A_Não Casado'!$J9 -> 14 | N32: =SUM(SUM(M32*100)/SUM(M$27:M$40)) -> 4.0229885 | O32: ='Parte A_Idade Mais 39a'!$J9 -> 18 | P32: =SUM(SUM(O32*100)/SUM(O$27:O$40)) -> 4.6753247 | Q32: ='Parte A_Idade Menos 39a'!$J9 -> 20 | R32: =SUM(SUM(Q32*100)/SUM(Q$27:Q$40)) -> 4.5248869 | S32: ='Parte A_Anos Serviço Mais 12a'!$J9 -> 14 | T32: =SUM(SUM(S32*100)/SUM(S$27:S$40)) -> 4.8951049 | U32: ='Parte A_Anos Serviço Menos 12a'!$J9 -> 17 | V32: =SUM(SUM(U32*100)/SUM(U$27:U$40)) -> 3.7527594 | W32: ='Parte A_Licenciado'!$J9 -> 15 | X32: =SUM(SUM(W32*100)/SUM(W$27:W$40)) -> 2.7372263 | Y32: ='Parte A_Não Licenciado'!$J9 -> 7 | Z32: =SUM(SUM(Y32*100)/SUM(Y$27:Y$40)) -> 2.4054983 | AA32: ='Parte A_Vítima'!$J9 -> 4 | AB32: =SUM(SUM(AA32*100)/SUM(AA$27:AA$40)) -> 2.1052632 | AC32: ='Parte A_Não Vítima'!$J9 -> 28 | AD32: =SUM(SUM(AC32*100)/SUM(AC$27:AC$40)) -> 4.1055718
C33: Fisioterapeuta | E33: ='Parte A_Global_Percentagem'!$K10 -> 16 | F33: =SUM(SUM(E33*100)/SUM(E$27:E$40)) -> 1.9138756 | G33: ='Parte A_Mascul'!$J10 -> 8 | H33: =SUM(SUM(G33*100)/SUM(G$27:G$40)) -> 4.519774 | I33: ='Parte A_Femin'!$J10 -> 16 | J33: =SUM(SUM(I33*100)/SUM(I$27:I$40)) -> 2.4205749 | K33: ='Parte A_Casado'!$J10 -> 10 | L33: =SUM(SUM(K33*100)/SUM(K$27:K$40)) -> 2.0242915 | M33: ='Parte A_Não Casado'!$J10 -> 10 | N33: =SUM(SUM(M33*100)/SUM(M$27:M$40)) -> 2.8735632 | O33: ='Parte A_Idade Mais 39a'!$J10 -> 11 | P33: =SUM(SUM(O33*100)/SUM(O$27:O$40)) -> 2.8571429 | Q33: ='Parte A_Idade Menos 39a'!$J10 -> 6 | R33: =SUM(SUM(Q33*100)/SUM(Q$27:Q$40)) -> 1.3574661 | S33: ='Parte A_Anos Serviço Mais 12a'!$J10 -> 8 | T33: =SUM(SUM(S33*100)/SUM(S$27:S$40)) -> 2.7972028 | U33: ='Parte A_Anos Serviço Menos 12a'!$J10 -> 8 | V33: =SUM(SUM(U33*100)/SUM(U$27:U$40)) -> 1.7660044 | W33: ='Parte A_Licenciado'!$J10 -> 7 | X33: =SUM(SUM(W33*100)/SUM(W$27:W$40)) -> 1.2773723 | Y33: ='Parte A_Não Licenciado'!$J10 -> 3 | Z33: =SUM(SUM(Y33*100)/SUM(Y$27:Y$40)) -> 1.0309278 | AA33: ='Parte A_Vítima'!$J10 -> 3 | AB33: =SUM(SUM(AA33*100)/SUM(AA$27:AA$40)) -> 1.5789474 | AC33: ='Parte A_Não Vítima'!$J10 -> 13 | AD33: =SUM(SUM(AC33*100)/SUM(AC$27:AC$40)) -> 1.9061584
C34: Empregado limpeza | E34: ='Parte A_Global_Percentagem'!$K11 -> 12 | F34: =SUM(SUM(E34*100)/SUM(E$27:E$40)) -> 1.4354067 | G34: ='Parte A_Mascul'!$J11 -> 2 | H34: =SUM(SUM(G34*100)/SUM(G$27:G$40)) -> 1.1299435 | I34: ='Parte A_Femin'!$J11 -> 14 | J34: =SUM(SUM(I34*100)/SUM(I$27:I$40)) -> 2.118003 | K34: ='Parte A_Casado'!$J11 -> 6 | L34: =SUM(SUM(K34*100)/SUM(K$27:K$40)) -> 1.2145749 | M34: ='Parte A_Não Casado'!$J11 -> 5 | N34: =SUM(SUM(M34*100)/SUM(M$27:M$40)) -> 1.4367816 | O34: ='Parte A_Idade Mais 39a'!$J11 -> 10 | P34: =SUM(SUM(O34*100)/SUM(O$27:O$40)) -> 2.5974026 | Q34: ='Parte A_Idade Menos 39a'!$J11 -> 6 | R34: =SUM(SUM(Q34*100)/SUM(Q$27:Q$40)) -> 1.3574661 | S34: ='Parte A_Anos Serviço Mais 12a'!$J11 -> 4 | T34: =SUM(SUM(S34*100)/SUM(S$27:S$40)) -> 1.3986014 | U34: ='Parte A_Anos Serviço Menos 12a'!$J11 -> 7 | V34: =SUM(SUM(U34*100)/SUM(U$27:U$40)) -> 1.5452539 | W34: ='Parte A_Licenciado'!$J11 -> 6 | X34: =SUM(SUM(W34*100)/SUM(W$27:W$40)) -> 1.0948905 | Y34: ='Parte A_Não Licenciado'!$J11 -> 1 | Z34: =SUM(SUM(Y34*100)/SUM(Y$27:Y$40)) -> 0.34364261 | AA34: ='Parte A_Vítima'!$J11 -> 2 | AB34: =SUM(SUM(AA34*100)/SUM(AA$27:AA$40)) -> 1.0526316 | AC34: ='Parte A_Não Vítima'!$J11 -> 9 | AD34: =SUM(SUM(AC34*100)/SUM(AC$27:AC$40)) -> 1.3196481
C35: Empregado Bar | E35: ='Parte A_Global_Percentagem'!$K12 -> 11 | F35: =SUM(SUM(E35*100)/SUM(E$27:E$40)) -> 1.3157895 | G35: ='Parte A_Mascul'!$J12 -> 2 | H35: =SUM(SUM(G35*100)/SUM(G$27:G$40)) -> 1.1299435 | I35: ='Parte A_Femin'!$J12 -> 5 | J35: =SUM(SUM(I35*100)/SUM(I$27:I$40)) -> 0.75642965 | K35: ='Parte A_Casado'!$J12 -> 5 | L35: =SUM(SUM(K35*100)/SUM(K$27:K$40)) -> 1.0121457 | M35: ='Parte A_Não Casado'!$J12 -> 4 | N35: =SUM(SUM(M35*100)/SUM(M$27:M$40)) -> 1.1494253 | O35: ='Parte A_Idade Mais 39a'!$J12 -> 5 | P35: =SUM(SUM(O35*100)/SUM(O$27:O$40)) -> 1.2987013 | Q35: ='Parte A_Idade Menos 39a'!$J12 -> 5 | R35: =SUM(SUM(Q35*100)/SUM(Q$27:Q$40)) -> 1.1312217 | S35: ='Parte A_Anos Serviço Mais 12a'!$J12 -> 3 | T35: =SUM(SUM(S35*100)/SUM(S$27:S$40)) -> 1.048951 | U35: ='Parte A_Anos Serviço Menos 12a'!$J12 -> 5 | V35: =SUM(SUM(U35*100)/SUM(U$27:U$40)) -> 1.1037528 | W35: ='Parte A_Licenciado'!$J12 -> 5 | X35: =SUM(SUM(W35*100)/SUM(W$27:W$40)) -> 0.91240876 | Y35: ='Parte A_Não Licenciado'!$J12 -> 1 | Z35: =SUM(SUM(Y35*100)/SUM(Y$27:Y$40)) -> 0.34364261 | AA35: ='Parte A_Vítima'!$J12 -> 1 | AB35: =SUM(SUM(AA35*100)/SUM(AA$27:AA$40)) -> 0.52631579 | AC35: ='Parte A_Não Vítima'!$J12 -> 8 | AD35: =SUM(SUM(AC35*100)/SUM(AC$27:AC$40)) -> 1.1730205
C36: Farmacêutico | E36: ='Parte A_Global_Percentagem'!$K13 -> 7 | F36: =SUM(SUM(E36*100)/SUM(E$27:E$40)) -> 0.83732057 | G36: ='Parte A_Mascul'!$J13 -> 1 | H36: =SUM(SUM(G36*100)/SUM(G$27:G$40)) -> 0.56497175 | I36: ='Parte A_Femin'!$J13 -> 5 | J36: =SUM(SUM(I36*100)/SUM(I$27:I$40)) -> 0.75642965 | K36: ='Parte A_Casado'!$J13 -> 3 | L36: =SUM(SUM(K36*100)/SUM(K$27:K$40)) -> 0.60728745 | M36: ='Parte A_Não Casado'!$J13 -> 1 | N36: =SUM(SUM(M36*100)/SUM(M$27:M$40)) -> 0.28735632 | O36: ='Parte A_Idade Mais 39a'!$J13 -> 4 | P36: =SUM(SUM(O36*100)/SUM(O$27:O$40)) -> 1.038961 | Q36: ='Parte A_Idade Menos 39a'!$J13 -> 2 | R36: =SUM(SUM(Q36*100)/SUM(Q$27:Q$40)) -> 0.45248869 | S36: ='Parte A_Anos Serviço Mais 12a'!$J13 -> 2 | T36: =SUM(SUM(S36*100)/SUM(S$27:S$40)) -> 0.6993007 | U36: ='Parte A_Anos Serviço Menos 12a'!$J13 -> 5 | V36: =SUM(SUM(U36*100)/SUM(U$27:U$40)) -> 1.1037528 | W36: ='Parte A_Licenciado'!$J13 -> 2 | X36: =SUM(SUM(W36*100)/SUM(W$27:W$40)) -> 0.3649635 | Y36: ='Parte A_Não Licenciado'!$J13 -> 0 | Z36: =SUM(SUM(Y36*100)/SUM(Y$27:Y$40)) -> 0 | AA36: ='Parte A_Vítima'!$J13 -> 0 | AB36: =SUM(SUM(AA36*100)/SUM(AA$27:AA$40)) -> 0 | AC36: ='Parte A_Não Vítima'!$J13 -> 7 | AD36: =SUM(SUM(AC36*100)/SUM(AC$27:AC$40)) -> 1.026393
C37: Psicólogo | E37: ='Parte A_Global_Percentagem'!$K14 -> 6 | F37: =SUM(SUM(E37*100)/SUM(E$27:E$40)) -> 0.71770335 | G37: ='Parte A_Mascul'!$J14 -> 0 | H37: =SUM(SUM(G37*100)/SUM(G$27:G$40)) -> 0 | I37: ='Parte A_Femin'!$J14 -> 3 | J37: =SUM(SUM(I37*100)/SUM(I$27:I$40)) -> 0.45385779 | K37: ='Parte A_Casado'!$J14 -> 1 | L37: =SUM(SUM(K37*100)/SUM(K$27:K$40)) -> 0.20242915 | M37: ='Parte A_Não Casado'!$J14 -> 1 | N37: =SUM(SUM(M37*100)/SUM(M$27:M$40)) -> 0.28735632 | O37: ='Parte A_Idade Mais 39a'!$J14 -> 2 | P37: =SUM(SUM(O37*100)/SUM(O$27:O$40)) -> 0.51948052 | Q37: ='Parte A_Idade Menos 39a'!$J14 -> 1 | R37: =SUM(SUM(Q37*100)/SUM(Q$27:Q$40)) -> 0.22624434 | S37: ='Parte A_Anos Serviço Mais 12a'!$J14 -> 1 | T37: =SUM(SUM(S37*100)/SUM(S$27:S$40)) -> 0.34965035 | U37: ='Parte A_Anos Serviço Menos 12a'!$J14 -> 3 | V37: =SUM(SUM(U37*100)/SUM(U$27:U$40)) -> 0.66225166 | W37: ='Parte A_Licenciado'!$J14 -> 1 | X37: =SUM(SUM(W37*100)/SUM(W$27:W$40)) -> 0.18248175 | Y37: ='Parte A_Não Licenciado'!$J14 -> 0 | Z37: =SUM(SUM(Y37*100)/SUM(Y$27:Y$40)) -> 0 | AA37: ='Parte A_Vítima'!$J14 -> 0 | AB37: =SUM(SUM(AA37*100)/SUM(AA$27:AA$40)) -> 0 | AC37: ='Parte A_Não Vítima'!$J14 -> 6 | AD37: =SUM(SUM(AC37*100)/SUM(AC$27:AC$40)) -> 0.8797654
C38: Ed. Infância | E38: ='Parte A_Global_Percentagem'!$K15 -> 2 | F38: =SUM(SUM(E38*100)/SUM(E$27:E$40)) -> 0.23923445 | G38: ='Parte A_Mascul'!$J15 -> 0 | H38: =SUM(SUM(G38*100)/SUM(G$27:G$40)) -> 0 | I38: ='Parte A_Femin'!$J15 -> 2 | J38: =SUM(SUM(I38*100)/SUM(I$27:I$40)) -> 0.30257186 | K38: ='Parte A_Casado'!$J15 -> 1 | L38: =SUM(SUM(K38*100)/SUM(K$27:K$40)) -> 0.20242915 | M38: ='Parte A_Não Casado'!$J15 -> 1 | N38: =SUM(SUM(M38*100)/SUM(M$27:M$40)) -> 0.28735632 | O38: ='Parte A_Idade Mais 39a'!$J15 -> 2 | P38: =SUM(SUM(O38*100)/SUM(O$27:O$40)) -> 0.51948052 | Q38: ='Parte A_Idade Menos 39a'!$J15 -> 1 | R38: =SUM(SUM(Q38*100)/SUM(Q$27:Q$40)) -> 0.22624434 | S38: ='Parte A_Anos Serviço Mais 12a'!$J15 -> 1 | T38: =SUM(SUM(S38*100)/SUM(S$27:S$40)) -> 0.34965035 | U38: ='Parte A_Anos Serviço Menos 12a'!$J15 -> 1 | V38: =SUM(SUM(U38*100)/SUM(U$27:U$40)) -> 0.22075055 | W38: ='Parte A_Licenciado'!$J15 -> 1 | X38: =SUM(SUM(W38*100)/SUM(W$27:W$40)) -> 0.18248175 | Y38: ='Parte A_Não Licenciado'!$J15 -> 0 | Z38: =SUM(SUM(Y38*100)/SUM(Y$27:Y$40)) -> 0 | AA38: ='Parte A_Vítima'!$J15 -> 0 | AB38: =SUM(SUM(AA38*100)/SUM(AA$27:AA$40)) -> 0 | AC38: ='Parte A_Não Vítima'!$J15 -> 2 | AD38: =SUM(SUM(AC38*100)/SUM(AC$27:AC$40)) -> 0.29325513
... C40: Nutricionista | E40: ='Parte A_Global_Percentagem'!$K17 -> 1 | F40: =SUM(SUM(E40*100)/SUM(E$27:E$40)) -> 0.11961722 | G40: ='Parte A_Mascul'!$J17 -> 0 | H40: =SUM(SUM(G40*100)/SUM(G$27:G$40)) -> 0 | I40: ='Parte A_Femin'!$J17 -> 1 | J40: =SUM(SUM(I40*100)/SUM(I$27:I$40)) -> 0.15128593 | K40: ='Parte A_Casado'!$J17 -> 0 | L40: =SUM(SUM(K40*100)/SUM(K$27:K$40)) -> 0 | M40: ='Parte A_Não Casado'!$J17 -> 0 | N40: =SUM(SUM(M40*100)/SUM(M$27:M$40)) -> 0 | O40: ='Parte A_Idade Mais 39a'!$J17 -> 0 | P40: =SUM(SUM(O40*100)/SUM(O$27:O$40)) -> 0 | Q40: ='Parte A_Idade Menos 39a'!$J17 -> 0 | R40: =SUM(SUM(Q40*100)/SUM(Q$27:Q$40)) -> 0 | S40: ='Parte A_Anos Serviço Mais 12a'!$J17 -> 0 | T40: =SUM(SUM(S40*100)/SUM(S$27:S$40)) -> 0 | U40: ='Parte A_Anos Serviço Menos 12a'!$J17 -> 1 | V40: =SUM(SUM(U40*100)/SUM(U$27:U$40)) -> 0.22075055 | W40: ='Parte A_Licenciado'!$J17 -> 0 | X40: =SUM(SUM(W40*100)/SUM(W$27:W$40)) -> 0 | Y40: ='Parte A_Não Licenciado'!$J17 -> 0 | Z40: =SUM(SUM(Y40*100)/SUM(Y$27:Y$40)) -> 0 | AA40: ='Parte A_Vítima'!$J17 -> 5 | AB40: =SUM(SUM(AA40*100)/SUM(AA$27:AA$40)) -> 2.6315789 | AC40: ='Parte A_Não Vítima'!$J17 -> 1 | AD40: =SUM(SUM(AC40*100)/SUM(AC$27:AC$40)) -> 0.14662757
B41: 7. Identifique o Hospital onde trabalha
C42: Hospital Dona Estefânia | E42: ='Parte A_Global_Percentagem'!$K19 -> 278 | F42: =SUM(SUM(E42*100)/SUM(E$42:E$45)) -> 33.055886 | G42: ='Parte A_Mascul'!$J19 -> 47 | H42: =SUM(SUM(G42*100)/SUM(G$42:G$45)) -> 26.256983 | I42: ='Parte A_Femin'!$J19 -> 231 | J42: =SUM(SUM(I42*100)/SUM(I$42:I$45)) -> 34.89426 | K42: ='Parte A_Casado'!$J19 -> 154 | L42: =SUM(SUM(K42*100)/SUM(K$42:K$45)) -> 31.237323 | M42: ='Parte A_Não Casado'!$J19 -> 124 | N42: =SUM(SUM(M42*100)/SUM(M$42:M$45)) -> 35.632184 | O42: ='Parte A_Idade Mais 39a'!$J19 -> 364 | P42: =SUM(SUM(O42*100)/SUM(O$42:O$45)) -> 43.436754 | Q42: ='Parte A_Idade Menos 39a'!$J19 -> 396 | R42: =SUM(SUM(Q42*100)/SUM(Q$42:Q$45)) -> 46.808511 | S42: ='Parte A_Anos Serviço Mais 12a'!$J19 -> 79 | T42: =SUM(SUM(S42*100)/SUM(S$42:S$45)) -> 27.719298 | U42: ='Parte A_Anos Serviço Menos 12a'!$J19 -> 158 | V42: =SUM(SUM(U42*100)/SUM(U$42:U$45)) -> 35.033259 | W42: ='Parte A_Licenciado'!$J19 -> 183 | X42: =SUM(SUM(W42*100)/SUM(W$42:W$45)) -> 34.078212 | Y42: ='Parte A_Não Licenciado'!$J19 -> 95 | Z42: =SUM(SUM(Y42*100)/SUM(Y$42:Y$45)) -> 31.456954 | AA42: ='Parte A_Vítima'!$J19 -> 72 | AB42: =SUM(SUM(AA42*100)/SUM(AA$42:AA$45)) -> 36.548223 | AC42: ='Parte A_Não Vítima'!$J19 -> 206 | AD42: =SUM(SUM(AC42*100)/SUM(AC$42:AC$45)) -> 31.987578
C43: Hospital Sto António Capuchos | E43: ='Parte A_Global_Percentagem'!$K20 -> 190 | F43: =SUM(SUM(E43*100)/SUM(E$42:E$45)) -> 22.592152 | G43: ='Parte A_Mascul'!$J20 -> 51 | H43: =SUM(SUM(G43*100)/SUM(G$42:G$45)) -> 28.49162 | I43: ='Parte A_Femin'!$J20 -> 139 | J43: =SUM(SUM(I43*100)/SUM(I$42:I$45)) -> 20.996979 | K43: ='Parte A_Casado'!$J20 -> 122 | L43: =SUM(SUM(K43*100)/SUM(K$42:K$45)) -> 24.74645 | M43: ='Parte A_Não Casado'!$J20 -> 68 | N43: =SUM(SUM(M43*100)/SUM(M$42:M$45)) -> 19.54023 | O43: ='Parte A_Idade Mais 39a'!$J20 -> 178 | P43: =SUM(SUM(O43*100)/SUM(O$42:O$45)) -> 21.24105 | Q43: ='Parte A_Idade Menos 39a'!$J20 -> 160 | R43: =SUM(SUM(Q43*100)/SUM(Q$42:Q$45)) -> 18.91253 | S43: ='Parte A_Anos Serviço Mais 12a'!$J20 -> 80 | T43: =SUM(SUM(S43*100)/SUM(S$42:S$45)) -> 28.070175 | U43: ='Parte A_Anos Serviço Menos 12a'!$J20 -> 82 | V43: =SUM(SUM(U43*100)/SUM(U$42:U$45)) -> 18.181818 | W43: ='Parte A_Licenciado'!$J20 -> 119 | X43: =SUM(SUM(W43*100)/SUM(W$42:W$45)) -> 22.160149 | Y43: ='Parte A_Não Licenciado'!$J20 -> 70 | Z43: =SUM(SUM(Y43*100)/SUM(Y$42:Y$45)) -> 23.178808 | AA43: ='Parte A_Vítima'!$J20 -> 30 | AB43: =SUM(SUM(AA43*100)/SUM(AA$42:AA$45)) -> 15.228426 | AC43: ='Parte A_Não Vítima'!$J20 -> 160 | AD43: =SUM(SUM(AC43*100)/SUM(AC$42:AC$45)) -> 24.84472
C44: Hospital de S. José | E44: ='Parte A_Global_Percentagem'!$K21 -> 304 | F44: =SUM(SUM(E44*100)/SUM(E$42:E$45)) -> 36.147444 | G44: ='Parte A_Mascul'!$J21 -> 66 | H44: =SUM(SUM(G44*100)/SUM(G$42:G$45)) -> 36.871508 | I44: ='Parte A_Femin'!$J21 -> 238 | J44: =SUM(SUM(I44*100)/SUM(I$42:I$45)) -> 35.951662 | K44: ='Parte A_Casado'!$J21 -> 173 | L44: =SUM(SUM(K44*100)/SUM(K$42:K$45)) -> 35.091278 | M44: ='Parte A_Não Casado'!$J21 -> 131 | N44: =SUM(SUM(M44*100)/SUM(M$42:M$45)) -> 37.643678 | O44: ='Parte A_Idade Mais 39a'!$J21 -> 239 | P44: =SUM(SUM(O44*100)/SUM(O$42:O$45)) -> 28.520286 | Q44: ='Parte A_Idade Menos 39a'!$J21 -> 211 | R44: =SUM(SUM(Q44*100)/SUM(Q$42:Q$45)) -> 24.940898 | S44: ='Parte A_Anos Serviço Mais 12a'!$J21 -> 113 | T44: =SUM(SUM(S44*100)/SUM(S$42:S$45)) -> 39.649123 | U44: ='Parte A_Anos Serviço Menos 12a'!$J21 -> 165 | V44: =SUM(SUM(U44*100)/SUM(U$42:U$45)) -> 36.585366 | W44: ='Parte A_Licenciado'!$J21 -> 194 | X44: =SUM(SUM(W44*100)/SUM(W$42:W$45)) -> 36.126629 | Y44: ='Parte A_Não Licenciado'!$J21 -> 109 | Z44: =SUM(SUM(Y44*100)/SUM(Y$42:Y$45)) -> 36.092715 | AA44: ='Parte A_Vítima'!$J21 -> 78 | AB44: =SUM(SUM(AA44*100)/SUM(AA$42:AA$45)) -> 39.593909 | AC44: ='Parte A_Não Vítima'!$J21 -> 226 | AD44: =SUM(SUM(AC44*100)/SUM(AC$42:AC$45)) -> 35.093168
C45: Hospital de Santa Marta | E45: ='Parte A_Global_Percentagem'!$K22 -> 69 | F45: =SUM(SUM(E45*100)/SUM(E$42:E$45)) -> 8.2045184 | G45: ='Parte A_Mascul'!$J22 -> 15 | H45: =SUM(SUM(G45*100)/SUM(G$42:G$45)) -> 8.3798883 | I45: ='Parte A_Femin'!$J22 -> 54 | J45: =SUM(SUM(I45*100)/SUM(I$42:I$45)) -> 8.1570997 | K45: ='Parte A_Casado'!$J22 -> 44 | L45: =SUM(SUM(K45*100)/SUM(K$42:K$45)) -> 8.9249493 | M45: ='Parte A_Não Casado'!$J22 -> 25 | N45: =SUM(SUM(M45*100)/SUM(M$42:M$45)) -> 7.183908 | O45: ='Parte A_Idade Mais 39a'!$J22 -> 57 | P45: =SUM(SUM(O45*100)/SUM(O$42:O$45)) -> 6.8019093 | Q45: ='Parte A_Idade Menos 39a'!$J22 -> 79 | R45: =SUM(SUM(Q45*100)/SUM(Q$42:Q$45)) -> 9.3380615 | S45: ='Parte A_Anos Serviço Mais 12a'!$J22 -> 13 | T45: =SUM(SUM(S45*100)/SUM(S$42:S$45)) -> 4.5614035 | U45: ='Parte A_Anos Serviço Menos 12a'!$J22 -> 46 | V45: =SUM(SUM(U45*100)/SUM(U$42:U$45)) -> 10.199557 | W45: ='Parte A_Licenciado'!$J22 -> 41 | X45: =SUM(SUM(W45*100)/SUM(W$42:W$45)) -> 7.6350093 | Y45: ='Parte A_Não Licenciado'!$J22 -> 28 | Z45: =SUM(SUM(Y45*100)/SUM(Y$42:Y$45)) -> 9.2715232 | AA45: ='Parte A_Vítima'!$J22 -> 17 | AB45: =SUM(SUM(AA45*100)/SUM(AA$42:AA$45)) -> 8.6294416 | AC45: ='Parte A_Não Vítima'!$J22 -> 52 | AD45: =SUM(SUM(AC45*100)/SUM(AC$42:AC$45)) -> 8.0745342
B46: 8. Nº de horas de trabalho / semana (média)
C47: No CHLC | E47: ='Parte A_Global_Percentagem'!$K24 -> 37.905388 | G47: ='Parte A_Mascul'!$J24 -> 39.172619 | I47: ='Parte A_Femin'!$J24 -> 37.56746 | K47: ='Parte A_Casado'!$J24 -> 37.337983 | M47: ='Parte A_Não Casado'!$J24 -> 38.701807 | O47: ='Parte A_Idade Mais 39a'!$J24 -> 37.516332 | Q47: ='Parte A_Idade Menos 39a'!$J24 -> 38.145885 | S47: ='Parte A_Anos Serviço Mais 12a'!$J24 -> 36.328571 | U47: ='Parte A_Anos Serviço Menos 12a'!$J24 -> 38.95 | W47: ='Parte A_Licenciado'!$J24 -> 37.619186 | Y47: ='Parte A_Não Licenciado'!$J24 -> 38.35 | AA47: ='Parte A_Vítima'!$J24 -> 38.27957 | AC47: ='Parte A_Não Vítima'!$J24 -> 37.791667
C48: Fora do CHLC | E48: ='Parte A_Global_Percentagem'!$K25 -> 18.141593 | G48: ='Parte A_Mascul'!$J25 -> 21.769231 | I48: ='Parte A_Femin'!$J25 -> 16.22973 | K48: ='Parte A_Casado'!$J25 -> 17.9 | M48: ='Parte A_Não Casado'!$J25 -> 18.415094 | O48: ='Parte A_Idade Mais 39a'!$J25 -> 17.981481 | Q48: ='Parte A_Idade Menos 39a'!$J25 -> 17.110236 | S48: ='Parte A_Anos Serviço Mais 12a'!$J25 -> 18.151515 | U48: ='Parte A_Anos Serviço Menos 12a'!$J25 -> 17.527778 | W48: ='Parte A_Licenciado'!$J25 -> 17.191489 | Y48: ='Parte A_Não Licenciado'!$J25 -> 22.842105 | AA48: ='Parte A_Vítima'!$J25 -> 20 | AC48: ='Parte A_Não Vítima'!$J25 -> 17.640449
B49: 9. Há quanto tempo trabalha no Hospital referido (média)
C50: Meses | E50: ='Parte A_Global_Percentagem'!$K27 -> 0 | G50: ='Parte A_Mascul'!$J27 -> 0 | I50: ='Parte A_Femin'!$J27 -> 0 | K50: ='Parte A_Casado'!$J27 -> 0 | M50: ='Parte A_Não Casado'!$J27 -> 0 | O50: ='Parte A_Idade Mais 39a'!$J27 -> 0 | Q50: ='Parte A_Idade Menos 39a'!$J27 -> 0 | S50: ='Parte A_Anos Serviço Mais 12a'!$J27 -> 0 | U50: ='Parte A_Anos Serviço Menos 12a'!$J27 -> 0 | W50: ='Parte A_Licenciado'!$J27 -> 0 | Y50: ='Parte A_Não Licenciado'!$J27 -> 0 | AA50: ='Parte A_Vítima'!$J27 -> 0 | AC50: ='Parte A_Não Vítima'!$J27 -> 0
C51: Anos | E51: ='Parte A_Global_Percentagem'!$K28 -> 12.206612 | G51: ='Parte A_Mascul'!$J28 -> 11.361996 | I51: ='Parte A_Femin'!$J28 -> 12.43966 | K51: ='Parte A_Casado'!$J28 -> 13.806155 | M51: ='Parte A_Não Casado'!$J28 -> 10.048004 | O51: ='Parte A_Idade Mais 39a'!$J28 -> 15.103129 | Q51: ='Parte A_Idade Menos 39a'!$J28 -> 9.5368633 | S51: ='Parte A_Anos Serviço Mais 12a'!$J28 -> 21.395105 | U51: ='Parte A_Anos Serviço Menos 12a'!$J28 -> 6.1022727 | W51: ='Parte A_Licenciado'!$J28 -> 12.230442 | Y51: ='Parte A_Não Licenciado'!$J28 -> 11.957801 | AA51: ='Parte A_Vítima'!$J28 -> 12.291667 | AC51: ='Parte A_Não Vítima'!$J28 -> 12.076289

Sheet Parte A_Global_Resumo_B
A1: PARTE A
E3: Global | G3: Masculino | I3: Feminino | K3: Casado | M3: Não casado | O3: Mais 39 anos | Q3: Menos 39 anos | S3: Mais 12a Svç | U3: Menos 12a Svç | W3: Licenciado | Y3: Não Licenciado | AA3: Vítima | AC3: Não Vítima
E4: Nº | F4: % | G4: Nº | H4: % | I4: Nº | J4: % | K4: Nº | L4: % | M4: Nº | N4: % | O4: Nº | P4: % | Q4: Nº | R4: % | S4: Nº | T4: % | U4: Nº | V4: % | W4: Nº | X4: % | Y4: Nº | Z4: % | AA4: Nº | AB4: % | AC4: Nº | AD4: %
B5: 1. Género
C6: Masculino | E6: 174 | F6: 20.913462 | G6: 174 | H6: 100 | I6: 0 | J6: 0 | K6: 100 | L6: 20.576132 | M6: 74 | N6: 21.387283 | O6: 71 | P6: 18.537859 | Q6: 95 | R6: 22.041763 | S6: 57 | T6: 19.93007 | U6: 100 | V6: 22.727273 | W6: 117 | X6: 21.992481 | Y6: 100 | Z6: 22.727273 | AA6: 45 | AB6: 22.959184 | AC6: 129 | AD6: 20.283019
C7: Feminino | E7: 658 | F7: 79.086538 | G7: 0 | H7: 0 | I7: 658 | J7: 100 | K7: 386 | L7: 79.423868 | M7: 272 | N7: 78.612717 | O7: 312 | P7: 81.462141 | Q7: 336 | R7: 77.958237 | S7: 229 | T7: 80.06993 | U7: 340 | V7: 77.272727 | W7: 415 | X7: 78.007519 | Y7: 340 | Z7: 77.272727 | AA7: 151 | AB7: 77.040816 | AC7: 507 | AD7: 79.716981
B8: 2. Nacionalidade
C9: Portuguesa | E9: 800 | F9: 98.039216 | G9: 169 | H9: 98.255814 | I9: 631 | J9: 97.981366 | K9: 469 | L9: 97.505198 | M9: 331 | N9: 98.80597 | O9: 368 | P9: 96.842105 | Q9: 416 | R9: 97.652582 | S9: 281 | T9: 99.64539 | U9: 420 | V9: 96.997691 | W9: 518 | X9: 99.043977 | Y9: 420 | Z9: 96.997691 | AA9: 186 | AB9: 97.894737 | AC9: 614 | AD9: 98.083067
C10: Europeia | E10: 8 | F10: 0.98039216 | G10: 2 | H10: 1.1627907 | I10: 6 | J10: 0.93167702 | K10: 7 | L10: 1.4553015 | M10: 1 | N10: 0.29850746 | O10: 3 | P10: 0.78947368 | Q10: 5 | R10: 1.1737089 | S10: 1 | T10: 0.35460993 | U10: 7 | V10: 1.6166282 | W10: 4 | X10: 0.76481836 | Y10: 7 | Z10: 1.6166282 | AA10: 0 | AB10: 0 | AC10: 8 | AD10: 1.2779553
C11: Não Europeia | E11: 8 | F11: 0.98039216 | G11: 1 | H11: 0.58139535 | I11: 7 | J11: 1.0869565 | K11: 5 | L11: 1.039501 | M11: 3 | N11: 0.89552239 | O11: 9 | P11: 2.3684211 | Q11: 5 | R11: 1.1737089 | S11: 0 | T11: 0 | U11: 6 | V11: 1.3856813 | W11: 1 | X11: 0.19120459 | Y11: 6 | Z11: 1.3856813 | AA11: 4 | AB11: 2.1052632 | AC11: 4 | AD11: 0.63897764
B12: 3. Idade | E12: 38.926199 | G12: 38.775758 | I12: 38.964506 | K12: 40.605042 | M12: 36.554896 | O12: 47.603133 | Q12: 31.199536 | S12: 45.673759 | U12: 33.560185 | W12: 37.918251 | Y12: 33.560185 | AA12: 38.659686 | AC12: 38.99679
B13: 4. Estado Civil
C14: Solteiro | E14: 262 | F14: 31.680774 | G14: 60 | H14: 34.682081 | I14: 202 | J14: 30.88685 | K14: 0 | L14: 0 | M14: 262 | N14: 76.608187 | O14: 57 | P14: 14.96063 | Q14: 199 | R14: 46.27907 | S14: 52 | T14: 18.245614 | U14: 189 | V14: 43.348624 | W14: 189 | X14: 35.59322 | Y14: 189 | Z14: 43.348624 | AA14: 63 | AB14: 32.307692 | AC14: 199 | AD14: 31.437599
C15: Casado | E15: 485 | F15: 58.645707 | G15: 100 | H15: 57.803468 | I15: 385 | J15: 58.868502 | K15: 486 | L15: 100 | M15: 0 | N15: 0 | O15: 263 | P15: 69.028871 | Q15: 214 | R15: 49.767442 | S15: 194 | T15: 68.070175 | U15: 222 | V15: 50.917431 | W15: 302 | X15: 56.873823 | Y15: 222 | Z15: 50.917431 | AA15: 115 | AB15: 58.974359 | AC15: 371 | AD15: 58.609795
C16: Divorciado | E16: 71 | F16: 8.5852479 | G16: 12 | H16: 6.9364162 | I16: 59 | J16: 9.0214067 | K16: 0 | L16: 0 | M16: 71 | N16: 20.760234 | O16: 52 | P16: 13.648294 | Q16: 17 | R16: 3.9534884 | S16: 34 | T16: 11.929825 | U16: 23 | V16: 5.2752294 | W16: 35 | X16: 6.5913371 | Y16: 23 | Z16: 5.2752294 | AA16: 16 | AB16: 8.2051282 | AC16: 55 | AD16: 8.6887836
C17: Viúvo | E17: 9 | F17: 1.0882709 | G17: 1 | H17: 0.57803468 | I17: 8 | J17: 1.2232416 | K17: 0 | L17: 0 | M17: 9 | N17: 2.6315789 | O17: 9 | P17: 2.3622047 | Q17: 0 | R17: 0 | S17: 5 | T17: 1.754386 | U17: 2 | V17: 0.4587156 | W17: 5 | X17: 0.94161959 | Y17: 2 | Z17: 0.4587156 | AA17: 1 | AB17: 0.51282051 | AC17: 8 | AD17: 1.2638231
B18: 5. Habilitações Académicas
C19: < que o 12º ano | E19: 157 | F19: 19.169719 | G19: 31 | H19: 18.128655 | I19: 126 | J19: 19.444444 | K19: 90 | L19: 18.867925 | M19: 67 | N19: 19.590643 | O19: 105 | P19: 27.925532 | Q19: 45 | R19: 10.56338 | S19: 46 | T19: 16.487455 | U19: 71 | V19: 16.284404 | W19: 0 | X19: 0 | Y19: 71 | Z19: 16.284404 | AA19: 33 | AB19: 17.277487 | AC19: 124 | AD19: 19.745223
C20: 12º ano | E20: 130 | F20: 15.873016 | G20: 23 | H20: 13.450292 | I20: 107 | J20: 16.512346 | K20: 85 | L20: 17.819706 | M20: 45 | N20: 13.157895 | O20: 45 | P20: 11.968085 | Q20: 81 | R20: 19.014085 | S20: 26 | T20: 9.3189964 | U20: 82 | V20: 18.807339 | W20: 0 | X20: 0 | Y20: 82 | Z20: 18.807339 | AA20: 27 | AB20: 14.136126 | AC20: 103 | AD20: 16.401274
C21: Licenciatura | E21: 382 | F21: 46.642247 | G21: 82 | H21: 47.953216 | I21: 300 | J21: 46.296296 | K21: 219 | L21: 45.91195 | M21: 163 | N21: 47.660819 | O21: 172 | P21: 45.744681 | Q21: 209 | R21: 49.061033 | S21: 153 | T21: 54.83871 | U21: 197 | V21: 45.183486 | W21: 383 | X21: 71.722846 | Y21: 197 | Z21: 45.183486 | AA21: 86 | AB21: 45.026178 | AC21: 296 | AD21: 47.133758
C22: Pós-graduação | E22: 102 | F22: 12.454212 | G22: 25 | H22: 14.619883 | I22: 77 | J22: 11.882716 | K22: 58 | L22: 12.159329 | M22: 44 | N22: 12.865497 | O22: 35 | P22: 9.3085106 | Q22: 65 | R22: 15.258216 | S22: 36 | T22: 12.903226 | U22: 59 | V22: 13.53211 | W22: 103 | X22: 19.28839 | Y22: 59 | Z22: 13.53211 | AA22: 36 | AB22: 18.848168 | AC22: 66 | AD22: 10.509554
C23: Mestrado | E23: 45 | F23: 5.4945055 | G23: 9 | H23: 5.2631579 | I23: 36 | J23: 5.5555556 | K23: 22 | L23: 4.6121593 | M23: 23 | N23: 6.7251462 | O23: 18 | P23: 4.787234 | Q23: 24 | R23: 5.6338028 | S23: 17 | T23: 6.09319 | U23: 26 | V23: 5.9633028 | W23: 45 | X23: 8.4269663 | Y23: 26 | Z23: 5.9633028 | AA23: 9 | AB23: 4.7120419 | AC23: 36 | AD23: 5.7324841
C24: Doutoramento | E24: 3 | F24: 0.36630037 | G24: 1 | H24: 0.58479532 | I24: 2 | J24: 0.30864198 | K24: 3 | L24: 0.62893082 | M24: 0 | N24: 0 | O24: 1 | P24: 0.26595745 | Q24: 2 | R24: 0.46948357 | S24: 1 | T24: 0.35842294 | U24: 1 | V24: 0.2293578 | W24: 3 | X24: 0.56179775 | Y24: 1 | Z24: 0.2293578 | AA24: 0 | AB24: 0 | AC24: 3 | AD24: 0.47770701
C25: Outro | E25: 0 | F25: 0 | G25: 0 | H25: 0 | I25: 0 | J25: 0 | K25: 0 | L25: 0 | M25: 0 | N25: 0 | O25: 0 | P25: 0 | Q25: 0 | R25: 0 | S25: 0 | T25: 0 | U25: 0 | V25: 0 | W25: 0 | X25: 0 | Y25: 0 | Z25: 0 | AA25: 0 | AB25: 0 | AC25: 0 | AD25: 0
B26: 6. Profissão
C27: Administrativo | E27: 98 | F27: 11.722488 | G27: 29 | H27: 16.384181 | I27: 84 | J27: 12.708018 | K27: 58 | L27: 11.740891 | M27: 40 | N27: 11.494253 | O27: 49 | P27: 12.727273 | Q27: 55 | R27: 12.443439 | S27: 31 | T27: 10.839161 | U27: 58 | V27: 12.803532 | W27: 54 | X27: 9.8540146 | Y27: 18 | Z27: 6.185567 | AA27: 18 | AB27: 9.4736842 | AC27: 96 | AD27: 14.076246
C28: Assistente Op | E28: 159 | F28: 19.019139 | G28: 31 | H28: 17.514124 | I28: 136 | J28: 20.574887 | K28: 96 | L28: 19.433198 | M28: 63 | N28: 18.103448 | O28: 80 | P28: 20.779221 | Q28: 70 | R28: 15.837104 | S28: 33 | T28: 11.538462 | U28: 88 | V28: 19.426049 | W28: 84 | X28: 15.328467 | Y28: 83 | Z28: 28.522337 | AA28: 35 | AB28: 18.421053 | AC28: 124 | AD28: 18.181818
C29: Ed. Infância | E29: 2 | F29: 0.23923445 | G29: 0 | H29: 0 | I29: 2 | J29: 0.30257186 | K29: 1 | L29: 0.20242915 | M29: 1 | N29: 0.28735632 | O29: 2 | P29: 0.51948052 | Q29: 1 | R29: 0.22624434 | S29: 1 | T29: 0.34965035 | U29: 1 | V29: 0.22075055 | W29: 1 | X29: 0.18248175 | Y29: 0 | Z29: 0 | AA29: 0 | AB29: 0 | AC29: 2 | AD29: 0.29325513
C30: Empregado Bar | E30: 11 | F30: 1.3157895 | G30: 2 | H30: 1.1299435 | I30: 5 | J30: 0.75642965 | K30: 5 | L30: 1.0121457 | M30: 4 | N30: 1.1494253 | O30: 5 | P30: 1.2987013 | Q30: 5 | R30: 1.1312217 | S30: 3 | T30: 1.048951 | U30: 5 | V30: 1.1037528 | W30: 5 | X30: 0.91240876 | Y30: 1 | Z30: 0.34364261 | AA30: 1 | AB30: 0.52631579 | AC30: 8 | AD30: 1.1730205
C31: Empregado limpeza | E31: 12 | F31: 1.4354067 | G31: 2 | H31: 1.1299435 | I31: 14 | J31: 2.118003 | K31: 6 | L31: 1.2145749 | M31: 5 | N31: 1.4367816 | O31: 10 | P31: 2.5974026 | Q31: 6 | R31: 1.3574661 | S31: 4 | T31: 1.3986014 | U31: 7 | V31: 1.5452539 | W31: 6 | X31: 1.0948905 | Y31: 1 | Z31: 0.34364261 | AA31: 2 | AB31: 1.0526316 | AC31: 9 | AD31: 1.3196481
C32: Enfermeiro | E32: 335 | F32: 40.07177 | G32: 58 | H32: 32.768362 | I32: 277 | J32: 41.906203 | K32: 192 | L32: 38.866397 | M32: 143 | N32: 41.091954 | O32: 126 | P32: 32.727273 | Q32: 206 | R32: 46.606335 | S32: 142 | T32: 49.65035 | U32: 174 | V32: 38.410596 | W32: 329 | X32: 60.036496 | Y32: 152 | Z32: 52.233677 | AA32: 95 | AB32: 50 | AC32: 240 | AD32: 35.190616
C33: Farmacêutico | E33: 7 | F33: 0.83732057 | G33: 1 | H33: 0.56497175 | I33: 5 | J33: 0.75642965 | K33: 3 | L33: 0.60728745 | M33: 1 | N33: 0.28735632 | O33: 4 | P33: 1.038961 | Q33: 2 | R33: 0.45248869 | S33: 2 | T33: 0.6993007 | U33: 5 | V33: 1.1037528 | W33: 2 | X33: 0.3649635 | Y33: 0 | Z33: 0 | AA33: 0 | AB33: 0 | AC33: 7 | AD33: 1.026393
C34: Fisioterapeuta | E34: 16 | F34: 1.9138756 | G34: 8 | H34: 4.519774 | I34: 16 | J34: 2.4205749 | K34: 10 | L34: 2.0242915 | M34: 10 | N34: 2.8735632 | O34: 11 | P34: 2.8571429 | Q34: 6 | R34: 1.3574661 | S34: 8 | T34: 2.7972028 | U34: 8 | V34: 1.7660044 | W34: 7 | X34: 1.2773723 | Y34: 3 | Z34: 1.0309278 | AA34: 3 | AB34: 1.5789474 | AC34: 13 | AD34: 1.9061584
C35: Médico | E35: 84 | F35: 10.047847 | G35: 23 | H35: 12.99435 | I35: 53 | J35: 8.0181543 | K35: 48 | L35: 9.7165992 | M35: 36 | N35: 10.344828 | O35: 41 | P35: 10.649351 | Q35: 36 | R35: 8.1447964 | S35: 28 | T35: 9.7902098 | U35: 46 | V35: 10.154525 | W35: 29 | X35: 5.2919708 | Y35: 16 | Z35: 5.4982818 | AA35: 17 | AB35: 8.9473684 | AC35: 81 | AD35: 11.876833
C36: Nutricionista | E36: 1 | F36: 0.11961722 | G36: 0 | H36: 0 | I36: 1 | J36: 0.15128593 | K36: 0 | L36: 0 | M36: 0 | N36: 0 | O36: 0 | P36: 0 | Q36: 0 | R36: 0 | S36: 0 | T36: 0 | U36: 1 | V36: 0.22075055 | W36: 0 | X36: 0 | Y36: 0 | Z36: 0 | AA36: 5 | AB36: 2.6315789 | AC36: 1 | AD36: 0.14662757
C37: Outra | E37: 65 | F37: 7.7751196 | G37: 14 | H37: 7.9096045 | I37: 33 | J37: 4.9924357 | K37: 48 | L37: 9.7165992 | M37: 29 | N37: 8.3333333 | O37: 35 | P37: 9.0909091 | Q37: 34 | R37: 7.6923077 | S37: 18 | T37: 6.2937063 | U37: 39 | V37: 8.6092715 | W37: 15 | X37: 2.7372263 | Y37: 10 | Z37: 3.4364261 | AA37: 10 | AB37: 5.2631579 | AC37: 66 | AD37: 9.6774194
C38: Psicólogo | E38: 6 | F38: 0.71770335 | G38: 0 | H38: 0 | I38: 3 | J38: 0.45385779 | K38: 1 | L38: 0.20242915 | M38: 1 | N38: 0.28735632 | O38: 2 | P38: 0.51948052 | Q38: 1 | R38: 0.22624434 | S38: 1 | T38: 0.34965035 | U38: 3 | V38: 0.66225166 | W38: 1 | X38: 0.18248175 | Y38: 0 | Z38: 0 | AA38: 0 | AB38: 0 | AC38: 6 | AD38: 0.8797654
... C40: Terap Ocupacional | E40: 2 | F40: 0.23923445 | G40: 0 | H40: 0 | I40: 2 | J40: 0.30257186 | K40: 1 | L40: 0.20242915 | M40: 1 | N40: 0.28735632 | O40: 2 | P40: 0.51948052 | Q40: 0 | R40: 0 | S40: 1 | T40: 0.34965035 | U40: 1 | V40: 0.22075055 | W40: 0 | X40: 0 | Y40: 0 | Z40: 0 | AA40: 0 | AB40: 0 | AC40: 1 | AD40: 0.14662757
B41: 7. Identifique o Hospital onde trabalha
C42: Hospital Dona Estefânia | E42: 278 | F42: 33.055886 | G42: 47 | H42: 26.256983 | I42: 231 | J42: 34.89426 | K42: 154 | L42: 31.237323 | M42: 124 | N42: 35.632184 | O42: 364 | P42: 43.436754 | Q42: 396 | R42: 46.808511 | S42: 79 | T42: 27.719298 | U42: 158 | V42: 35.033259 | W42: 183 | X42: 34.078212 | Y42: 95 | Z42: 31.456954 | AA42: 72 | AB42: 36.548223 | AC42: 206 | AD42: 31.987578
C43: Hospital Sto António Capuchos | E43: 190 | F43: 22.592152 | G43: 51 | H43: 28.49162 | I43: 139 | J43: 20.996979 | K43: 122 | L43: 24.74645 | M43: 68 | N43: 19.54023 | O43: 178 | P43: 21.24105 | Q43: 160 | R43: 18.91253 | S43: 80 | T43: 28.070175 | U43: 82 | V43: 18.181818 | W43: 119 | X43: 22.160149 | Y43: 70 | Z43: 23.178808 | AA43: 30 | AB43: 15.228426 | AC43: 160 | AD43: 24.84472
C44: Hospital de S. José | E44: 304 | F44: 36.147444 | G44: 66 | H44: 36.871508 | I44: 238 | J44: 35.951662 | K44: 173 | L44: 35.091278 | M44: 131 | N44: 37.643678 | O44: 239 | P44: 28.520286 | Q44: 211 | R44: 24.940898 | S44: 113 | T44: 39.649123 | U44: 165 | V44: 36.585366 | W44: 194 | X44: 36.126629 | Y44: 109 | Z44: 36.092715 | AA44: 78 | AB44: 39.593909 | AC44: 226 | AD44: 35.093168
C45: Hospital de Santa Marta | E45: 69 | F45: 8.2045184 | G45: 15 | H45: 8.3798883 | I45: 54 | J45: 8.1570997 | K45: 44 | L45: 8.9249493 | M45: 25 | N45: 7.183908 | O45: 57 | P45: 6.8019093 | Q45: 79 | R45: 9.3380615 | S45: 13 | T45: 4.5614035 | U45: 46 | V45: 10.199557 | W45: 41 | X45: 7.6350093 | Y45: 28 | Z45: 9.2715232 | AA45: 17 | AB45: 8.6294416 | AC45: 52 | AD45: 8.0745342
B46: 8. Nº de horas de trabalho / semana (média)
C47: No CHLC | E47: 37.905388 | G47: 39.172619 | I47: 37.56746 | K47: 37.337983 | M47: 38.701807 | O47: 37.516332 | Q47: 38.145885 | S47: 36.328571 | U47: 38.95 | W47: 37.619186 | Y47: 38.35 | AA47: 38.27957 | AC47: 37.791667
C48: Fora do CHLC | E48: 18.141593 | G48: 21.769231 | I48: 16.22973 | K48: 17.9 | M48: 18.415094 | O48: 17.981481 | Q48: 17.110236 | S48: 18.151515 | U48: 17.527778 | W48: 17.191489 | Y48: 22.842105 | AA48: 20 | AC48: 17.640449
B49: 9. Há quanto tempo trabalha no Hospital referido (média)
C50: Meses | E50: 0 | G50: 0 | I50: 0 | K50: 0 | M50: 0 | O50: 0 | Q50: 0 | S50: 0 | U50: 0 | W50: 0 | Y50: 0 | AA50: 0 | AC50: 0
C51: Anos | E51: 12.206612 | G51: 11.361996 | I51: 12.43966 | K51: 13.806155 | M51: 10.048004 | O51: 15.103129 | Q51: 9.5368633 | S51: 21.395105 | U51: 6.1022727 | W51: 12.230442 | Y51: 11.957801 | AA51: 12.291667 | AC51: 12.076289

Sheet Parte A_Global_Percentagem
A1: PARTE A
B3: 1. Género | F3: % | H3: 6. Profissão
C4: Masculino | E4: 174 | F4: 0.20913462 | I4: Enfermeiro | K4: 335 | L4: 0.40953545
C5: Feminino | E5: 658 | F5: 0.79086538 | I5: Assistente Op | K5: 159 | L5: 0.19437653
B6: 2. Nacionalidade | I6: Administrativo | K6: 98 | L6: 0.1198044
C7: Portuguesa | E7: 800 | F7: 0.98039216 | I7: Médico | K7: 84 | L7: 0.10268949
C8: Europeia | E8: 8 | F8: 0.0098039216 | I8: Outra | K8: 65 | L8: 0.073349633
C9: Não Europeia | E9: 8 | F9: 0.0098039216 | I9: Técnico Diagnóstico Terapêutica | K9: 38 | L9: 0.047677262
B10: 3. Idade | E10: 38.926199 | I10: Fisioterapeuta | K10: 16 | L10: 0.019559902
B11: 4. Estado Civil | I11: Empregado limpeza | K11: 12 | L11: 0.019559902
C12: Solteiro | E12: 262 | F12: 0.31680774 | I12: Empregado Bar | K12: 11 | L12: 0.013447433
C13: Casado | E13: 485 | F13: 0.58645707 | I13: Farmacêutico | K13: 7
C14: Divorciado | E14: 71 | F14: 0.085852479 | I14: Psicólogo | K14: 6
C15: Viúvo | E15: 9 | F15: 0.010882709 | I15: Ed. Infância | K15: 2
B16: 5. Habilitações Académicas | I16: Terap Ocupacional | K16: 2
C17: < que o 12º ano | E17: 157 | F17: 0.19169719 | I17: Nutricionista | K17: 1
C18: 12º ano | E18: 130 | F18: 0.15873016 | H18: 7. Identifique o Hospital onde trabalha
C19: Licenciatura | E19: 382 | F19: 0.46642247 | I19: Hospital Dona Estefânia | K19: 278 | L19: 0.33055886
C20: Pós-graduação | E20: 102 | F20: 0.12454212 | I20: Hospital Sto António Capuchos | K20: 190 | L20: 0.22592152
C21: Mestrado | E21: 45 | F21: 0.054945055 | I21: Hospital de S. José | K21: 304 | L21: 0.36147444
C22: Doutoramento | E22: 3 | F22: 0.0036630037 | I22: Hospital de Santa Marta | K22: 69 | L22: 0.082045184
C23: Outro | E23: 0 | F23: 0 | H23: 8. Numero de horas de trabalho / semana (média)
I24: No CHLC | K24: 37.905388
I25: Fora do CHLC | K25: 18.141593
H26: 9. Há quanto tempo trabalha no Hospital referido (média)
I27: Meses
I28: Anos | K28: 12.206612

Sheet Gráf_Global_Parte A

Sheet Parte A_Mascul
A1: PARTE A
B3: 1. Género | G3: 6. Profissão
C4: Masculino | E4: 174 | H4: Enfermeiro | J4: 58
C5: Feminino | E5: 0 | H5: Médico | J5: 31
B6: 2. Nacionalidade | H6: Outra | J6: 29
C7: Portuguesa | E7: 169 | H7: Assistente Op | J7: 23
C8: Europeia | E8: 2 | H8: Administrativo | J8: 14
C9: Não Europeia | E9: 1 | H9: Técnico Diagnóstico Terapêutica | J9: 9
B10: 3. Idade | E10: 38.775758 | H10: Empregado Bar | J10: 8
B11: 4. Estado Civil | H11: Farmacêutico | J11: 2
C12: Solteiro | E12: 60 | H12: Fisioterapeuta | J12: 2
C13: Casado | E13: 100 | H13: Psicólogo | J13: 1
C14: Divorciado | E14: 12 | H14: Ed. Infância | J14: 0
C15: Viúvo | E15: 1 | H15: Empregado limpeza | J15: 0
B16: 5. Habilitações Académicas | H16: Nutricionista | J16: 0
C17: < que o 12º ano | E17: 31 | H17: Terap Ocupacional | J17: 0
C18: 12º ano | E18: 23 | G18: 7. Identifique o Hospital onde trabalha
C19: Licenciatura | E19: 82 | H19: Hospital Dona Estefânia | J19: 47
C20: Pós-graduação | E20: 25 | H20: Hospital Sto António Capuchos | J20: 51
C21: Mestrado | E21: 9 | H21: Hospital de S. José | J21: 66
C22: Doutoramento | E22: 1 | H22: Hospital de Santa Marta | J22: 15
C23: Outro | E23: 0 | G23: 8. Numero de horas de trabalho / semana
H24: No CHLC | J24: 39.172619
H25: Fora do CHLC | J25: 21.769231
G26: 9. Há quanto tempo trabalha no Hospital referido
H27: Meses
H28: Anos | J28: 11.361996

Sheet Gráfico_Parte A_Mascul

Sheet Parte A_Femin
A1: PARTE A
B3: 1. Género | G3: 6. Profissão
C4: Masculino | E4: 0 | H4: Enfermeiro | J4: 277
C5: Feminino | E5: 658 | H5: Assistente Op | J5: 136
B6: 2. Nacionalidade | H6: Administrativo | J6: 84
C7: Portuguesa | E7: 631 | H7: Médico | J7: 53
C8: Europeia | E8: 6 | H8: Outra | J8: 33
C9: Não Europeia | E9: 7 | H9: Técnico Diagnóstico Terapêutica | J9: 30
B10: 3. Idade | E10: 38.964506 | H10: Empregado limpeza | J10: 16
B11: 4. Estado Civil | H11: Fisioterapeuta | J11: 14
C12: Solteiro | E12: 202 | H12: Farmacêutico | J12: 5
C13: Casado | E13: 385 | H13: Psicólogo | J13: 5
C14: Divorciado | E14: 59 | H14: Empregado Bar | J14: 3
C15: Viúvo | E15: 8 | H15: Ed. Infância | J15: 2
B16: 5. Habilitações Académicas | H16: Terap Ocupacional | J16: 2
C17: < que o 12º ano | E17: 126 | H17: Nutricionista | J17: 1
C18: 12º ano | E18: 107 | G18: 7. Identifique o Hospital onde trabalha
C19: Licenciatura | E19: 300 | H19: Hospital Dona Estefânia | J19: 231
C20: Pós-graduação | E20: 77 | H20: Hospital Sto António Capuchos | J20: 139
C21: Mestrado | E21: 36 | H21: Hospital de S. José | J21: 238
C22: Doutoramento | E22: 2 | H22: Hospital de Santa Marta | J22: 54
C23: Outro | E23: 0 | G23: 8. Numero de horas de trabalho / semana
H24: No CHLC | J24: 37.56746
H25: Fora do CHLC | J25: 16.22973
G26: 9. Há quanto tempo trabalha no Hospital referido
H27: Meses
H28: Anos | J28: 12.43966

Sheet Gráficos_Parte A_Femin

Sheet Parte A_Casado
A1: PARTE A
B3: 1. Género | G3: 6. Profissão
C4: Masculino | E4: 100 | H4: Enfermeiro | J4: 192
C5: Feminino | E5: 386 | H5: Assistente Op | J5: 96
B6: 2. Nacionalidade | H6: Administrativo | J6: 58
C7: Portuguesa | E7: 469 | H7: Médico | J7: 48
C8: Europeia | E8: 7 | H8: Outra | J8: 48
C9: Não Europeia | E9: 5 | H9: Técnico Diagnóstico Terapêutica | J9: 25
B10: 3. Idade | E10: 40.605042 | H10: Empregado limpeza | J10: 10
B11: 4. Estado Civil | H11: Fisioterapeuta | J11: 6
C12: Solteiro | E12: 0 | H12: Psicólogo | J12: 5
C13: Casado | E13: 486 | H13: Farmacêutico | J13: 3
C14: Divorciado | E14: 0 | H14: Ed. Infância | J14: 1
C15: Viúvo | E15: 0 | H15: Empregado Bar | J15: 1
B16: 5. Habilitações Académicas | H16: Terap Ocupacional | J16: 1
C17: < que o 12º ano | E17: 90 | H17: Nutricionista | J17: 0
C18: 12º ano | E18: 85 | G18: 7. Identifique o Hospital onde trabalha
C19: Licenciatura | E19: 219 | H19: Hospital Dona Estefânia | J19: 154
C20: Pós-graduação | E20: 58 | H20: Hospital Sto António Capuchos | J20: 122
C21: Mestrado | E21: 22 | H21: Hospital de S. José | J21: 173
C22: Doutoramento | E22: 3 | H22: Hospital de Santa Marta | J22: 44
C23: Outro | E23: 0 | G23: 8. Numero de horas de trabalho / semana
H24: No CHLC | J24: 37.337983
H25: Fora do CHLC | J25: 17.9
G26: 9. Há quanto tempo trabalha no Hospital referido
H27: Meses
H28: Anos | J28: 13.806155

Sheet Gráf_Parte A_Casado

Sheet Parte A_Não Casado
A1: PARTE A
B3: 1. Género | G3: 6. Profissão
C4: Masculino | E4: 74 | H4: Enfermeiro | J4: 143
C5: Feminino | E5: 272 | H5: Assistente Op | J5: 63
B6: 2. Nacionalidade | H6: Administrativo | J6: 40
C7: Portuguesa | E7: 331 | H7: Médico | J7: 36
C8: Europeia | E8: 1 | H8: Outra | J8: 29
C9: Não Europeia | E9: 3 | H9: Técnico Diagnóstico Terapêutica | J9: 14
B10: 3. Idade | E10: 36.554896 | H10: Fisioterapeuta | J10: 10
B11: 4. Estado Civil | H11: Empregado limpeza | J11: 5
C12: Solteiro | E12: 262 | H12: Farmacêutico | J12: 4
C13: Casado | E13: 0 | H13: Ed. Infância | J13: 1
C14: Divorciado | E14: 71 | H14: Nutricionista | J14: 1
C15: Viúvo | E15: 9 | H15: Psicólogo | J15: 1
B16: 5. Habilitações Académicas | H16: Terap Ocupacional | J16: 1
C17: < que o 12º ano | E17: 67 | H17: Empregado Bar | J17: 0
C18: 12º ano | E18: 45 | G18: 7. Identifique o Hospital onde trabalha
C19: Licenciatura | E19: 163 | H19: Hospital Dona Estefânia | J19: 124
C20: Pós-graduação | E20: 44 | H20: Hospital Sto António Capuchos | J20: 68
C21: Mestrado | E21: 23 | H21: Hospital de S. José | J21: 131
C22: Doutoramento | E22: 0 | H22: Hospital de Santa Marta | J22: 25
C23: Outro | E23: 0 | G23: 8. Numero de horas de trabalho / semana
H24: No CHLC | J24: 38.701807
H25: Fora do CHLC | J25: 18.415094
G26: 9. Há quanto tempo trabalha no Hospital referido
H27: Meses
H28: Anos | J28: 10.048004

Sheet Gráf_Parte A_Não Casado

Sheet Parte A_Idade Mais 39a
A1: PARTE A
B3: 1. Género | G3: 6. Profissão
C4: Masculino | E4: 71 | H4: Enfermeiro | J4: 126
C5: Feminino | E5: 312 | H5: Assistente Op | J5: 80
B6: 2. Nacionalidade | H6: Médico | J6: 49
C7: Portuguesa | E7: 368 | H7: Administrativo | J7: 41
C8: Europeia | E8: 3 | H8: Outra | J8: 35
C9: Não Europeia | E9: 9 | H9: Técnico Diagnóstico Terapêutica | J9: 18
B10: 3. Idade | E10: 47.603133 | H10: Empregado limpeza | J10: 11
B11: 4. Estado Civil | H11: Fisioterapeuta | J11: 10
C12: Solteiro | E12: 57 | H12: Empregado Bar | J12: 5
C13: Casado | E13: 263 | H13: Psicólogo | J13: 4
C14: Divorciado | E14: 52 | H14: Ed. Infância | J14: 2
C15: Viúvo | E15: 9 | H15: Farmacêutico | J15: 2
B16: 5. Habilitações Académicas | H16: Terap Ocupacional | J16: 2
C17: < que o 12º ano | E17: 105 | H17: Nutricionista | J17: 0
C18: 12º ano | E18: 45 | G18: 7. Identifique o Hospital onde trabalha
C19: Licenciatura | E19: 172 | H19: Hospital Dona Estefânia | J19: 364
C20: Pós-graduação | E20: 35 | H20: Hospital Sto António Capuchos | J20: 178
C21: Mestrado | E21: 18 | H21: Hospital de S. José | J21: 239
C22: Doutoramento | E22: 1 | H22: Hospital de Santa Marta | J22: 57
C23: Outro | E23: 0 | G23: 8. Numero de horas de trabalho / semana
H24: No CHLC | J24: 37.516332
H25: Fora do CHLC | J25: 17.981481
G26: 9. Há quanto tempo trabalha no Hospital referido
H27: Meses
H28: Anos | J28: 15.103129

Sheet Gráficos_Parte A_Mais 39a

Sheet Parte A_Idade Menos 39a
A1: PARTE A
B3: 1. Género | G3: 6. Profissão
C4: Masculino | E4: 95 | H4: Enfermeiro | J4: 206
C5: Feminino | E5: 336 | H5: Assistente Op | J5: 70
B6: 2. Nacionalidade | H6: Administrativo | J6: 55
C7: Portuguesa | E7: 416 | H7: Outra | J7: 36
C8: Europeia | E8: 5 | H8: Médico | J8: 34
C9: Não Europeia | E9: 5 | H9: Técnico Diagnóstico Terapêutica | J9: 20
B10: 3. Idade | E10: 31.199536 | H10: Empregado Bar | J10: 6
B11: 4. Estado Civil | H11: Fisioterapeuta | J11: 6
C12: Solteiro | E12: 199 | H12: Farmacêutico | J12: 5
C13: Casado | E13: 214 | H13: Psicólogo | J13: 2
C14: Divorciado | E14: 17 | H14: Empregado limpeza | J14: 1
C15: Viúvo | E15: 0 | H15: Nutricionista | J15: 1
B16: 5. Habilitações Académicas | H16: Ed. Infância | J16: 0
C17: < que o 12º ano | E17: 45 | H17: Terap Ocupacional | J17: 0
C18: 12º ano | E18: 81 | G18: 7. Identifique o Hospital onde trabalha
C19: Licenciatura | E19: 209 | H19: Hospital Dona Estefânia | J19: 396
C20: Pós-graduação | E20: 65 | H20: Hospital Sto António Capuchos | J20: 160
C21: Mestrado | E21: 24 | H21: Hospital de S. José | J21: 211
C22: Doutoramento | E22: 2 | H22: Hospital de Santa Marta | J22: 79
C23: Outro | E23: 0 | G23: 8. Numero de horas de trabalho / semana
H24: No CHLC | J24: 38.145885
H25: Fora do CHLC | J25: 17.110236
G26: 9. Há quanto tempo trabalha no Hospital referido
H27: Meses
H28: Anos | J28: 9.5368633

Sheet Gráficos_Parte A_Menos 39a

Sheet Parte A_Anos Serviço Mais 12a
A1: PARTE A
B3: 1. Género | G3: 6. Profissão
C4: Masculino | E4: 57 | H4: Enfermeiro | J4: 142
C5: Feminino | E5: 229 | H5: Médico | J5: 33
B6: 2. Nacionalidade | H6: Assistente Op | J6: 31
C7: Portuguesa | E7: 281 | H7: Administrativo | J7: 28
C8: Europeia | E8: 1 | H8: Técnico Diagnóstico Terapêutica | J8: 18
C9: Não Europeia | E9: 0 | H9: Outra | J9: 14
B10: 3. Idade | E10: 45.673759 | H10: Fisioterapeuta | J10: 8
B11: 4. Estado Civil | H11: Empregado limpeza | J11: 4
C12: Solteiro | E12: 52 | H12: Empregado Bar | J12: 3
C13: Casado | E13: 194 | H13: Psicólogo | J13: 2
C14: Divorciado | E14: 34 | H14: Ed. Infância | J14: 1
C15: Viúvo | E15: 5 | H15: Farmacêutico | J15: 1
B16: 5. Habilitações Académicas | H16: Terap Ocupacional | J16: 1
C17: < que o 12º ano | E17: 46 | H17: Nutricionista | J17: 0
C18: 12º ano | E18: 26 | G18: 7. Identifique o Hospital onde trabalha
C19: Licenciatura | E19: 153 | H19: Hospital Dona Estefânia | J19: 79
C20: Pós-graduação | E20: 36 | H20: Hospital Sto António Capuchos | J20: 80
C21: Mestrado | E21: 17 | H21: Hospital de S. José | J21: 113
C22: Doutoramento | E22: 1 | H22: Hospital de Santa Marta | J22: 13
C23: Outro | E23: 0 | G23: 8. Numero de horas de trabalho / semana
H24: No CHLC | J24: 36.328571
H25: Fora do CHLC | J25: 18.151515
G26: 9. Há quanto tempo trabalha no Hospital referido
H27: 9.1. Meses
H28: 9.2. Anos | J28: 21.395105

Sheet Gráf_Parte A_Mais 12a Serviço

Sheet Parte A_Anos Serviço Menos 12a
A1: PARTE A
B3: 1. Género | G3: 6. Profissão
C4: Masculino | E4: 100 | H4: Enfermeiro | J4: 174
C5: Feminino | E5: 340 | H5: Assistente Op | J5: 88
B6: 2. Nacionalidade | H6: Administrativo | J6: 58
C7: Portuguesa | E7: 420 | H7: Outra | J7: 46
C8: Europeia | E8: 7 | H8: Médico | J8: 39
C9: Não Europeia | E9: 6 | H9: Técnico Diagnóstico Terapêutica | J9: 17
B10: 3. Idade | E10: 33.560185 | H10: Empregado Bar | J10: 8
B11: 4. Estado Civil | H11: Fisioterapeuta | J11: 7
C12: Solteiro | E12: 189 | H12: Empregado limpeza | J12: 5
C13: Casado | E13: 222 | H13: Farmacêutico | J13: 5
C14: Divorciado | E14: 23 | H14: Psicólogo | J14: 3
C15: Viúvo | E15: 2 | H15: Ed. Infância | J15: 1
B16: 5. Habilitações Académicas | H16: Nutricionista | J16: 1
C17: < que o 12º ano | E17: 71 | H17: Terap Ocupacional | J17: 1
C18: 12º ano | E18: 82 | G18: 7. Identifique o Hospital onde trabalha
C19: Licenciatura | E19: 197 | H19: Hospital Dona Estefânia | J19: 158
C20: Pós-graduação | E20: 59 | H20: Hospital Sto António Capuchos | J20: 82
C21: Mestrado | E21: 26 | H21: Hospital de S. José | J21: 165
C22: Doutoramento | E22: 1 | H22: Hospital de Santa Marta | J22: 46
C23: Outro | E23: 0 | G23: 8. Numero de horas de trabalho / semana
H24: No CHLC | J24: 38.95
H25: Fora do CHLC | J25: 17.527778
G26: 9. Há quanto tempo trabalha no Hospital referido
H27: Meses
H28: Anos | J28: 6.1022727

Sheet Gráf_Parte A_Menos 12a Serviço

Sheet Parte A_Licenciado
A1: PARTE A
B3: 1. Género | G3: 6. Profissão
C4: Masculino | E4: ='[1]Parte AA_Licenciado'!B$2 -> 117 | H4: Enfermeiro | J4: 329
C5: Feminino | E5: ='[1]Parte AA_Licenciado'!C$2 -> 415 | H5: Médico | J5: 84
B6: 2. Nacionalidade | H6: Outra | J6: 54
C7: Portuguesa | E7: ='[1]Parte AA_Licenciado'!D$2 -> 518 | H7: Técnico Diagnóstico Terapêutica | J7: 29
C8: Europeia | E8: ='[1]Parte AA_Licenciado'!E$2 -> 4 | H8: Administrativo | J8: 15
C9: Não Europeia | E9: ='[1]Parte AA_Licenciado'!F$2 -> 1 | H9: Fisioterapeuta | J9: 15
B10: 3. Idade | E10: ='[1]Parte AA_Licenciado'!G$2 -> 37.918251 | H10: Farmacêutico | J10: 7
B11: 4. Estado Civil | H11: Psicólogo | J11: 6
C12: Solteiro | E12: ='[1]Parte AA_Licenciado'!H$2 -> 189 | H12: Assistente Op | J12: 5
C13: Casado | E13: ='[1]Parte AA_Licenciado'!I$2 -> 302 | H13: Ed. Infância | J13: 2
C14: Divorciado | E14: ='[1]Parte AA_Licenciado'!J$2 -> 35 | H14: Nutricionista | J14: 1
C15: Viúvo | E15: ='[1]Parte AA_Licenciado'!K$2 -> 5 | H15: Terap Ocupacional | J15: 1
B16: 5. Habilitações Académicas | H16: Empregado Bar | J16: 0
C17: < que o 12º ano | E17: ='[1]Parte AA_Licenciado'!L$2 -> 0 | H17: Empregado limpeza | J17: 0
C18: 12º ano | E18: ='[1]Parte AA_Licenciado'!M$2 -> 0 | G18: 7. Identifique o Hospital onde trabalha
C19: Licenciatura | E19: ='[1]Parte AA_Licenciado'!N$2 -> 383 | H19: Hospital Dona Estefânia | J19: ='[1]Parte AA_Licenciado'!AD$2 -> 183
C20: Pós-graduação | E20: ='[1]Parte AA_Licenciado'!O$2 -> 103 | H20: Hospital Sto António Capuchos | J20: ='[1]Parte AA_Licenciado'!AE$2 -> 119
C21: Mestrado | E21: ='[1]Parte AA_Licenciado'!P$2 -> 45 | H21: Hospital de S. José | J21: ='[1]Parte AA_Licenciado'!AF$2 -> 194
C22: Doutoramento | E22: ='[1]Parte AA_Licenciado'!Q$2 -> 3 | H22: Hospital de Santa Marta | J22: ='[1]Parte AA_Licenciado'!AG$2 -> 41
C23: Outro | E23: ='[1]Parte AA_Licenciado'!R$2 -> 0 | G23: 8. Numero de horas de trabalho / semana
H24: No CHLC | J24: ='[1]Parte AA_Licenciado'!AH$2 -> 37.619186
H25: Fora do CHLC | J25: ='[1]Parte AA_Licenciado'!AI$2 -> 17.191489
G26: 9. Há quanto tempo trabalha no Hospital referido
H27: Meses
H28: Anos | J28: ='[1]Parte AA_Licenciado'!AK$2 -> 12.230442

Sheet Gráf_Parte A_Licenciado

Sheet Parte A_Não Licenciado
A1: PARTE A
B3: 1. Género | G3: 6. Profissão
C4: Masculino | E4: 100 | H4: Assistente Op | J4: 152
C5: Feminino | E5: 340 | H5: Administrativo | J5: 83
B6: 2. Nacionalidade | H6: Outra | J6: 18
C7: Portuguesa | E7: 420 | H7: Empregado limpeza | J7: 16
C8: Europeia | E8: 7 | H8: Empregado Bar | J8: 10
C9: Não Europeia | E9: 6 | H9: Enfermeiro | J9: 7
B10: 3. Idade | E10: 33.560185 | H10: Técnico Diagnóstico Terapêutica | J10: 3
B11: 4. Estado Civil | H11: Fisioterapeuta | J11: 1
C12: Solteiro | E12: 189 | H12: Terap Ocupacional | J12: 1
C13: Casado | E13: 222 | H13: Ed. Infância | J13: 0
C14: Divorciado | E14: 23 | H14: Farmacêutico | J14: 0
C15: Viúvo | E15: 2 | H15: Médico | J15: 0
B16: 5. Habilitações Académicas | H16: Nutricionista | J16: 0
C17: < que o 12º ano | E17: 71 | H17: Psicólogo | J17: 0
C18: 12º ano | E18: 82 | G18: 7. Identifique o Hospital onde trabalha
C19: Licenciatura | E19: 197 | H19: Hospital Dona Estefânia | J19: ='[1]Parte AA_Não Licenciado'!AD$2 -> 95
C20: Pós-graduação | E20: 59 | H20: Hospital Sto António Capuchos | J20: ='[1]Parte AA_Não Licenciado'!AE$2 -> 70
C21: Mestrado | E21: 26 | H21: Hospital de S. José | J21: ='[1]Parte AA_Não Licenciado'!AF$2 -> 109
C22: Doutoramento | E22: 1 | H22: Hospital de Santa Marta | J22: ='[1]Parte AA_Não Licenciado'!AG$2 -> 28
C23: Outro | E23: 0 | G23: 8. Numero de horas de trabalho / semana
H24: No CHLC | J24: ='[1]Parte AA_Não Licenciado'!AH$2 -> 38.35
H25: Fora do CHLC | J25: ='[1]Parte AA_Não Licenciado'!AI$2 -> 22.842105
G26: 9. Há quanto tempo trabalha no Hospital referido
H27: Meses
H28: Anos | J28: ='[1]Parte AA_Não Licenciado'!AK$2 -> 11.957801

Sheet Gráf_Parte A_Não Licenciado

Sheet Parte A_Vítima
A1: PARTE A
B3: 1. Género | G3: 6. Profissão
C4: Masculino | E4: 45 | H4: Enfermeiro | J4: 95
C5: Feminino | E5: 151 | H5: Assistente Op | J5: 35
B6: 2. Nacionalidade | H6: Médico | J6: 18
C7: Portuguesa | E7: 186 | H7: Administrativo | J7: 17
C8: Europeia | E8: 0 | H8: Técnico Diagnóstico Terapêutica | J8: 10
C9: Não Europeia | E9: 4 | H9: Empregado limpeza | J9: 4
B10: 3. Idade | E10: 38.659686 | H10: Fisioterapeuta | J10: 3
B11: 4. Estado Civil | H11: Empregado Bar | J11: 2
C12: Solteiro | E12: 63 | H12: Terap Ocupacional | J12: 1
C13: Casado | E13: 115 | H13: Psicólogo | J13: 0
C14: Divorciado | E14: 16 | H14: Farmacêutico | J14: 0
C15: Viúvo | E15: 1 | H15: Nutricionista | J15: 0
B16: 5. Habilitações Académicas | H16: Ed. Infância | J16: 0
C17: < que o 12º ano | E17: 33 | H17: Outra | J17: 5
C18: 12º ano | E18: 27 | G18: 7. Identifique o Hospital onde trabalha
C19: Licenciatura | E19: 86 | H19: Hospital Dona Estefânia | J19: 72
C20: Pós-graduação | E20: 36 | H20: Hospital Sto António Capuchos | J20: 30
C21: Mestrado | E21: 9 | H21: Hospital de S. José | J21: 78
C22: Doutoramento | E22: 0 | H22: Hospital de Santa Marta | J22: 17
C23: Outro | E23: 0 | G23: 8. Numero de horas de trabalho / semana
H24: 8.1. No CHLC | J24: 38.27957
H25: 8.2. Fora do CHLC | J25: 20
G26: 9. Há quanto tempo trabalha no Hospital referido
H27: 9.1. Meses
H28: 9.2. Anos | J28: 12.291667

Sheet Gráf_Parte A_Vítima

Sheet Parte A_Não Vítima
A1: PARTE A
B3: 1. Género | G3: 6. Profissão
C4: Masculino | E4: 129 | H4: Enfermeiro | J4: 240
C5: Feminino | E5: 507 | H5: Assistente Op | J5: 124
B6: 2. Nacionalidade | H6: Outra | J6: 96
C7: Portuguesa | E7: 614 | H7: Administrativo | J7: 81
C8: Europeia | E8: 8 | H8: Médico | J8: 66
C9: Não Europeia | E9: 4 | H9: Técnico Diagnóstico Terapêutica | J9: 28
B10: 3. Idade | E10: 38.99679 | H10: Fisioterapeuta | J10: 13
B11: 4. Estado Civil | H11: Empregado Bar | J11: 9
C12: Solteiro | E12: 199 | H12: Empregado limpeza | J12: 8
C13: Casado | E13: 371 | H13: Farmacêutico | J13: 7
C14: Divorciado | E14: 55 | H14: Psicólogo | J14: 6
C15: Viúvo | E15: 8 | H15: Ed. Infância | J15: 2
B16: 5. Habilitações Académicas | H16: Terap Ocupacional | J16: 1
C17: < que o 12º ano | E17: 124 | H17: Nutricionista | J17: 1
C18: 12º ano | E18: 103 | G18: 7. Identifique o Hospital onde trabalha
C19: Licenciatura | E19: 296 | H19: Hospital Dona Estefânia | J19: 206
C20: Pós-graduação | E20: 66 | H20: Hospital Sto António Capuchos | J20: 160
C21: Mestrado | E21: 36 | H21: Hospital de S. José | J21: 226
C22: Doutoramento | E22: 3 | H22: Hospital de Santa Marta | J22: 52
C23: Outro | E23: 0 | G23: 8. Numero de horas de trabalho / semana
H24: 8.1. No CHLC | J24: 37.791667
H25: 8.2. Fora do CHLC | J25: 17.640449
G26: 9. Há quanto tempo trabalha no Hospital referido
H27: 9.1. Meses
H28: 9.2. Anos | J28: 12.076289

Sheet Gráf_Parte A_Não Vítima
